From mboxrd@z Thu Jan  1 00:00:00 1970
Return-Path: <test-report-bounces@dpdk.org>
Received: from mails.dpdk.org (mails.dpdk.org [217.70.189.124])
	by inbox.dpdk.org (Postfix) with ESMTP id 6CD4543E99
	for <public@inbox.dpdk.org>; Thu, 18 Apr 2024 05:10:57 +0200 (CEST)
Received: from mails.dpdk.org (localhost [127.0.0.1])
	by mails.dpdk.org (Postfix) with ESMTP id 6552240272;
	Thu, 18 Apr 2024 05:10:57 +0200 (CEST)
Received: from mail-yw1-f225.google.com (mail-yw1-f225.google.com
 [209.85.128.225])
 by mails.dpdk.org (Postfix) with ESMTP id B7A8240042
 for <test-report@dpdk.org>; Thu, 18 Apr 2024 05:10:56 +0200 (CEST)
Received: by mail-yw1-f225.google.com with SMTP id
 00721157ae682-617e6c873f3so3808367b3.2
 for <test-report@dpdk.org>; Wed, 17 Apr 2024 20:10:56 -0700 (PDT)
DKIM-Signature: v=1; a=rsa-sha256; c=relaxed/relaxed;
 d=iol.unh.edu; s=unh-iol; t=1713409856; x=1714014656; darn=dpdk.org;
 h=references:in-reply-to:cc:to:from:subject:message-id:date:from:to
 :cc:subject:date:message-id:reply-to;
 bh=3J5ybL/xkKrAPJGOLiWP2FebDzh0Odnrnflvt1Y+B7I=;
 b=V+Wt6gHkL5TznYYC+1ldMaUZQvkcnSc8jTaJ9g5mCM78wmlorfVJ77agECIq1RXw5V
 z09X76bWcg6IRMYHomE1lVq5lE4t9n9URFWehlJ8IQ2DX0xIQeas+Q32cSwcYOjOF9UU
 ydPSsqxgWLcm53BedpPaJmwILvHWggHS/S7tA=
X-Google-DKIM-Signature: v=1; a=rsa-sha256; c=relaxed/relaxed;
 d=1e100.net; s=20230601; t=1713409856; x=1714014656;
 h=references:in-reply-to:cc:to:from:subject:message-id:date
 :x-gm-message-state:from:to:cc:subject:date:message-id:reply-to;
 bh=3J5ybL/xkKrAPJGOLiWP2FebDzh0Odnrnflvt1Y+B7I=;
 b=gsRGx5E15suVNeQNgyinD53Y70FmJn4c2wwUMlOo6/172vWBfLyr+WBrXiFe1jC+51
 iTdi8CnH3GgOLK4dwuQGQznx0HcrhWWkXeweaep7pc1IE5I0LzO8v6/abY3pwJ7z9D6Q
 TtM5xcot3m3uLaWuvcacrCtDKjQtqjReB8VfSSEIH4bYpchDLSnfAlx9rCJ94VLLvVlD
 e2YTwI9JW9lVjJvyv7zDhN745nn7ntaUdGuFoVnFWjvRbmUdaOh3afgAqL7WzHNDQ0tP
 IXYdMI5PnT2oq5VYIkEGkRX6hlC8HlLrPv5daUWNT9+AGwbPxnC7YnC5Ba/SnXQDmo3+
 PeAw==
X-Gm-Message-State: AOJu0YzID1sDJElUB9X1DNgsDIRTeexlz5+nd7Wd37wRmDYiNoX3oHaK
 hp+siqEnwyJyjFA3v8pit4eOtbctS0e7gqNATfCKBQ8nQNkr2AbX1Ql2IwME+4cJ3gh/hmZc2cE
 wmDPJhko9KgvrGUIKpjwgEuhGKBbek/SYdIsmr9bO
X-Google-Smtp-Source: AGHT+IGZjnIeH05qsyuw8JLPOtq/7T+CWIfU1YPqBnqQlVp8MMkuSP5tXXEbHO76yIdIRGBq2gDvJeuc9ch2
X-Received: by 2002:a05:690c:10c:b0:61b:108f:7dc0 with SMTP id
 bd12-20020a05690c010c00b0061b108f7dc0mr1417663ywb.45.1713409856088; 
 Wed, 17 Apr 2024 20:10:56 -0700 (PDT)
Received: from postal.iol.unh.edu (postal.iol.unh.edu. [132.177.123.84])
 by smtp-relay.gmail.com with ESMTPS id
 g139-20020a0ddd91000000b006144cb448d2sm47611ywe.77.2024.04.17.20.10.56
 (version=TLS1_2 cipher=ECDHE-ECDSA-AES128-GCM-SHA256 bits=128/128);
 Wed, 17 Apr 2024 20:10:56 -0700 (PDT)
X-Relaying-Domain: iol.unh.edu
Date: Wed, 17 Apr 2024 20:10:56 -0700 (PDT)
Message-ID: <66208f40.0d0a0220.2ffe2.2531SMTPIN_ADDED_MISSING@mx.google.com>
Received: from [172.21.0.7] (unknown [172.18.0.240])
 by postal.iol.unh.edu (Postfix) with ESMTP id B37AC604D420;
 Wed, 17 Apr 2024 23:10:55 -0400 (EDT)
Subject: |SUCCESS| pw139456-139460 [PATCH] [v3,5/5] latencystats: include fil
From: dpdklab@iol.unh.edu
To: Test Report <test-report@dpdk.org>
Cc: dpdk-test-reports@iol.unh.edu
In-Reply-To: <20240417170908.76701-6-stephen@networkplumber.org>
References: <20240417170908.76701-6-stephen@networkplumber.org>
Content-Type: text/plain
X-BeenThere: test-report@dpdk.org
X-Mailman-Version: 2.1.29
Precedence: list
List-Id: automatic DPDK test reports <test-report.dpdk.org>
List-Unsubscribe: <https://mails.dpdk.org/options/test-report>,
 <mailto:test-report-request@dpdk.org?subject=unsubscribe>
List-Archive: <http://mails.dpdk.org/archives/test-report/>
List-Post: <mailto:test-report@dpdk.org>
List-Help: <mailto:test-report-request@dpdk.org?subject=help>
List-Subscribe: <https://mails.dpdk.org/listinfo/test-report>,
 <mailto:test-report-request@dpdk.org?subject=subscribe>
Errors-To: test-report-bounces@dpdk.org

Test-Label: iol-unit-amd64-testing
Test-Status: SUCCESS
http://dpdk.org/patch/139460

_Testing PASS_

Submitter: Stephen Hemminger <stephen@networkplumber.org>
Date: Wednesday, April 17 2024 17:07:27 
DPDK git baseline: Repo:dpdk
  Branch: master
  CommitID:e2e546ab5bf5e024986ccb5310ab43982f3bb40c

139456-139460 --> testing pass

Test environment and result as below:

+------------------+----------------+
|   Environment    | dpdk_unit_test |
+==================+================+
| CentOS Stream 9  | PASS           |
+------------------+----------------+
| Fedora 37        | PASS           |
+------------------+----------------+
| CentOS Stream 8  | PASS           |
+------------------+----------------+
| Debian Bullseye  | PASS           |
+------------------+----------------+
| Fedora 39        | PASS           |
+------------------+----------------+
| Debian 12        | PASS           |
+------------------+----------------+
| Fedora 38        | PASS           |
+------------------+----------------+
| openSUSE Leap 15 | PASS           |
+------------------+----------------+
| RHEL8            | PASS           |
+------------------+----------------+
| Ubuntu 20.04     | PASS           |
+------------------+----------------+
| Ubuntu 22.04     | PASS           |
+------------------+----------------+


CentOS Stream 9
	Kernel: 5.4.0-167-generic
	Compiler: gcc 11.4.1 20230605

Fedora 37
	Kernel: Depends on container host system
	Compiler: gcc 12.3.1

CentOS Stream 8
	Kernel: 5.4.0-167-generic
	Compiler: gcc 8.5.0 20210514

Debian Bullseye
	Kernel: 5.4.0-167-generic
	Compiler: gcc 10.2.1-6

Fedora 39
	Kernel: Depends on container host
	Compiler: gcc 13.2.1

Debian 12
	Kernel: Container Host Kernel
	Compiler: gcc 10.2.1

Fedora 38
	Kernel: Depends on container host
	Compiler: gcc 13.2.1

openSUSE Leap 15
	Kernel: 5.4.0-167-generic
	Compiler: gcc 7.5.0

RHEL8
	Kernel: 5.4.0-167-generic
	Compiler: gcc 8.5.0 20210514 (Red Hat 8.5.0-20)

Ubuntu 20.04
	Kernel: 5.4.0-167-generic
	Compiler: gcc 9.4.0-1ubuntu1~20.04.1

Ubuntu 22.04
	Kernel: 5.4.0-167-generic
	Compiler: gcc 11.4.0

To view detailed results, visit:
https://lab.dpdk.org/results/dashboard/patchsets/29810/

UNH-IOL DPDK Community Lab

To manage your email subscriptions, visit: 
https://lab.dpdk.org/results/dashboard/preferences/subscriptions/