From mboxrd@z Thu Jan  1 00:00:00 1970
Return-Path: <test-report-bounces@dpdk.org>
Received: from mails.dpdk.org (mails.dpdk.org [217.70.189.124])
	by inbox.dpdk.org (Postfix) with ESMTP id B200E43E99
	for <public@inbox.dpdk.org>; Thu, 18 Apr 2024 05:19:35 +0200 (CEST)
Received: from mails.dpdk.org (localhost [127.0.0.1])
	by mails.dpdk.org (Postfix) with ESMTP id ABA2B40272;
	Thu, 18 Apr 2024 05:19:35 +0200 (CEST)
Received: from mail-io1-f100.google.com (mail-io1-f100.google.com
 [209.85.166.100])
 by mails.dpdk.org (Postfix) with ESMTP id 6A46340042
 for <test-report@dpdk.org>; Thu, 18 Apr 2024 05:19:32 +0200 (CEST)
Received: by mail-io1-f100.google.com with SMTP id
 ca18e2360f4ac-7d5e19d18fbso13291739f.2
 for <test-report@dpdk.org>; Wed, 17 Apr 2024 20:19:32 -0700 (PDT)
DKIM-Signature: v=1; a=rsa-sha256; c=relaxed/relaxed;
 d=iol.unh.edu; s=unh-iol; t=1713410372; x=1714015172; darn=dpdk.org;
 h=references:in-reply-to:cc:to:from:subject:message-id:date:from:to
 :cc:subject:date:message-id:reply-to;
 bh=Q5CczuValoIvTd1z++o7YcoQgUuR/RfPSg1HagZYyVI=;
 b=Q/iwcDYjBMSWPFDJZN2TcZPEcPsrormhWCGxccHT/Tum7YdooR8vsHi3WnlureNure
 krP1kGFKG+DS0SMOGoAdlfkx2q5oUiWKXDt1DhH+XER6kIoowUr3bxO3+0Nfv83S4FYb
 u0NDmaZqddMUF4ZmRytK+o1dqeiLQQdp9UFCM=
X-Google-DKIM-Signature: v=1; a=rsa-sha256; c=relaxed/relaxed;
 d=1e100.net; s=20230601; t=1713410372; x=1714015172;
 h=references:in-reply-to:cc:to:from:subject:message-id:date
 :x-gm-message-state:from:to:cc:subject:date:message-id:reply-to;
 bh=Q5CczuValoIvTd1z++o7YcoQgUuR/RfPSg1HagZYyVI=;
 b=pAgaLfyVtmmJPfPUUZi1z1mIPNxFn5ivEHhDM1GMLQIE3eX/F+vnSJJLdGSzi47LPt
 S5svmcu5zgpA+8rq9ZJaDOuLGGM3Pz8MNi+dOgsPObmqhTTncAAx4/msM+bsd/TeJ4KI
 iTGQZHU2vPg4LbN0yeT4TnPfb6l8goNZ9ZjeXRlfuL9bem94aFFen/U+4cNZj0d5k6a/
 lM67/tzsqp8qyMlYT2g5wwhMbwlKqWkl9no/sAQUgf4FKZu6e37Fbqxc+uNWi41KiSv8
 vbld9S/kIetyf3tTCUgpUqFLsyNbknaMSH+g83PHKDn33d3dxk4CYMw1ptVfQUWGYmYv
 XvLw==
X-Gm-Message-State: AOJu0YweK2uMeMTwb4GTWA7wFjvBUsZVR0akql3m7UZFtt7Y7sZdplMj
 +v8E2AD7BXhYnQiWX66gcnnu8j5krblrcDwr9ncbxzKDrqphAsofzKD2gubv2T3SWuK/7tXOcbZ
 zyybgU0QLFA9B+S37t0ljr9wL/B5ngVIX+ZzXG1Gy
X-Google-Smtp-Source: AGHT+IFxSOjXPVImhZaFEewf3hHwh1PjwuAUyWTqHy/Ob3W45MfaZOZcqZ0VaN43E6awCl2C8J53IiF9KiNb
X-Received: by 2002:a5e:8f44:0:b0:7d6:6787:5991 with SMTP id
 x4-20020a5e8f44000000b007d667875991mr2032297iop.12.1713410371888; 
 Wed, 17 Apr 2024 20:19:31 -0700 (PDT)
Received: from postal.iol.unh.edu (postal.iol.unh.edu. [132.177.123.84])
 by smtp-relay.gmail.com with ESMTPS id
 gx2-20020a05663867c200b00482cc9427c1sm41325jab.68.2024.04.17.20.19.31
 (version=TLS1_2 cipher=ECDHE-ECDSA-AES128-GCM-SHA256 bits=128/128);
 Wed, 17 Apr 2024 20:19:31 -0700 (PDT)
X-Relaying-Domain: iol.unh.edu
Date: Wed, 17 Apr 2024 20:19:31 -0700 (PDT)
Message-ID: <66209143.050a0220.c816c.26a3SMTPIN_ADDED_MISSING@mx.google.com>
Received: from [172.17.0.3] (unknown [172.18.0.217])
 by postal.iol.unh.edu (Postfix) with ESMTP id 2F952604D420;
 Wed, 17 Apr 2024 23:19:31 -0400 (EDT)
Subject: |SUCCESS| pw139455 [PATCH] [v3] mailmap: clean up vmware entries
From: dpdklab@iol.unh.edu
To: Test Report <test-report@dpdk.org>
Cc: dpdk-test-reports@iol.unh.edu
In-Reply-To: <20240417161901.1919433-1-jochen.behrens@broadcom.com>
References: <20240417161901.1919433-1-jochen.behrens@broadcom.com>
Content-Type: text/plain
X-BeenThere: test-report@dpdk.org
X-Mailman-Version: 2.1.29
Precedence: list
List-Id: automatic DPDK test reports <test-report.dpdk.org>
List-Unsubscribe: <https://mails.dpdk.org/options/test-report>,
 <mailto:test-report-request@dpdk.org?subject=unsubscribe>
List-Archive: <http://mails.dpdk.org/archives/test-report/>
List-Post: <mailto:test-report@dpdk.org>
List-Help: <mailto:test-report-request@dpdk.org?subject=help>
List-Subscribe: <https://mails.dpdk.org/listinfo/test-report>,
 <mailto:test-report-request@dpdk.org?subject=subscribe>
Errors-To: test-report-bounces@dpdk.org

Test-Label: iol-compile-amd64-testing
Test-Status: SUCCESS
http://dpdk.org/patch/139455

_Testing PASS_

Submitter: Jochen Behrens <jochen.behrens@broadcom.com>
Date: Wednesday, April 17 2024 16:19:00 
DPDK git baseline: Repo:dpdk
  Branch: master
  CommitID:e2e546ab5bf5e024986ccb5310ab43982f3bb40c

139455 --> testing pass

Test environment and result as below:

+---------------------+--------------------+----------------------+-------------------+
|     Environment     | dpdk_meson_compile | dpdk_mingw64_compile | dpdk_msvc_compile |
+=====================+====================+======================+===================+
| FreeBSD 13.2        | PASS               | SKIPPED              | SKIPPED           |
+---------------------+--------------------+----------------------+-------------------+
| Windows Server 2022 | PASS               | PASS                 | PASS              |
+---------------------+--------------------+----------------------+-------------------+
| Windows Server 2019 | PASS               | PASS                 | SKIPPED           |
+---------------------+--------------------+----------------------+-------------------+
| Debian Bullseye     | PASS               | SKIPPED              | SKIPPED           |
+---------------------+--------------------+----------------------+-------------------+
| CentOS Stream 9     | PASS               | SKIPPED              | SKIPPED           |
+---------------------+--------------------+----------------------+-------------------+
| Debian 12           | PASS               | SKIPPED              | SKIPPED           |
+---------------------+--------------------+----------------------+-------------------+
| CentOS Stream 8     | PASS               | SKIPPED              | SKIPPED           |
+---------------------+--------------------+----------------------+-------------------+
| Fedora 38           | PASS               | SKIPPED              | SKIPPED           |
+---------------------+--------------------+----------------------+-------------------+
| Fedora 37           | PASS               | SKIPPED              | SKIPPED           |
+---------------------+--------------------+----------------------+-------------------+
| Fedora 39           | PASS               | SKIPPED              | SKIPPED           |
+---------------------+--------------------+----------------------+-------------------+
| RHEL8               | PASS               | SKIPPED              | SKIPPED           |
+---------------------+--------------------+----------------------+-------------------+
| Ubuntu 22.04        | PASS               | SKIPPED              | SKIPPED           |
+---------------------+--------------------+----------------------+-------------------+
| Alpine              | PASS               | SKIPPED              | SKIPPED           |
+---------------------+--------------------+----------------------+-------------------+
| Ubuntu 20.04        | PASS               | SKIPPED              | SKIPPED           |
+---------------------+--------------------+----------------------+-------------------+


FreeBSD 13.2
	Kernel: 13.2
	Compiler: clang 14.0.5

Windows Server 2022
	Kernel: 10.0.20348.2031
	Compiler: clang 15.0.7, gcc 8.1.0 (MinGW), and MSVC VS 17.9

Windows Server 2019
	Kernel: 10.0.17763
	Compiler: clang 14.0 and gcc 8.1.0 (MinGW)

Debian Bullseye
	Kernel: 5.4.0-167-generic
	Compiler: gcc 10.2.1-6

CentOS Stream 9
	Kernel: 5.4.0-167-generic
	Compiler: gcc 11.4.1 20230605

Debian 12
	Kernel: Container Host Kernel
	Compiler: gcc 10.2.1

CentOS Stream 8
	Kernel: 5.4.0-167-generic
	Compiler: gcc 8.5.0 20210514

Fedora 38
	Kernel: Depends on container host
	Compiler: gcc 13.2.1

Fedora 37
	Kernel: Depends on container host system
	Compiler: gcc 12.3.1

Fedora 39
	Kernel: Depends on container host
	Compiler: gcc 13.2.1

RHEL8
	Kernel: 5.4.0-167-generic
	Compiler: gcc 8.5.0 20210514 (Red Hat 8.5.0-20)

Ubuntu 22.04
	Kernel: 5.4.0-167-generic
	Compiler: gcc 11.4.0

Alpine
	Kernel: 5.4.0-167-generic
	Compiler: gcc (Alpine 12.2.1_git20220924-r10) 12.2.1 20220924

Ubuntu 20.04
	Kernel: 5.4.0-167-generic
	Compiler: gcc 9.4.0-1ubuntu1~20.04.1

To view detailed results, visit:
https://lab.dpdk.org/results/dashboard/patchsets/29809/

UNH-IOL DPDK Community Lab

To manage your email subscriptions, visit: 
https://lab.dpdk.org/results/dashboard/preferences/subscriptions/