From mboxrd@z Thu Jan  1 00:00:00 1970
Return-Path: <test-report-bounces@dpdk.org>
Received: from mails.dpdk.org (mails.dpdk.org [217.70.189.124])
	by inbox.dpdk.org (Postfix) with ESMTP id 0BA8143E99
	for <public@inbox.dpdk.org>; Thu, 18 Apr 2024 05:19:57 +0200 (CEST)
Received: from mails.dpdk.org (localhost [127.0.0.1])
	by mails.dpdk.org (Postfix) with ESMTP id 07EA340272;
	Thu, 18 Apr 2024 05:19:57 +0200 (CEST)
Received: from mail-io1-f99.google.com (mail-io1-f99.google.com
 [209.85.166.99]) by mails.dpdk.org (Postfix) with ESMTP id 82B3740042
 for <test-report@dpdk.org>; Thu, 18 Apr 2024 05:19:55 +0200 (CEST)
Received: by mail-io1-f99.google.com with SMTP id
 ca18e2360f4ac-7d644c91834so16111339f.1
 for <test-report@dpdk.org>; Wed, 17 Apr 2024 20:19:55 -0700 (PDT)
DKIM-Signature: v=1; a=rsa-sha256; c=relaxed/relaxed;
 d=iol.unh.edu; s=unh-iol; t=1713410395; x=1714015195; darn=dpdk.org;
 h=references:in-reply-to:cc:to:from:subject:message-id:date:from:to
 :cc:subject:date:message-id:reply-to;
 bh=fK2urgwdi2PeR+Shhr6aA4Ttwwqjm1+Zjpsskl9WoTM=;
 b=Om2OtpaAQ/BrynuCShBx7oGVKuVBl94PUtI2LfyLn386IcyPeMIYyd+R9R1W7ghETm
 neRYjjOTid/D+PCMbQ9Fc1abBgF2mvIqEeiqgayW/JKe7EzOjvqEPt7wggrZ2faXJw78
 d0DqZWM2IkMF5BaYqx1r8MblzD/MgFWtCf154=
X-Google-DKIM-Signature: v=1; a=rsa-sha256; c=relaxed/relaxed;
 d=1e100.net; s=20230601; t=1713410395; x=1714015195;
 h=references:in-reply-to:cc:to:from:subject:message-id:date
 :x-gm-message-state:from:to:cc:subject:date:message-id:reply-to;
 bh=fK2urgwdi2PeR+Shhr6aA4Ttwwqjm1+Zjpsskl9WoTM=;
 b=CCWaSiHrBXp+3nJi4uI3P9pic1XdpovX/5G6uh1knYzOGrUo9fjMoY7gt2wKKry6rv
 jC7MHMK3nm+GhQqHINP4RN9P87P4idMhW7ABYz2d0ckp1jzF9dce6H+Dg15Cv1afgyNw
 NoPfj0Qt6x9AO6qv+hnFfsxBPOHWzvejLz8tM/1buIApItB/HDhvPmXXyVYWwV17ojAT
 epFDXPGOasBg5ez745gSR8qkpXn+x7lBs01ZG1257PcTpLsZce55jHVgGPtKILZ84QrF
 VZSQOeCbm1v+D4LDGYUZ8KQeBRLLF20gRqqExdfFnYfQFkXbzpm4JrZN+S4+dhF0pMF7
 Xr8w==
X-Gm-Message-State: AOJu0YwQFAEp6GEJVstwvfoTHeY1ZtwvGiF3qPid4K7PesgT9Esi+fGN
 pOGL+h8YzzKzu2b4S4ly6dkZHBdTGshvbgfY6mDVsBwey2OGGCnz/tWXdbIwHmQdpxh32bQYIlO
 iC3vNmk/TuW0hwlWiBNqlgABuDTLyUJNcQ+O0KiM4aLmFW+39mvDVAzlP
X-Google-Smtp-Source: AGHT+IHB4oNZbfC+Bd2yUF63+L5zzcLwnGHj+ct5UlV56LqmYEEmuh+STKxnnbPMLisIZeCtOR9QqD6suyjJ
X-Received: by 2002:a05:6e02:13a7:b0:36b:3c05:712f with SMTP id
 h7-20020a056e0213a700b0036b3c05712fmr1844664ilo.10.1713410394938; 
 Wed, 17 Apr 2024 20:19:54 -0700 (PDT)
Received: from postal.iol.unh.edu (postal.iol.unh.edu.
 [2606:4100:3880:1234::84]) by smtp-relay.gmail.com with ESMTPS id
 o9-20020a056e02068900b0036afd6a8969sm27741ils.30.2024.04.17.20.19.54
 (version=TLS1_2 cipher=ECDHE-ECDSA-AES128-GCM-SHA256 bits=128/128);
 Wed, 17 Apr 2024 20:19:54 -0700 (PDT)
X-Relaying-Domain: iol.unh.edu
Date: Wed, 17 Apr 2024 20:19:54 -0700 (PDT)
Message-ID: <6620915a.050a0220.b2176.1603SMTPIN_ADDED_MISSING@mx.google.com>
Received: from [172.17.0.4] (unknown [172.18.0.217])
 by postal.iol.unh.edu (Postfix) with ESMTP id 5EF7D604D420;
 Wed, 17 Apr 2024 23:19:54 -0400 (EDT)
Subject: |SUCCESS| pw139456-139460 [PATCH] [v3,5/5] latencystats: include fil
From: dpdklab@iol.unh.edu
To: Test Report <test-report@dpdk.org>
Cc: dpdk-test-reports@iol.unh.edu
In-Reply-To: <20240417170908.76701-6-stephen@networkplumber.org>
References: <20240417170908.76701-6-stephen@networkplumber.org>
Content-Type: text/plain
X-BeenThere: test-report@dpdk.org
X-Mailman-Version: 2.1.29
Precedence: list
List-Id: automatic DPDK test reports <test-report.dpdk.org>
List-Unsubscribe: <https://mails.dpdk.org/options/test-report>,
 <mailto:test-report-request@dpdk.org?subject=unsubscribe>
List-Archive: <http://mails.dpdk.org/archives/test-report/>
List-Post: <mailto:test-report@dpdk.org>
List-Help: <mailto:test-report-request@dpdk.org?subject=help>
List-Subscribe: <https://mails.dpdk.org/listinfo/test-report>,
 <mailto:test-report-request@dpdk.org?subject=subscribe>
Errors-To: test-report-bounces@dpdk.org

Test-Label: iol-unit-arm64-testing
Test-Status: SUCCESS
http://dpdk.org/patch/139460

_Testing PASS_

Submitter: Stephen Hemminger <stephen@networkplumber.org>
Date: Wednesday, April 17 2024 17:07:27 
DPDK git baseline: Repo:dpdk
  Branch: master
  CommitID:e2e546ab5bf5e024986ccb5310ab43982f3bb40c

139456-139460 --> testing pass

Test environment and result as below:

+-----------------------------+----------------+--------------+---------------------------+------------------------------+
|         Environment         | dpdk_unit_test | lpm_autotest | cryptodev_sw_zuc_autotest | cryptodev_sw_snow3g_autotest |
+=============================+================+==============+===========================+==============================+
| 32-bit Ubuntu 20.04.4 (ARM) | PASS           | SKIPPED      | SKIPPED                   | SKIPPED                      |
+-----------------------------+----------------+--------------+---------------------------+------------------------------+
| Debian 11 (Buster) (ARM)    | PASS           | SKIPPED      | SKIPPED                   | SKIPPED                      |
+-----------------------------+----------------+--------------+---------------------------+------------------------------+
| CentOS Stream 9 (ARM)       | PASS           | SKIPPED      | SKIPPED                   | SKIPPED                      |
+-----------------------------+----------------+--------------+---------------------------+------------------------------+
| Fedora 37 (ARM)             | PASS           | SKIPPED      | SKIPPED                   | SKIPPED                      |
+-----------------------------+----------------+--------------+---------------------------+------------------------------+
| Debian 12 (arm)             | PASS           | SKIPPED      | PASS                      | PASS                         |
+-----------------------------+----------------+--------------+---------------------------+------------------------------+
| Fedora 38 (ARM)             | PASS           | SKIPPED      | SKIPPED                   | SKIPPED                      |
+-----------------------------+----------------+--------------+---------------------------+------------------------------+
| Fedora 39 (ARM)             | PASS           | SKIPPED      | SKIPPED                   | SKIPPED                      |
+-----------------------------+----------------+--------------+---------------------------+------------------------------+
| Ubuntu 20.04 (ARM)          | PASS           | SKIPPED      | SKIPPED                   | SKIPPED                      |
+-----------------------------+----------------+--------------+---------------------------+------------------------------+
| Ubuntu 20.04 ARM SVE        | SKIPPED        | PASS         | SKIPPED                   | SKIPPED                      |
+-----------------------------+----------------+--------------+---------------------------+------------------------------+


32-bit Ubuntu 20.04.4 (ARM)
	Kernel: 5.4.0-155-generic aarch64
	Compiler: gcc 9.4

Debian 11 (Buster) (ARM)
	Kernel: Container Host Kernel
	Compiler: gcc 10.2.1

CentOS Stream 9 (ARM)
	Kernel: Container Host Kernel
	Compiler: gcc 11.4.1

Fedora 37 (ARM)
	Kernel: Depends on container host
	Compiler: gcc 12.3.1

Debian 12 (arm)
	Kernel: Container Host Kernel
	Compiler: gcc 12.2.0

Fedora 38 (ARM)
	Kernel: Depends on container host
	Compiler: gcc 13.2.1

Fedora 39 (ARM)
	Kernel: Depends on container host
	Compiler: gcc 13.2.1

Ubuntu 20.04 (ARM)
	Kernel: Container Host Kernel
	Compiler: gcc 9.4.0

Ubuntu 20.04 ARM SVE
	Kernel: 5.4.0-167-generic
	Compiler: gcc (Ubuntu 10.5.0-1ubuntu1~20.04) 10.5.0

To view detailed results, visit:
https://lab.dpdk.org/results/dashboard/patchsets/29810/

UNH-IOL DPDK Community Lab

To manage your email subscriptions, visit: 
https://lab.dpdk.org/results/dashboard/preferences/subscriptions/