From mboxrd@z Thu Jan  1 00:00:00 1970
Return-Path: <test-report-bounces@dpdk.org>
Received: from mails.dpdk.org (mails.dpdk.org [217.70.189.124])
	by inbox.dpdk.org (Postfix) with ESMTP id 3B9C543E99
	for <public@inbox.dpdk.org>; Thu, 18 Apr 2024 05:20:27 +0200 (CEST)
Received: from mails.dpdk.org (localhost [127.0.0.1])
	by mails.dpdk.org (Postfix) with ESMTP id 35AC240272;
	Thu, 18 Apr 2024 05:20:27 +0200 (CEST)
Received: from mail-io1-f98.google.com (mail-io1-f98.google.com
 [209.85.166.98]) by mails.dpdk.org (Postfix) with ESMTP id 60A6440042
 for <test-report@dpdk.org>; Thu, 18 Apr 2024 05:20:25 +0200 (CEST)
Received: by mail-io1-f98.google.com with SMTP id
 ca18e2360f4ac-7d0262036afso16003539f.3
 for <test-report@dpdk.org>; Wed, 17 Apr 2024 20:20:25 -0700 (PDT)
DKIM-Signature: v=1; a=rsa-sha256; c=relaxed/relaxed;
 d=iol.unh.edu; s=unh-iol; t=1713410425; x=1714015225; darn=dpdk.org;
 h=references:in-reply-to:cc:to:from:subject:message-id:date:from:to
 :cc:subject:date:message-id:reply-to;
 bh=/9I7bztYnoU7Q0i5CNIzNhyb+vp9lz6WYEwgZm39KPY=;
 b=Wxx8gqPjIbYb6YTYabfZVmKV4xms/xbmaxRD4YY2C7qUTPkmJKhU5DrFCODbVPl4Wj
 4rrw9XDr5Zxro6dONa2nAY/CcoxC1ffeiOVY55Iv93hicEpfrRQdtvoD9hHYWLy0pdCw
 XouQGrDbOhQVALh+Mx3ax6T6XlwsFK4o3ZBYs=
X-Google-DKIM-Signature: v=1; a=rsa-sha256; c=relaxed/relaxed;
 d=1e100.net; s=20230601; t=1713410425; x=1714015225;
 h=references:in-reply-to:cc:to:from:subject:message-id:date
 :x-gm-message-state:from:to:cc:subject:date:message-id:reply-to;
 bh=/9I7bztYnoU7Q0i5CNIzNhyb+vp9lz6WYEwgZm39KPY=;
 b=byhv2+Z7AkNsB+DsD4zzuqy+vIYzBeT9xZ6VxJ9EUEIIS8hnAix0ksMc+h3qYcwjpL
 MvJOuzY6w4UfAb/L985pW3xHw1y2ajNzVo1NQTfOOwaHJFugTocW6YoGaAuKWvGtvIyD
 Xau6M4H2SeT2ZDtBDzj0NaZjw1j0UumiqYndHVwTy7+umEP6AVlcMzltC0m7HFrek30R
 fRsXj0dibvhlt/HJv0x7JdyvYM5j/Hs2dr1kwd+tr2K/L3dwdTm5dTRE6oApI3INOUp5
 YznwaSIJtAGT4GSexfksr+OcjpfX8QjIXESczUlQRhDI1AhKvAYegMdZliJvuNBHQZ9W
 WxhA==
X-Gm-Message-State: AOJu0YwG3WtVU6B3We2VxYQeme/5JbnB3DcBtj3/Ln76XCYUHqNp+QJk
 X4WsCVp6m1UZIbGYmotxeidqgjAhkTJnw2RyB7VIlerSXWhB+H38O44bvY+zGM7XD7wyFJNJCI5
 TM4+XiMehQl/2fcYFcQvAD42aFxM9T4CYDN3XFKOWHxoS7FaJg1kG89Lg
X-Google-Smtp-Source: AGHT+IEAC1BWZW1ugAMU2ic08DymbJ1gfZmRRhyCaZsa+s++KhFw0dw0S2MbasreVzwrpFGbPI2dhofDRfKr
X-Received: by 2002:a05:6602:3f82:b0:7d3:4ef3:e6c1 with SMTP id
 fb2-20020a0566023f8200b007d34ef3e6c1mr2469315iob.10.1713410424814; 
 Wed, 17 Apr 2024 20:20:24 -0700 (PDT)
Received: from postal.iol.unh.edu (postal.iol.unh.edu.
 [2606:4100:3880:1234::84]) by smtp-relay.gmail.com with ESMTPS id
 ii2-20020a0566026b8200b007d04444e82csm21327iob.29.2024.04.17.20.20.24
 (version=TLS1_2 cipher=ECDHE-ECDSA-AES128-GCM-SHA256 bits=128/128);
 Wed, 17 Apr 2024 20:20:24 -0700 (PDT)
X-Relaying-Domain: iol.unh.edu
Date: Wed, 17 Apr 2024 20:20:24 -0700 (PDT)
Message-ID: <66209178.050a0220.b3864.138dSMTPIN_ADDED_MISSING@mx.google.com>
Received: from [172.17.0.3] (unknown [172.18.0.217])
 by postal.iol.unh.edu (Postfix) with ESMTP id 152B7604D420;
 Wed, 17 Apr 2024 23:20:24 -0400 (EDT)
Subject: |SUCCESS| pw139456-139460 [PATCH] [v3,5/5] latencystats: include fil
From: dpdklab@iol.unh.edu
To: Test Report <test-report@dpdk.org>
Cc: dpdk-test-reports@iol.unh.edu
In-Reply-To: <20240417170908.76701-6-stephen@networkplumber.org>
References: <20240417170908.76701-6-stephen@networkplumber.org>
Content-Type: text/plain
X-BeenThere: test-report@dpdk.org
X-Mailman-Version: 2.1.29
Precedence: list
List-Id: automatic DPDK test reports <test-report.dpdk.org>
List-Unsubscribe: <https://mails.dpdk.org/options/test-report>,
 <mailto:test-report-request@dpdk.org?subject=unsubscribe>
List-Archive: <http://mails.dpdk.org/archives/test-report/>
List-Post: <mailto:test-report@dpdk.org>
List-Help: <mailto:test-report-request@dpdk.org?subject=help>
List-Subscribe: <https://mails.dpdk.org/listinfo/test-report>,
 <mailto:test-report-request@dpdk.org?subject=subscribe>
Errors-To: test-report-bounces@dpdk.org

Test-Label: iol-compile-arm64-testing
Test-Status: SUCCESS
http://dpdk.org/patch/139460

_Testing PASS_

Submitter: Stephen Hemminger <stephen@networkplumber.org>
Date: Wednesday, April 17 2024 17:07:27 
DPDK git baseline: Repo:dpdk
  Branch: master
  CommitID:e2e546ab5bf5e024986ccb5310ab43982f3bb40c

139456-139460 --> testing pass

Test environment and result as below:

+----------------------------------------+--------------------+
|              Environment               | dpdk_meson_compile |
+========================================+====================+
| Ubuntu 20.04 ARM SVE                   | PASS               |
+----------------------------------------+--------------------+
| Debian 12 with MUSDK                   | PASS               |
+----------------------------------------+--------------------+
| Ubuntu 20.04 (ARM)                     | PASS               |
+----------------------------------------+--------------------+
| Fedora 37 (ARM)                        | PASS               |
+----------------------------------------+--------------------+
| Fedora 39 (ARM)                        | PASS               |
+----------------------------------------+--------------------+
| Fedora 38 (ARM)                        | PASS               |
+----------------------------------------+--------------------+
| Debian 12 (arm)                        | PASS               |
+----------------------------------------+--------------------+
| Debian 11 (Buster) (ARM)               | PASS               |
+----------------------------------------+--------------------+
| CentOS Stream 9 (ARM)                  | PASS               |
+----------------------------------------+--------------------+
| Ubuntu 20.04 aarch32 GCC Cross Compile | PASS               |
+----------------------------------------+--------------------+
| Ubuntu 20.04 ARM Clang Cross Compile   | PASS               |
+----------------------------------------+--------------------+
| Ubuntu 20.04 ARM GCC Cross Compile     | PASS               |
+----------------------------------------+--------------------+


Ubuntu 20.04 ARM SVE
	Kernel: 5.4.0-167-generic
	Compiler: gcc (Ubuntu 10.5.0-1ubuntu1~20.04) 10.5.0

Debian 12 with MUSDK
	Kernel: Container Host Kernel
	Compiler: gcc 12.2.0

Ubuntu 20.04 (ARM)
	Kernel: Container Host Kernel
	Compiler: gcc 9.4.0

Fedora 37 (ARM)
	Kernel: Depends on container host
	Compiler: gcc 12.3.1

Fedora 39 (ARM)
	Kernel: Depends on container host
	Compiler: gcc 13.2.1

Fedora 38 (ARM)
	Kernel: Depends on container host
	Compiler: gcc 13.2.1

Debian 12 (arm)
	Kernel: Container Host Kernel
	Compiler: gcc 12.2.0

Debian 11 (Buster) (ARM)
	Kernel: Container Host Kernel
	Compiler: gcc 10.2.1

CentOS Stream 9 (ARM)
	Kernel: Container Host Kernel
	Compiler: gcc 11.4.1

Ubuntu 20.04 aarch32 GCC Cross Compile
	Kernel: 5.4.0-167-generic
	Compiler: gcc 9.4.0

Ubuntu 20.04 ARM Clang Cross Compile
	Kernel: 5.4.0-72-generic
	Compiler: clang 10.0.0-4ubuntu1

Ubuntu 20.04 ARM GCC Cross Compile
	Kernel: 5.4.0-167-generic
	Compiler: aarch64-linux-gnu-gcc (Ubuntu 9.4.0-1ubuntu1~20.04.2) 9.4.0

To view detailed results, visit:
https://lab.dpdk.org/results/dashboard/patchsets/29810/

UNH-IOL DPDK Community Lab

To manage your email subscriptions, visit: 
https://lab.dpdk.org/results/dashboard/preferences/subscriptions/