From mboxrd@z Thu Jan  1 00:00:00 1970
Return-Path: <test-report-bounces@dpdk.org>
Received: from mails.dpdk.org (mails.dpdk.org [217.70.189.124])
	by inbox.dpdk.org (Postfix) with ESMTP id 4B15743E99
	for <public@inbox.dpdk.org>; Thu, 18 Apr 2024 05:20:40 +0200 (CEST)
Received: from mails.dpdk.org (localhost [127.0.0.1])
	by mails.dpdk.org (Postfix) with ESMTP id 4572140272;
	Thu, 18 Apr 2024 05:20:40 +0200 (CEST)
Received: from mail-qt1-f226.google.com (mail-qt1-f226.google.com
 [209.85.160.226])
 by mails.dpdk.org (Postfix) with ESMTP id 188DF40042
 for <test-report@dpdk.org>; Thu, 18 Apr 2024 05:20:39 +0200 (CEST)
Received: by mail-qt1-f226.google.com with SMTP id
 d75a77b69052e-434b7ab085fso12153371cf.1
 for <test-report@dpdk.org>; Wed, 17 Apr 2024 20:20:39 -0700 (PDT)
DKIM-Signature: v=1; a=rsa-sha256; c=relaxed/relaxed;
 d=iol.unh.edu; s=unh-iol; t=1713410438; x=1714015238; darn=dpdk.org;
 h=references:in-reply-to:cc:to:from:subject:message-id:date:from:to
 :cc:subject:date:message-id:reply-to;
 bh=l1H8aVaCrE2bTogzbotYqoHlmE2Y57RnFqqu90W4qpQ=;
 b=ZN8GRKAaA+SOcEO0QmpdCwvT8KsUmIpw6WFI955fxjOlTo60I8rszjtejJ7j9upnfn
 sY3a6xJgF/ZvkU0LbitWXcwCgHCEMPRbuta+Pw1f8RPaGOeLIhSaUK0Ec6jF8aK5eag7
 9ShrJ0n2Gw2qqBYbzLPxx3EcGGJVpoS3+hEKs=
X-Google-DKIM-Signature: v=1; a=rsa-sha256; c=relaxed/relaxed;
 d=1e100.net; s=20230601; t=1713410438; x=1714015238;
 h=references:in-reply-to:cc:to:from:subject:message-id:date
 :x-gm-message-state:from:to:cc:subject:date:message-id:reply-to;
 bh=l1H8aVaCrE2bTogzbotYqoHlmE2Y57RnFqqu90W4qpQ=;
 b=DWFeak6StDQHFZYSCEX+MK0FJSCZsLVWnDjWRemLaMQIMJEU8SWhmAG2+8xFRm7vkT
 s/cBrcWRAd7/HQIRmv4guhPyV0eFUQwPHZvnnkxsGHsZoXQLy6YjlE4RmT31XMe2vvDA
 1b6iN7PJn9nObFguYg2nTfK8oVplJEx/V5zCbSL9epxbBVqfZ+fpPulbUytJeJ/W4/nW
 y+YamQAbyX/8LnvhHMmFiYH7HZNXUPBoh4MhRK9+HOR2im9Mh5W2Xp/p37TkIZQKAXxy
 it9dmqf8DPTy1bLJGTkj6iHwqpNQiYOt9/zESi2Erm2+eS0ig/HZQkrLlg/q+zo7R7Q/
 Qtzw==
X-Gm-Message-State: AOJu0YycHL0I+o0guuQVMsOya3Wfx1hXPHB5sb7JEaj2wLHu3FGhhERT
 VjgHUorr15rjlFGpW2yvQ6lPo1eCiWmZRWTLEcfpKD3F4s/F+qqZk+Vy9G01WYRbYEn/uA1T8kE
 YjC4tMO5UCrrW/BOcvhC/F1sE8Dnaqx65pzUeT/27
X-Google-Smtp-Source: AGHT+IHPDXwdA3eWgkUtGTBa/v16LX6n84reI5YMqD1O5zk+BCleDCb13qlmZUeijEWsR2GyhgaZQJJa1APt
X-Received: by 2002:a05:6214:4c:b0:6a0:c20:5ccf with SMTP id
 c12-20020a056214004c00b006a00c205ccfmr1803360qvr.0.1713410438592; 
 Wed, 17 Apr 2024 20:20:38 -0700 (PDT)
Received: from postal.iol.unh.edu (postal.iol.unh.edu. [132.177.123.84])
 by smtp-relay.gmail.com with ESMTPS id
 ib13-20020a0562141c8d00b0069b1859a87csm39332qvb.77.2024.04.17.20.20.38
 (version=TLS1_2 cipher=ECDHE-ECDSA-AES128-GCM-SHA256 bits=128/128);
 Wed, 17 Apr 2024 20:20:38 -0700 (PDT)
X-Relaying-Domain: iol.unh.edu
Date: Wed, 17 Apr 2024 20:20:38 -0700 (PDT)
Message-ID: <66209186.050a0220.5645c.2eaaSMTPIN_ADDED_MISSING@mx.google.com>
Received: from [172.17.0.3] (unknown [172.18.0.217])
 by postal.iol.unh.edu (Postfix) with ESMTP id 18224604D420;
 Wed, 17 Apr 2024 23:20:38 -0400 (EDT)
Subject: |SUCCESS| pw139455 [PATCH] [v3] mailmap: clean up vmware entries
From: dpdklab@iol.unh.edu
To: Test Report <test-report@dpdk.org>
Cc: dpdk-test-reports@iol.unh.edu
In-Reply-To: <20240417161901.1919433-1-jochen.behrens@broadcom.com>
References: <20240417161901.1919433-1-jochen.behrens@broadcom.com>
Content-Type: text/plain
X-BeenThere: test-report@dpdk.org
X-Mailman-Version: 2.1.29
Precedence: list
List-Id: automatic DPDK test reports <test-report.dpdk.org>
List-Unsubscribe: <https://mails.dpdk.org/options/test-report>,
 <mailto:test-report-request@dpdk.org?subject=unsubscribe>
List-Archive: <http://mails.dpdk.org/archives/test-report/>
List-Post: <mailto:test-report@dpdk.org>
List-Help: <mailto:test-report-request@dpdk.org?subject=help>
List-Subscribe: <https://mails.dpdk.org/listinfo/test-report>,
 <mailto:test-report-request@dpdk.org?subject=subscribe>
Errors-To: test-report-bounces@dpdk.org

Test-Label: iol-unit-amd64-testing
Test-Status: SUCCESS
http://dpdk.org/patch/139455

_Testing PASS_

Submitter: Jochen Behrens <jochen.behrens@broadcom.com>
Date: Wednesday, April 17 2024 16:19:00 
DPDK git baseline: Repo:dpdk
  Branch: master
  CommitID:e2e546ab5bf5e024986ccb5310ab43982f3bb40c

139455 --> testing pass

Test environment and result as below:

+------------------+----------------+
|   Environment    | dpdk_unit_test |
+==================+================+
| CentOS Stream 9  | PASS           |
+------------------+----------------+
| CentOS Stream 8  | PASS           |
+------------------+----------------+
| Debian Bullseye  | PASS           |
+------------------+----------------+
| Debian 12        | PASS           |
+------------------+----------------+
| Fedora 37        | PASS           |
+------------------+----------------+
| Fedora 38        | PASS           |
+------------------+----------------+
| Fedora 39        | PASS           |
+------------------+----------------+
| openSUSE Leap 15 | PASS           |
+------------------+----------------+
| RHEL8            | PASS           |
+------------------+----------------+
| Ubuntu 20.04     | PASS           |
+------------------+----------------+
| Ubuntu 22.04     | PASS           |
+------------------+----------------+


CentOS Stream 9
	Kernel: 5.4.0-167-generic
	Compiler: gcc 11.4.1 20230605

CentOS Stream 8
	Kernel: 5.4.0-167-generic
	Compiler: gcc 8.5.0 20210514

Debian Bullseye
	Kernel: 5.4.0-167-generic
	Compiler: gcc 10.2.1-6

Debian 12
	Kernel: Container Host Kernel
	Compiler: gcc 10.2.1

Fedora 37
	Kernel: Depends on container host system
	Compiler: gcc 12.3.1

Fedora 38
	Kernel: Depends on container host
	Compiler: gcc 13.2.1

Fedora 39
	Kernel: Depends on container host
	Compiler: gcc 13.2.1

openSUSE Leap 15
	Kernel: 5.4.0-167-generic
	Compiler: gcc 7.5.0

RHEL8
	Kernel: 5.4.0-167-generic
	Compiler: gcc 8.5.0 20210514 (Red Hat 8.5.0-20)

Ubuntu 20.04
	Kernel: 5.4.0-167-generic
	Compiler: gcc 9.4.0-1ubuntu1~20.04.1

Ubuntu 22.04
	Kernel: 5.4.0-167-generic
	Compiler: gcc 11.4.0

To view detailed results, visit:
https://lab.dpdk.org/results/dashboard/patchsets/29809/

UNH-IOL DPDK Community Lab

To manage your email subscriptions, visit: 
https://lab.dpdk.org/results/dashboard/preferences/subscriptions/