From mboxrd@z Thu Jan  1 00:00:00 1970
Return-Path: <test-report-bounces@dpdk.org>
Received: from mails.dpdk.org (mails.dpdk.org [217.70.189.124])
	by inbox.dpdk.org (Postfix) with ESMTP id 92A4643E99
	for <public@inbox.dpdk.org>; Thu, 18 Apr 2024 05:25:38 +0200 (CEST)
Received: from mails.dpdk.org (localhost [127.0.0.1])
	by mails.dpdk.org (Postfix) with ESMTP id 8EFC840272;
	Thu, 18 Apr 2024 05:25:38 +0200 (CEST)
Received: from mail-oi1-f227.google.com (mail-oi1-f227.google.com
 [209.85.167.227])
 by mails.dpdk.org (Postfix) with ESMTP id 4788B40042
 for <test-report@dpdk.org>; Thu, 18 Apr 2024 05:25:32 +0200 (CEST)
Received: by mail-oi1-f227.google.com with SMTP id
 5614622812f47-3c730f599abso302757b6e.0
 for <test-report@dpdk.org>; Wed, 17 Apr 2024 20:25:32 -0700 (PDT)
DKIM-Signature: v=1; a=rsa-sha256; c=relaxed/relaxed;
 d=iol.unh.edu; s=unh-iol; t=1713410731; x=1714015531; darn=dpdk.org;
 h=references:in-reply-to:cc:to:from:subject:message-id:date:from:to
 :cc:subject:date:message-id:reply-to;
 bh=l1H8aVaCrE2bTogzbotYqoHlmE2Y57RnFqqu90W4qpQ=;
 b=HqZoOdokQ74qm9JqMeEyb3pvoajWuJC9AFZFggUG1JwXYbUimid8PP7Hb7W0tfDnxV
 KJDv4BmUcJq4tXS6uGq4pQwB2u3FULeb5RA+8wU65czuniPm5YJPbmGvNxzu0BlWE1Wv
 9lBzD55MsjgjGta2Ft+2bKYMs6N/p4zV+aQn4=
X-Google-DKIM-Signature: v=1; a=rsa-sha256; c=relaxed/relaxed;
 d=1e100.net; s=20230601; t=1713410731; x=1714015531;
 h=references:in-reply-to:cc:to:from:subject:message-id:date
 :x-gm-message-state:from:to:cc:subject:date:message-id:reply-to;
 bh=l1H8aVaCrE2bTogzbotYqoHlmE2Y57RnFqqu90W4qpQ=;
 b=aTQ9KYLfaCi9GSt7hTRm7seSN5jbG91tfPHqL34PSgZyTfklRy7Qk9uZMm1mrwJ/oY
 iF/dUGxBn8cLlUGp4SSz3Pi+S5VmqyTB83igvlTu5ekDQtcg1fdvpFqvZ4subl5AdMaw
 su+2CCeXCyUnzf+UazhOh+SfYdkJl77koFhMf0E2eFnXO0EFm/Gul2ujpazbQ2j+xxt0
 AsLJuATztqS1xrScVKtEY55svNBijBEPswzn1PhhFxBKS0n696/g1KEkieQogDZcpMkl
 iyJ2cALqYnaDVMFXNvg9iTU6iUyizX1fmeWFB/xedDU2QUUH8hntWMsrb0U8vwyoK/BU
 0+iw==
X-Gm-Message-State: AOJu0YxxOB79zM2RsjgK/O9nQFfo2gAcvjVHd1IxyPoB+Z58g8wfAA2J
 +pWX/yuJF6GF+Jq/ejW8S3WyZPs1CfPHhsu/l42eHV9+afbPgOGYvLPMeNLx6Ek1u8skMWUYSBH
 c0XImCF1Qsnej5jUtBoZYU+JKwP5E7gjqh/Ok6A9GaX+/Yij5qEXru/vT
X-Google-Smtp-Source: AGHT+IGmeygQDsjJby71sNrgm7kf7y4F7HSB6kEMtUH3PwpW1G6QqP9/Ir7OhhcQnBzxkqxYGEOAoLyoH2BX
X-Received: by 2002:a05:6808:a0e:b0:3c6:d4b:5661 with SMTP id
 n14-20020a0568080a0e00b003c60d4b5661mr1491042oij.49.1713410731641; 
 Wed, 17 Apr 2024 20:25:31 -0700 (PDT)
Received: from postal.iol.unh.edu (postal.iol.unh.edu.
 [2606:4100:3880:1234::84]) by smtp-relay.gmail.com with ESMTPS id
 u134-20020a63798c000000b005dc8c121294sm33292pgc.17.2024.04.17.20.25.31
 (version=TLS1_2 cipher=ECDHE-ECDSA-AES128-GCM-SHA256 bits=128/128);
 Wed, 17 Apr 2024 20:25:31 -0700 (PDT)
X-Relaying-Domain: iol.unh.edu
Date: Wed, 17 Apr 2024 20:25:31 -0700 (PDT)
Message-ID: <662092ab.630a0220.5aeb.213aSMTPIN_ADDED_MISSING@mx.google.com>
Received: from [172.17.0.3] (unknown [172.18.0.217])
 by postal.iol.unh.edu (Postfix) with ESMTP id BD1B0604D420;
 Wed, 17 Apr 2024 23:25:30 -0400 (EDT)
Subject: |SUCCESS| pw139455 [PATCH] [v3] mailmap: clean up vmware entries
From: dpdklab@iol.unh.edu
To: Test Report <test-report@dpdk.org>
Cc: dpdk-test-reports@iol.unh.edu
In-Reply-To: <20240417161901.1919433-1-jochen.behrens@broadcom.com>
References: <20240417161901.1919433-1-jochen.behrens@broadcom.com>
Content-Type: text/plain
X-BeenThere: test-report@dpdk.org
X-Mailman-Version: 2.1.29
Precedence: list
List-Id: automatic DPDK test reports <test-report.dpdk.org>
List-Unsubscribe: <https://mails.dpdk.org/options/test-report>,
 <mailto:test-report-request@dpdk.org?subject=unsubscribe>
List-Archive: <http://mails.dpdk.org/archives/test-report/>
List-Post: <mailto:test-report@dpdk.org>
List-Help: <mailto:test-report-request@dpdk.org?subject=help>
List-Subscribe: <https://mails.dpdk.org/listinfo/test-report>,
 <mailto:test-report-request@dpdk.org?subject=subscribe>
Errors-To: test-report-bounces@dpdk.org

Test-Label: iol-unit-amd64-testing
Test-Status: SUCCESS
http://dpdk.org/patch/139455

_Testing PASS_

Submitter: Jochen Behrens <jochen.behrens@broadcom.com>
Date: Wednesday, April 17 2024 16:19:00 
DPDK git baseline: Repo:dpdk
  Branch: master
  CommitID:e2e546ab5bf5e024986ccb5310ab43982f3bb40c

139455 --> testing pass

Test environment and result as below:

+------------------+----------------+
|   Environment    | dpdk_unit_test |
+==================+================+
| CentOS Stream 9  | PASS           |
+------------------+----------------+
| CentOS Stream 8  | PASS           |
+------------------+----------------+
| Debian Bullseye  | PASS           |
+------------------+----------------+
| Debian 12        | PASS           |
+------------------+----------------+
| Fedora 37        | PASS           |
+------------------+----------------+
| Fedora 38        | PASS           |
+------------------+----------------+
| Fedora 39        | PASS           |
+------------------+----------------+
| openSUSE Leap 15 | PASS           |
+------------------+----------------+
| RHEL8            | PASS           |
+------------------+----------------+
| Ubuntu 20.04     | PASS           |
+------------------+----------------+
| Ubuntu 22.04     | PASS           |
+------------------+----------------+


CentOS Stream 9
	Kernel: 5.4.0-167-generic
	Compiler: gcc 11.4.1 20230605

CentOS Stream 8
	Kernel: 5.4.0-167-generic
	Compiler: gcc 8.5.0 20210514

Debian Bullseye
	Kernel: 5.4.0-167-generic
	Compiler: gcc 10.2.1-6

Debian 12
	Kernel: Container Host Kernel
	Compiler: gcc 10.2.1

Fedora 37
	Kernel: Depends on container host system
	Compiler: gcc 12.3.1

Fedora 38
	Kernel: Depends on container host
	Compiler: gcc 13.2.1

Fedora 39
	Kernel: Depends on container host
	Compiler: gcc 13.2.1

openSUSE Leap 15
	Kernel: 5.4.0-167-generic
	Compiler: gcc 7.5.0

RHEL8
	Kernel: 5.4.0-167-generic
	Compiler: gcc 8.5.0 20210514 (Red Hat 8.5.0-20)

Ubuntu 20.04
	Kernel: 5.4.0-167-generic
	Compiler: gcc 9.4.0-1ubuntu1~20.04.1

Ubuntu 22.04
	Kernel: 5.4.0-167-generic
	Compiler: gcc 11.4.0

To view detailed results, visit:
https://lab.dpdk.org/results/dashboard/patchsets/29809/

UNH-IOL DPDK Community Lab

To manage your email subscriptions, visit: 
https://lab.dpdk.org/results/dashboard/preferences/subscriptions/