From mboxrd@z Thu Jan  1 00:00:00 1970
Return-Path: <test-report-bounces@dpdk.org>
Received: from mails.dpdk.org (mails.dpdk.org [217.70.189.124])
	by inbox.dpdk.org (Postfix) with ESMTP id B6E2143E99
	for <public@inbox.dpdk.org>; Thu, 18 Apr 2024 05:58:29 +0200 (CEST)
Received: from mails.dpdk.org (localhost [127.0.0.1])
	by mails.dpdk.org (Postfix) with ESMTP id ADB164014F;
	Thu, 18 Apr 2024 05:58:29 +0200 (CEST)
Received: from mail-oo1-f98.google.com (mail-oo1-f98.google.com
 [209.85.161.98]) by mails.dpdk.org (Postfix) with ESMTP id 1F71E40042
 for <test-report@dpdk.org>; Thu, 18 Apr 2024 05:58:28 +0200 (CEST)
Received: by mail-oo1-f98.google.com with SMTP id
 006d021491bc7-5ac5376c4b2so299682eaf.2
 for <test-report@dpdk.org>; Wed, 17 Apr 2024 20:58:28 -0700 (PDT)
DKIM-Signature: v=1; a=rsa-sha256; c=relaxed/relaxed;
 d=iol.unh.edu; s=unh-iol; t=1713412707; x=1714017507; darn=dpdk.org;
 h=references:in-reply-to:cc:to:from:subject:message-id:date:from:to
 :cc:subject:date:message-id:reply-to;
 bh=LPIlqqRghjbSV2CUfPiT5lRL71JE2qBB7D89qhUcH28=;
 b=C1ETo1g4jtJHKTRruRW/dvm3wXRUqjFWvnbhZ2KMCBFY0+BTB21otQ2AHzHhwkpGhd
 ivvSVr21cs3+eGhB48QFgoZYm7zUuhws3TZu3/OWl/3LgV/ihXAFvQAWkp8pD4dfCszh
 lFjRuSXOSgngdcE3fwQFYehF2K625BAzGQl30=
X-Google-DKIM-Signature: v=1; a=rsa-sha256; c=relaxed/relaxed;
 d=1e100.net; s=20230601; t=1713412707; x=1714017507;
 h=references:in-reply-to:cc:to:from:subject:message-id:date
 :x-gm-message-state:from:to:cc:subject:date:message-id:reply-to;
 bh=LPIlqqRghjbSV2CUfPiT5lRL71JE2qBB7D89qhUcH28=;
 b=Kfk26XSCH/GDvcr7xL7howEAtUVEusJ708fHkn9cMFZzUe+az/BEJn8xBqlEnRyUb0
 cptI0883iJwyAsliE9tko8q2Y7BZkPDmPr8CMsZWfPspEjRlBXMDiD7cwPiP8MVZCHpG
 dctmQjgB50S82vcyzTp5ypwyJA8s+1YzyjVkspIFm35bSiVoRKo2iOHNc25Xl2xi894L
 cxotByO4Am1c34q/jCCK8D0xdWI0URSpOyTndJ5pPK256bl41QD9t7SO65qeua02VISi
 XuOH+f+cmLKXsaHBi0r1S5tMmj8u0+pBT1cu33FZDapvZzlFNmAniVDcaR8uNn+R6s0b
 UEkQ==
X-Gm-Message-State: AOJu0Yy/2QvP92L+c+HOQnePo1r9PoEP2IdVBtxR2DB8ezh+3j7QPqlg
 iyK+0aqq73CAG2moSneFR0Mw8Cej0m59WlUWW6blIuKMQ2q68AeALfNNP2Y2c4p5eTT53jvjJef
 AagU8/HAvFkq+u30P4V8HFOEsqPKXgICTsYDpsWckl5bn2qUFBm5GgIMq
X-Google-Smtp-Source: AGHT+IHDxse6ENflWSLwAWzwiOEOJqbSdjD7YqNcyuMW2n0IKZXKGBHuUm3ri8fWwtMmJCIZzmoFn6T8wSIQ
X-Received: by 2002:a05:6358:688b:b0:183:b879:389d with SMTP id
 z11-20020a056358688b00b00183b879389dmr1425694rwh.11.1713412707335; 
 Wed, 17 Apr 2024 20:58:27 -0700 (PDT)
Received: from postal.iol.unh.edu (postal.iol.unh.edu.
 [2606:4100:3880:1234::84]) by smtp-relay.gmail.com with ESMTPS id
 s10-20020a056638218a00b0047c241fd62asm44422jaj.60.2024.04.17.20.58.27
 (version=TLS1_2 cipher=ECDHE-ECDSA-AES128-GCM-SHA256 bits=128/128);
 Wed, 17 Apr 2024 20:58:27 -0700 (PDT)
X-Relaying-Domain: iol.unh.edu
Date: Wed, 17 Apr 2024 20:58:27 -0700 (PDT)
Message-ID: <66209a63.050a0220.d4dc0.26b8SMTPIN_ADDED_MISSING@mx.google.com>
Received: from [172.17.0.3] (unknown [172.18.0.217])
 by postal.iol.unh.edu (Postfix) with ESMTP id 97036604D420;
 Wed, 17 Apr 2024 23:58:26 -0400 (EDT)
Subject: |SUCCESS| pw139455 [PATCH] [v3] mailmap: clean up vmware entries
From: dpdklab@iol.unh.edu
To: Test Report <test-report@dpdk.org>
Cc: dpdk-test-reports@iol.unh.edu
In-Reply-To: <20240417161901.1919433-1-jochen.behrens@broadcom.com>
References: <20240417161901.1919433-1-jochen.behrens@broadcom.com>
Content-Type: text/plain
X-BeenThere: test-report@dpdk.org
X-Mailman-Version: 2.1.29
Precedence: list
List-Id: automatic DPDK test reports <test-report.dpdk.org>
List-Unsubscribe: <https://mails.dpdk.org/options/test-report>,
 <mailto:test-report-request@dpdk.org?subject=unsubscribe>
List-Archive: <http://mails.dpdk.org/archives/test-report/>
List-Post: <mailto:test-report@dpdk.org>
List-Help: <mailto:test-report-request@dpdk.org?subject=help>
List-Subscribe: <https://mails.dpdk.org/listinfo/test-report>,
 <mailto:test-report-request@dpdk.org?subject=subscribe>
Errors-To: test-report-bounces@dpdk.org

Test-Label: iol-unit-arm64-testing
Test-Status: SUCCESS
http://dpdk.org/patch/139455

_Testing PASS_

Submitter: Jochen Behrens <jochen.behrens@broadcom.com>
Date: Wednesday, April 17 2024 16:19:00 
DPDK git baseline: Repo:dpdk
  Branch: master
  CommitID:e2e546ab5bf5e024986ccb5310ab43982f3bb40c

139455 --> testing pass

Test environment and result as below:

+-----------------------------+----------------+--------------+---------------------------+
|         Environment         | dpdk_unit_test | lpm_autotest | cryptodev_sw_zuc_autotest |
+=============================+================+==============+===========================+
| 32-bit Ubuntu 20.04.4 (ARM) | PASS           | SKIPPED      | SKIPPED                   |
+-----------------------------+----------------+--------------+---------------------------+
| CentOS Stream 9 (ARM)       | PASS           | SKIPPED      | SKIPPED                   |
+-----------------------------+----------------+--------------+---------------------------+
| Debian 11 (Buster) (ARM)    | PASS           | SKIPPED      | SKIPPED                   |
+-----------------------------+----------------+--------------+---------------------------+
| Debian 12 (arm)             | PASS           | SKIPPED      | PASS                      |
+-----------------------------+----------------+--------------+---------------------------+
| Fedora 37 (ARM)             | PASS           | SKIPPED      | SKIPPED                   |
+-----------------------------+----------------+--------------+---------------------------+
| Fedora 38 (ARM)             | PASS           | SKIPPED      | SKIPPED                   |
+-----------------------------+----------------+--------------+---------------------------+
| Fedora 39 (ARM)             | PASS           | SKIPPED      | SKIPPED                   |
+-----------------------------+----------------+--------------+---------------------------+
| Ubuntu 20.04 ARM SVE        | SKIPPED        | PASS         | SKIPPED                   |
+-----------------------------+----------------+--------------+---------------------------+


32-bit Ubuntu 20.04.4 (ARM)
	Kernel: 5.4.0-155-generic aarch64
	Compiler: gcc 9.4

CentOS Stream 9 (ARM)
	Kernel: Container Host Kernel
	Compiler: gcc 11.4.1

Debian 11 (Buster) (ARM)
	Kernel: Container Host Kernel
	Compiler: gcc 10.2.1

Debian 12 (arm)
	Kernel: Container Host Kernel
	Compiler: gcc 12.2.0

Fedora 37 (ARM)
	Kernel: Depends on container host
	Compiler: gcc 12.3.1

Fedora 38 (ARM)
	Kernel: Depends on container host
	Compiler: gcc 13.2.1

Fedora 39 (ARM)
	Kernel: Depends on container host
	Compiler: gcc 13.2.1

Ubuntu 20.04 ARM SVE
	Kernel: 5.4.0-167-generic
	Compiler: gcc (Ubuntu 10.5.0-1ubuntu1~20.04) 10.5.0

To view detailed results, visit:
https://lab.dpdk.org/results/dashboard/patchsets/29809/

UNH-IOL DPDK Community Lab

To manage your email subscriptions, visit: 
https://lab.dpdk.org/results/dashboard/preferences/subscriptions/