From mboxrd@z Thu Jan  1 00:00:00 1970
Return-Path: <test-report-bounces@dpdk.org>
Received: from mails.dpdk.org (mails.dpdk.org [217.70.189.124])
	by inbox.dpdk.org (Postfix) with ESMTP id BD50843E9E
	for <public@inbox.dpdk.org>; Thu, 18 Apr 2024 11:36:59 +0200 (CEST)
Received: from mails.dpdk.org (localhost [127.0.0.1])
	by mails.dpdk.org (Postfix) with ESMTP id B7834402D0;
	Thu, 18 Apr 2024 11:36:59 +0200 (CEST)
Received: from mail-io1-f100.google.com (mail-io1-f100.google.com
 [209.85.166.100])
 by mails.dpdk.org (Postfix) with ESMTP id D868540042
 for <test-report@dpdk.org>; Thu, 18 Apr 2024 11:36:57 +0200 (CEST)
Received: by mail-io1-f100.google.com with SMTP id
 ca18e2360f4ac-7d622edf790so22643139f.1
 for <test-report@dpdk.org>; Thu, 18 Apr 2024 02:36:57 -0700 (PDT)
DKIM-Signature: v=1; a=rsa-sha256; c=relaxed/relaxed;
 d=iol.unh.edu; s=unh-iol; t=1713433017; x=1714037817; darn=dpdk.org;
 h=references:in-reply-to:cc:to:from:subject:message-id:date:from:to
 :cc:subject:date:message-id:reply-to;
 bh=TWTk9AI3UaGVPcA4G7G9LRwwjgCHCIXWCvRuuGMGCyU=;
 b=C0bP8NFnO1PmCQaw/bUmpqhHPxcn4M7/pfhzSxTIUH5DtTLtDl5P8FUxt9kfnt2GrK
 1+gZwt6HZbtJNaWIndWrNYYfLz87LuEgwYGjrLpIP9KrKjEMoXOVblK7hUff2Ua7NCIt
 C1UCvaqyKGfho73Q7pDoqM2EmPQz/RsTIfqAI=
X-Google-DKIM-Signature: v=1; a=rsa-sha256; c=relaxed/relaxed;
 d=1e100.net; s=20230601; t=1713433017; x=1714037817;
 h=references:in-reply-to:cc:to:from:subject:message-id:date
 :x-gm-message-state:from:to:cc:subject:date:message-id:reply-to;
 bh=TWTk9AI3UaGVPcA4G7G9LRwwjgCHCIXWCvRuuGMGCyU=;
 b=b9vfL8dErByUtmkc80ltNTXrg/x4pJOuZca4EMIyvAIMQBXrdi0NgtA/lQGvcUj6kQ
 fczgn9vrPUZomSJypHBARTm97uzSnFsGrr9tev6VFT7Au6iUfW+h0htwt3r6RUufWB2S
 EqZBye2obRLZVn4h4G8sSLCNL3BvxV5Sqfd4ljDoE5D4NBVS+pIcXwcEUb+uhf4K+yP6
 vDiD4ezTDttrMJtYJAp6Zqs8b5tTGiCiSX/tJL8cheazOsqgFu1Xta4NCgqX0f1jG/wY
 Tismq0HfbKrMrlnQ4wzwAf0SA/oE6GCQtH2bLnLUuX2kflJPPThPwc5Vcg3zmYq23m7j
 i03w==
X-Gm-Message-State: AOJu0YwUjwBQcVK68W7TMEX6JSx5OxOdSbWg6PdjT0POdVQHi3s3kYrC
 FOrXVhWe8CCZ/1eyL1zMR4Y47oWahNJfVX2BHeDHyrGLSrWmYcFdZImfbjLf7LfO2Qlf6BXOwnF
 scScISXHVgLtLdz2gesXwByE428lUQYwP6L5d8lva1F+lMiJgZdKjqb0t
X-Google-Smtp-Source: AGHT+IFw8qiU6TWqwa9l6N+Ka0BMGU421yJdKBol7GjaiwZTlDZW3+qTHNusBxXNSSmrX0GQVHcXkRGr+XRN
X-Received: by 2002:a05:6e02:219d:b0:36b:2c27:c52b with SMTP id
 j29-20020a056e02219d00b0036b2c27c52bmr2570120ila.16.1713433017156; 
 Thu, 18 Apr 2024 02:36:57 -0700 (PDT)
Received: from postal.iol.unh.edu (postal.iol.unh.edu.
 [2606:4100:3880:1234::84]) by smtp-relay.gmail.com with ESMTPS id
 d3-20020a928743000000b0036b1fde889dsm62697ilm.44.2024.04.18.02.36.57
 (version=TLS1_2 cipher=ECDHE-ECDSA-AES128-GCM-SHA256 bits=128/128);
 Thu, 18 Apr 2024 02:36:57 -0700 (PDT)
X-Relaying-Domain: iol.unh.edu
Date: Thu, 18 Apr 2024 02:36:57 -0700 (PDT)
Message-ID: <6620e9b9.920a0220.a9b9e.2a9bSMTPIN_ADDED_MISSING@mx.google.com>
Received: from [172.17.0.3] (unknown [172.18.0.217])
 by postal.iol.unh.edu (Postfix) with ESMTP id 8F0596052514;
 Thu, 18 Apr 2024 05:36:56 -0400 (EDT)
Subject: |SUCCESS| pw139481-139487 [PATCH] [v3,7/7] net: clear outer UDP chec
From: dpdklab@iol.unh.edu
To: Test Report <test-report@dpdk.org>
Cc: dpdk-test-reports@iol.unh.edu
In-Reply-To: <20240418082023.1767998-8-david.marchand@redhat.com>
References: <20240418082023.1767998-8-david.marchand@redhat.com>
Content-Type: text/plain
X-BeenThere: test-report@dpdk.org
X-Mailman-Version: 2.1.29
Precedence: list
List-Id: automatic DPDK test reports <test-report.dpdk.org>
List-Unsubscribe: <https://mails.dpdk.org/options/test-report>,
 <mailto:test-report-request@dpdk.org?subject=unsubscribe>
List-Archive: <http://mails.dpdk.org/archives/test-report/>
List-Post: <mailto:test-report@dpdk.org>
List-Help: <mailto:test-report-request@dpdk.org?subject=help>
List-Subscribe: <https://mails.dpdk.org/listinfo/test-report>,
 <mailto:test-report-request@dpdk.org?subject=subscribe>
Errors-To: test-report-bounces@dpdk.org

Test-Label: iol-compile-amd64-testing
Test-Status: SUCCESS
http://dpdk.org/patch/139487

_Testing PASS_

Submitter: David Marchand <david.marchand@redhat.com>
Date: Thursday, April 18 2024 08:20:21 
DPDK git baseline: Repo:dpdk
  Branch: master
  CommitID:ea9b0f7277acc931ced3fee4a3ee087a26ee1401

139481-139487 --> testing pass

Test environment and result as below:

+---------------------+--------------------+-------------------+----------------------+
|     Environment     | dpdk_meson_compile | dpdk_msvc_compile | dpdk_mingw64_compile |
+=====================+====================+===================+======================+
| Debian Bullseye     | PASS               | SKIPPED           | SKIPPED              |
+---------------------+--------------------+-------------------+----------------------+
| CentOS Stream 8     | PASS               | SKIPPED           | SKIPPED              |
+---------------------+--------------------+-------------------+----------------------+
| CentOS Stream 9     | PASS               | SKIPPED           | SKIPPED              |
+---------------------+--------------------+-------------------+----------------------+
| Debian 12           | PASS               | SKIPPED           | SKIPPED              |
+---------------------+--------------------+-------------------+----------------------+
| Fedora 39           | PASS               | SKIPPED           | SKIPPED              |
+---------------------+--------------------+-------------------+----------------------+
| openSUSE Leap 15    | PASS               | SKIPPED           | SKIPPED              |
+---------------------+--------------------+-------------------+----------------------+
| Fedora 38           | PASS               | SKIPPED           | SKIPPED              |
+---------------------+--------------------+-------------------+----------------------+
| Windows Server 2019 | PASS               | SKIPPED           | PASS                 |
+---------------------+--------------------+-------------------+----------------------+
| Windows Server 2022 | PASS               | PASS              | PASS                 |
+---------------------+--------------------+-------------------+----------------------+
| Ubuntu 22.04        | PASS               | SKIPPED           | SKIPPED              |
+---------------------+--------------------+-------------------+----------------------+
| FreeBSD 13.2        | PASS               | SKIPPED           | SKIPPED              |
+---------------------+--------------------+-------------------+----------------------+
| RHEL8               | PASS               | SKIPPED           | SKIPPED              |
+---------------------+--------------------+-------------------+----------------------+
| Ubuntu 20.04        | PASS               | SKIPPED           | SKIPPED              |
+---------------------+--------------------+-------------------+----------------------+
| Alpine              | PASS               | SKIPPED           | SKIPPED              |
+---------------------+--------------------+-------------------+----------------------+
| Fedora 37           | PASS               | SKIPPED           | SKIPPED              |
+---------------------+--------------------+-------------------+----------------------+


Debian Bullseye
	Kernel: 5.4.0-167-generic
	Compiler: gcc 10.2.1-6

CentOS Stream 8
	Kernel: 5.4.0-167-generic
	Compiler: gcc 8.5.0 20210514

CentOS Stream 9
	Kernel: 5.4.0-167-generic
	Compiler: gcc 11.4.1 20230605

Debian 12
	Kernel: Container Host Kernel
	Compiler: gcc 10.2.1

Fedora 39
	Kernel: Depends on container host
	Compiler: gcc 13.2.1

openSUSE Leap 15
	Kernel: 5.4.0-167-generic
	Compiler: gcc 7.5.0

Fedora 38
	Kernel: Depends on container host
	Compiler: gcc 13.2.1

Windows Server 2019
	Kernel: 10.0.17763
	Compiler: clang 14.0 and gcc 8.1.0 (MinGW)

Windows Server 2022
	Kernel: 10.0.20348.2031
	Compiler: clang 15.0.7, gcc 8.1.0 (MinGW), and MSVC VS 17.9

Ubuntu 22.04
	Kernel: 5.4.0-167-generic
	Compiler: gcc 11.4.0

FreeBSD 13.2
	Kernel: 13.2
	Compiler: clang 14.0.5

RHEL8
	Kernel: 5.4.0-167-generic
	Compiler: gcc 8.5.0 20210514 (Red Hat 8.5.0-20)

Ubuntu 20.04
	Kernel: 5.4.0-167-generic
	Compiler: gcc 9.4.0-1ubuntu1~20.04.1

Alpine
	Kernel: 5.4.0-167-generic
	Compiler: gcc (Alpine 12.2.1_git20220924-r10) 12.2.1 20220924

Fedora 37
	Kernel: Depends on container host system
	Compiler: gcc 12.3.1

To view detailed results, visit:
https://lab.dpdk.org/results/dashboard/patchsets/29816/

UNH-IOL DPDK Community Lab

To manage your email subscriptions, visit: 
https://lab.dpdk.org/results/dashboard/preferences/subscriptions/