From mboxrd@z Thu Jan  1 00:00:00 1970
Return-Path: <test-report-bounces@dpdk.org>
Received: from mails.dpdk.org (mails.dpdk.org [217.70.189.124])
	by inbox.dpdk.org (Postfix) with ESMTP id 94A5743E9E
	for <public@inbox.dpdk.org>; Thu, 18 Apr 2024 11:38:48 +0200 (CEST)
Received: from mails.dpdk.org (localhost [127.0.0.1])
	by mails.dpdk.org (Postfix) with ESMTP id 90A0F402D0;
	Thu, 18 Apr 2024 11:38:48 +0200 (CEST)
Received: from mail-qv1-f100.google.com (mail-qv1-f100.google.com
 [209.85.219.100])
 by mails.dpdk.org (Postfix) with ESMTP id 26C6F40042
 for <test-report@dpdk.org>; Thu, 18 Apr 2024 11:38:43 +0200 (CEST)
Received: by mail-qv1-f100.google.com with SMTP id
 6a1803df08f44-69b44071a07so5607886d6.3
 for <test-report@dpdk.org>; Thu, 18 Apr 2024 02:38:43 -0700 (PDT)
DKIM-Signature: v=1; a=rsa-sha256; c=relaxed/relaxed;
 d=iol.unh.edu; s=unh-iol; t=1713433122; x=1714037922; darn=dpdk.org;
 h=references:in-reply-to:cc:to:from:subject:message-id:date:from:to
 :cc:subject:date:message-id:reply-to;
 bh=TWTk9AI3UaGVPcA4G7G9LRwwjgCHCIXWCvRuuGMGCyU=;
 b=gY1/pdkg5g1MB8Myz0uoRHJic3qpZlD1qwoXgEubdvMpoYp/cI3JVW56P0b4Jr7cu9
 G08UhlUvkkq2noOPQTaFtRgv0Bz17GOllE4rR69qzhye/+4ELegnY5WY/RjNUyqOjCJD
 kZOD7s/5jyfXFSmsLm7D8l4aruEVBim9rSG60=
X-Google-DKIM-Signature: v=1; a=rsa-sha256; c=relaxed/relaxed;
 d=1e100.net; s=20230601; t=1713433122; x=1714037922;
 h=references:in-reply-to:cc:to:from:subject:message-id:date
 :x-gm-message-state:from:to:cc:subject:date:message-id:reply-to;
 bh=TWTk9AI3UaGVPcA4G7G9LRwwjgCHCIXWCvRuuGMGCyU=;
 b=e90owe/Up+UKtziOYnNo1BBaMl5WTNhz+qIphx3kNEuP8Bq/Qm+Xw6r0Xk5ye7PWcx
 WG9PM9QEw6q0YmoGRPLBdLw34arZpAIzefICKFVKR6PjmLfcBRx+aP7y2Nn6KMX5JPxP
 5sZX8Fqkds0Ab6nLwoBuojT82PTpgGOlG9yBy1S3bVbEuomFXxpV6Idby0N4rWU2gCrg
 i8T/o0xqp/uVvqutpw7pL9f76wiZuYMN0KIajbqGdIYV/cXIz6j1H/DSuygDda7iig9R
 7UaY1EgFi7mgTnjojtZR9KwQkneHfeTULdqxqy6rQhSFvRr6RXSC/oD0fHTytFBq/Rlp
 1GWQ==
X-Gm-Message-State: AOJu0Yye3GQKL5wMZBkN/SrEyE105gkJmFr9pkkjzKK6xDC4l9v1AAK9
 bJE7HoTCPCBbtVZRNdxQMUBD3vPESsVKSIkMk/zDe7qS1hdGCLc/3i+lFGE7fThVbapkAuhqBGy
 76LFO2F0JUA+Fah17ZW+SiWUKsKYxhf6VsjE/L0EzR4r+S83zZ8oKRqLU
X-Google-Smtp-Source: AGHT+IG4xuj612uBq5UefzSN1k1HHXF1e4a11Oowo8+pdGWhPyanU3h/3SU26RVbaCOQVqWh5HAuBDg1WOxw
X-Received: by 2002:ad4:514d:0:b0:6a0:559a:8fc1 with SMTP id
 g13-20020ad4514d000000b006a0559a8fc1mr1330553qvq.20.1713433122645; 
 Thu, 18 Apr 2024 02:38:42 -0700 (PDT)
Received: from postal.iol.unh.edu (postal.iol.unh.edu.
 [2606:4100:3880:1234::84]) by smtp-relay.gmail.com with ESMTPS id
 jm12-20020ad45ecc000000b00699217414bbsm84351qvb.28.2024.04.18.02.38.42
 (version=TLS1_2 cipher=ECDHE-ECDSA-AES128-GCM-SHA256 bits=128/128);
 Thu, 18 Apr 2024 02:38:42 -0700 (PDT)
X-Relaying-Domain: iol.unh.edu
Date: Thu, 18 Apr 2024 02:38:42 -0700 (PDT)
Message-ID: <6620ea22.d40a0220.4ecfc.4231SMTPIN_ADDED_MISSING@mx.google.com>
Received: from [172.17.0.4] (unknown [172.18.0.217])
 by postal.iol.unh.edu (Postfix) with ESMTP id 586B96052514;
 Thu, 18 Apr 2024 05:38:42 -0400 (EDT)
Subject: |SUCCESS| pw139481-139487 [PATCH] [v3,7/7] net: clear outer UDP chec
From: dpdklab@iol.unh.edu
To: Test Report <test-report@dpdk.org>
Cc: dpdk-test-reports@iol.unh.edu
In-Reply-To: <20240418082023.1767998-8-david.marchand@redhat.com>
References: <20240418082023.1767998-8-david.marchand@redhat.com>
Content-Type: text/plain
X-BeenThere: test-report@dpdk.org
X-Mailman-Version: 2.1.29
Precedence: list
List-Id: automatic DPDK test reports <test-report.dpdk.org>
List-Unsubscribe: <https://mails.dpdk.org/options/test-report>,
 <mailto:test-report-request@dpdk.org?subject=unsubscribe>
List-Archive: <http://mails.dpdk.org/archives/test-report/>
List-Post: <mailto:test-report@dpdk.org>
List-Help: <mailto:test-report-request@dpdk.org?subject=help>
List-Subscribe: <https://mails.dpdk.org/listinfo/test-report>,
 <mailto:test-report-request@dpdk.org?subject=subscribe>
Errors-To: test-report-bounces@dpdk.org

Test-Label: iol-compile-amd64-testing
Test-Status: SUCCESS
http://dpdk.org/patch/139487

_Testing PASS_

Submitter: David Marchand <david.marchand@redhat.com>
Date: Thursday, April 18 2024 08:20:21 
DPDK git baseline: Repo:dpdk
  Branch: master
  CommitID:ea9b0f7277acc931ced3fee4a3ee087a26ee1401

139481-139487 --> testing pass

Test environment and result as below:

+---------------------+--------------------+-------------------+----------------------+
|     Environment     | dpdk_meson_compile | dpdk_msvc_compile | dpdk_mingw64_compile |
+=====================+====================+===================+======================+
| Debian Bullseye     | PASS               | SKIPPED           | SKIPPED              |
+---------------------+--------------------+-------------------+----------------------+
| CentOS Stream 8     | PASS               | SKIPPED           | SKIPPED              |
+---------------------+--------------------+-------------------+----------------------+
| CentOS Stream 9     | PASS               | SKIPPED           | SKIPPED              |
+---------------------+--------------------+-------------------+----------------------+
| Debian 12           | PASS               | SKIPPED           | SKIPPED              |
+---------------------+--------------------+-------------------+----------------------+
| Fedora 39           | PASS               | SKIPPED           | SKIPPED              |
+---------------------+--------------------+-------------------+----------------------+
| openSUSE Leap 15    | PASS               | SKIPPED           | SKIPPED              |
+---------------------+--------------------+-------------------+----------------------+
| Fedora 38           | PASS               | SKIPPED           | SKIPPED              |
+---------------------+--------------------+-------------------+----------------------+
| Windows Server 2019 | PASS               | SKIPPED           | PASS                 |
+---------------------+--------------------+-------------------+----------------------+
| Windows Server 2022 | PASS               | PASS              | PASS                 |
+---------------------+--------------------+-------------------+----------------------+
| Ubuntu 22.04        | PASS               | SKIPPED           | SKIPPED              |
+---------------------+--------------------+-------------------+----------------------+
| FreeBSD 13.2        | PASS               | SKIPPED           | SKIPPED              |
+---------------------+--------------------+-------------------+----------------------+
| RHEL8               | PASS               | SKIPPED           | SKIPPED              |
+---------------------+--------------------+-------------------+----------------------+
| Ubuntu 20.04        | PASS               | SKIPPED           | SKIPPED              |
+---------------------+--------------------+-------------------+----------------------+
| Alpine              | PASS               | SKIPPED           | SKIPPED              |
+---------------------+--------------------+-------------------+----------------------+
| Fedora 37           | PASS               | SKIPPED           | SKIPPED              |
+---------------------+--------------------+-------------------+----------------------+


Debian Bullseye
	Kernel: 5.4.0-167-generic
	Compiler: gcc 10.2.1-6

CentOS Stream 8
	Kernel: 5.4.0-167-generic
	Compiler: gcc 8.5.0 20210514

CentOS Stream 9
	Kernel: 5.4.0-167-generic
	Compiler: gcc 11.4.1 20230605

Debian 12
	Kernel: Container Host Kernel
	Compiler: gcc 10.2.1

Fedora 39
	Kernel: Depends on container host
	Compiler: gcc 13.2.1

openSUSE Leap 15
	Kernel: 5.4.0-167-generic
	Compiler: gcc 7.5.0

Fedora 38
	Kernel: Depends on container host
	Compiler: gcc 13.2.1

Windows Server 2019
	Kernel: 10.0.17763
	Compiler: clang 14.0 and gcc 8.1.0 (MinGW)

Windows Server 2022
	Kernel: 10.0.20348.2031
	Compiler: clang 15.0.7, gcc 8.1.0 (MinGW), and MSVC VS 17.9

Ubuntu 22.04
	Kernel: 5.4.0-167-generic
	Compiler: gcc 11.4.0

FreeBSD 13.2
	Kernel: 13.2
	Compiler: clang 14.0.5

RHEL8
	Kernel: 5.4.0-167-generic
	Compiler: gcc 8.5.0 20210514 (Red Hat 8.5.0-20)

Ubuntu 20.04
	Kernel: 5.4.0-167-generic
	Compiler: gcc 9.4.0-1ubuntu1~20.04.1

Alpine
	Kernel: 5.4.0-167-generic
	Compiler: gcc (Alpine 12.2.1_git20220924-r10) 12.2.1 20220924

Fedora 37
	Kernel: Depends on container host system
	Compiler: gcc 12.3.1

To view detailed results, visit:
https://lab.dpdk.org/results/dashboard/patchsets/29816/

UNH-IOL DPDK Community Lab

To manage your email subscriptions, visit: 
https://lab.dpdk.org/results/dashboard/preferences/subscriptions/