From mboxrd@z Thu Jan  1 00:00:00 1970
Return-Path: <test-report-bounces@dpdk.org>
Received: from mails.dpdk.org (mails.dpdk.org [217.70.189.124])
	by inbox.dpdk.org (Postfix) with ESMTP id 85ABE43E9E
	for <public@inbox.dpdk.org>; Thu, 18 Apr 2024 11:50:46 +0200 (CEST)
Received: from mails.dpdk.org (localhost [127.0.0.1])
	by mails.dpdk.org (Postfix) with ESMTP id 822C5402CC;
	Thu, 18 Apr 2024 11:50:46 +0200 (CEST)
Received: from mail-yw1-f225.google.com (mail-yw1-f225.google.com
 [209.85.128.225])
 by mails.dpdk.org (Postfix) with ESMTP id 632E740042
 for <test-report@dpdk.org>; Thu, 18 Apr 2024 11:50:43 +0200 (CEST)
Received: by mail-yw1-f225.google.com with SMTP id
 00721157ae682-617dfcf80aeso6277697b3.3
 for <test-report@dpdk.org>; Thu, 18 Apr 2024 02:50:43 -0700 (PDT)
DKIM-Signature: v=1; a=rsa-sha256; c=relaxed/relaxed;
 d=iol.unh.edu; s=unh-iol; t=1713433843; x=1714038643; darn=dpdk.org;
 h=references:in-reply-to:cc:to:from:subject:message-id:date:from:to
 :cc:subject:date:message-id:reply-to;
 bh=nOdoCc0f1ElR6yUaNNh659KEe2xt+Z9q/mK5i1QHHq4=;
 b=OhgUgY8wA6KA1xRJldptoV0lcGrUiA6Lx4YYz4m9ZzGl/1obK/vh8i25gMmxVl0Y4X
 YC14L0NOBpEQhFnBv3hF3MB2HNzE1QFx5cGOGJAhmIHY9ZAMVpt5outOXxFcXGwaGRbt
 XAV8WQuenEZa1SllWrqGdYdsBrFUq6DHs6KSM=
X-Google-DKIM-Signature: v=1; a=rsa-sha256; c=relaxed/relaxed;
 d=1e100.net; s=20230601; t=1713433843; x=1714038643;
 h=references:in-reply-to:cc:to:from:subject:message-id:date
 :x-gm-message-state:from:to:cc:subject:date:message-id:reply-to;
 bh=nOdoCc0f1ElR6yUaNNh659KEe2xt+Z9q/mK5i1QHHq4=;
 b=AhizfSKmmMhKwQNwD3p220yqU6S1NvjXGa2FfXUg+aozC/D5EJBXt/nkprg4ADUDka
 /IxdwFMbwEBf/6hXWgkrVCs5dv/n0s2yge5/blrJBxx7wG6KeBGFK7J/AWEjraj2JZQ6
 t+lPiedEPBjTHE/scsvJBRgx+BsvnGaDYX1kxpdO/QmiJzTklqg6gJatj/55s890Iunp
 gV5jS46mJmp6UDpkTG3a80o8AF3H80WEF32X4Y2G2KLBEM/VYuYk34XIGmxt6fcGlUsc
 DkjLajmeXmDHyYItYeRs1p3GCGSJqTJC9K+4dPqfl4UENEExkiKaTF0+Ier1CZr3iU0u
 +80g==
X-Gm-Message-State: AOJu0YysoljVWKlJ07SyWCEqHWlCUhHv1n+QbnOcP7/r81Ys7zWZPwaI
 1iO1oMOHqMTuIr+e2XQMAUo7m/qUU61tluGuhbI2v/be/kia7jVNK/h/YpmhULZsr1zud6W62AK
 PDuXY59/yi08gyb5IgO1m3LBNtee7Ib3agG2pq9FKoybIAx10hlF+Xi/c
X-Google-Smtp-Source: AGHT+IF/lKUWMRqLoYq9dX8e7tV7Ur2s1QDhQ00F43m9TZMuJDariIVo0rI3kVSlE7Kgywn/KTOFu5CklPJQ
X-Received: by 2002:a05:690c:6082:b0:615:ecc:91c0 with SMTP id
 hg2-20020a05690c608200b006150ecc91c0mr2161179ywb.20.1713433841882; 
 Thu, 18 Apr 2024 02:50:41 -0700 (PDT)
Received: from postal.iol.unh.edu (postal.iol.unh.edu.
 [2606:4100:3880:1234::84]) by smtp-relay.gmail.com with ESMTPS id
 t83-20020a0dea56000000b006143ed51954sm84969ywe.65.2024.04.18.02.50.41
 (version=TLS1_2 cipher=ECDHE-ECDSA-AES128-GCM-SHA256 bits=128/128);
 Thu, 18 Apr 2024 02:50:41 -0700 (PDT)
X-Relaying-Domain: iol.unh.edu
Date: Thu, 18 Apr 2024 02:50:41 -0700 (PDT)
Message-ID: <6620ecf1.0d0a0220.90152.42e9SMTPIN_ADDED_MISSING@mx.google.com>
Received: from [172.17.0.2] (unknown [172.18.0.217])
 by postal.iol.unh.edu (Postfix) with ESMTP id 91EA96052514;
 Thu, 18 Apr 2024 05:50:41 -0400 (EDT)
Subject: |SUCCESS| pw139481-139487 [PATCH] [v3,7/7] net: clear outer UDP chec
From: dpdklab@iol.unh.edu
To: Test Report <test-report@dpdk.org>
Cc: dpdk-test-reports@iol.unh.edu
In-Reply-To: <20240418082023.1767998-8-david.marchand@redhat.com>
References: <20240418082023.1767998-8-david.marchand@redhat.com>
Content-Type: text/plain
X-BeenThere: test-report@dpdk.org
X-Mailman-Version: 2.1.29
Precedence: list
List-Id: automatic DPDK test reports <test-report.dpdk.org>
List-Unsubscribe: <https://mails.dpdk.org/options/test-report>,
 <mailto:test-report-request@dpdk.org?subject=unsubscribe>
List-Archive: <http://mails.dpdk.org/archives/test-report/>
List-Post: <mailto:test-report@dpdk.org>
List-Help: <mailto:test-report-request@dpdk.org?subject=help>
List-Subscribe: <https://mails.dpdk.org/listinfo/test-report>,
 <mailto:test-report-request@dpdk.org?subject=subscribe>
Errors-To: test-report-bounces@dpdk.org

Test-Label: iol-compile-arm64-testing
Test-Status: SUCCESS
http://dpdk.org/patch/139487

_Testing PASS_

Submitter: David Marchand <david.marchand@redhat.com>
Date: Thursday, April 18 2024 08:20:21 
DPDK git baseline: Repo:dpdk
  Branch: master
  CommitID:ea9b0f7277acc931ced3fee4a3ee087a26ee1401

139481-139487 --> testing pass

Test environment and result as below:

+----------------------------------------+--------------------+
|              Environment               | dpdk_meson_compile |
+========================================+====================+
| Ubuntu 20.04 ARM SVE                   | PASS               |
+----------------------------------------+--------------------+
| Debian 12 with MUSDK                   | PASS               |
+----------------------------------------+--------------------+
| Ubuntu 20.04 ARM GCC Cross Compile     | PASS               |
+----------------------------------------+--------------------+
| Ubuntu 20.04 ARM Clang Cross Compile   | PASS               |
+----------------------------------------+--------------------+
| Ubuntu 20.04 aarch32 GCC Cross Compile | PASS               |
+----------------------------------------+--------------------+
| Fedora 37 (ARM)                        | PASS               |
+----------------------------------------+--------------------+
| Fedora 38 (ARM)                        | PASS               |
+----------------------------------------+--------------------+
| Ubuntu 20.04 (ARM)                     | PASS               |
+----------------------------------------+--------------------+
| Fedora 39 (ARM)                        | PASS               |
+----------------------------------------+--------------------+
| Debian 11 (Buster) (ARM)               | PASS               |
+----------------------------------------+--------------------+
| Debian 12 (arm)                        | PASS               |
+----------------------------------------+--------------------+
| CentOS Stream 9 (ARM)                  | PASS               |
+----------------------------------------+--------------------+


Ubuntu 20.04 ARM SVE
	Kernel: 5.4.0-167-generic
	Compiler: gcc (Ubuntu 10.5.0-1ubuntu1~20.04) 10.5.0

Debian 12 with MUSDK
	Kernel: Container Host Kernel
	Compiler: gcc 12.2.0

Ubuntu 20.04 ARM GCC Cross Compile
	Kernel: 5.4.0-167-generic
	Compiler: aarch64-linux-gnu-gcc (Ubuntu 9.4.0-1ubuntu1~20.04.2) 9.4.0

Ubuntu 20.04 ARM Clang Cross Compile
	Kernel: 5.4.0-72-generic
	Compiler: clang 10.0.0-4ubuntu1

Ubuntu 20.04 aarch32 GCC Cross Compile
	Kernel: 5.4.0-167-generic
	Compiler: gcc 9.4.0

Fedora 37 (ARM)
	Kernel: Depends on container host
	Compiler: gcc 12.3.1

Fedora 38 (ARM)
	Kernel: Depends on container host
	Compiler: gcc 13.2.1

Ubuntu 20.04 (ARM)
	Kernel: Container Host Kernel
	Compiler: gcc 9.4.0

Fedora 39 (ARM)
	Kernel: Depends on container host
	Compiler: gcc 13.2.1

Debian 11 (Buster) (ARM)
	Kernel: Container Host Kernel
	Compiler: gcc 10.2.1

Debian 12 (arm)
	Kernel: Container Host Kernel
	Compiler: gcc 12.2.0

CentOS Stream 9 (ARM)
	Kernel: Container Host Kernel
	Compiler: gcc 11.4.1

To view detailed results, visit:
https://lab.dpdk.org/results/dashboard/patchsets/29816/

UNH-IOL DPDK Community Lab

To manage your email subscriptions, visit: 
https://lab.dpdk.org/results/dashboard/preferences/subscriptions/