From mboxrd@z Thu Jan  1 00:00:00 1970
Return-Path: <test-report-bounces@dpdk.org>
Received: from mails.dpdk.org (mails.dpdk.org [217.70.189.124])
	by inbox.dpdk.org (Postfix) with ESMTP id 5D2F143E9E
	for <public@inbox.dpdk.org>; Thu, 18 Apr 2024 11:52:09 +0200 (CEST)
Received: from mails.dpdk.org (localhost [127.0.0.1])
	by mails.dpdk.org (Postfix) with ESMTP id 52856402CC;
	Thu, 18 Apr 2024 11:52:09 +0200 (CEST)
Received: from mail-il1-f226.google.com (mail-il1-f226.google.com
 [209.85.166.226])
 by mails.dpdk.org (Postfix) with ESMTP id 4621F40685
 for <test-report@dpdk.org>; Thu, 18 Apr 2024 11:51:51 +0200 (CEST)
Received: by mail-il1-f226.google.com with SMTP id
 e9e14a558f8ab-36b375ceb9bso2585365ab.2
 for <test-report@dpdk.org>; Thu, 18 Apr 2024 02:51:51 -0700 (PDT)
DKIM-Signature: v=1; a=rsa-sha256; c=relaxed/relaxed;
 d=iol.unh.edu; s=unh-iol; t=1713433910; x=1714038710; darn=dpdk.org;
 h=references:in-reply-to:cc:to:from:subject:message-id:date:from:to
 :cc:subject:date:message-id:reply-to;
 bh=nOdoCc0f1ElR6yUaNNh659KEe2xt+Z9q/mK5i1QHHq4=;
 b=P/ey/mFwIDYw7UijX5purGqF6z6oA+8aMhbSk1XsnND5NQU9OHdqEGHODEx/reLSw3
 WgQMJiAY9duKHKwZrvqLZH1Eaq2CMLRgZSzkJhf4fxLIM+rItzQcaHh+2PBoZT/OLuI5
 VSAzhXYLYgJynJCj0Ik+sjkLLbcKdgyJzgr0g=
X-Google-DKIM-Signature: v=1; a=rsa-sha256; c=relaxed/relaxed;
 d=1e100.net; s=20230601; t=1713433910; x=1714038710;
 h=references:in-reply-to:cc:to:from:subject:message-id:date
 :x-gm-message-state:from:to:cc:subject:date:message-id:reply-to;
 bh=nOdoCc0f1ElR6yUaNNh659KEe2xt+Z9q/mK5i1QHHq4=;
 b=RdBVulJdlt2HuoCQeNbdRq9xCRxrKhomaRWv1231ZCURiVccFBrjXeyASnHKIOnpIf
 ezAHIBBdheO25XO2sTvHB8Jqmn08cdGm68w5xNVxfc4vijg6wsX/zZtMhYdt7/Kg2StM
 nnwJH6hMXK3L7xkhz0YHIBf3aucRqjSCUgZ+r5iqBDRtFY3IcMsje8cmcQyRl0UkjrsR
 eoasZmeUGztATl12dGmbK5rjwwpAZBP7tMGwxsgTRNKVGGjJ77h/8RhAO+fSoVFWJfp1
 x7sKQeh3GznBoH0HnY55ICoOOmTf4xLnbD4BEeNHYrZzzlKStDQD5X0aHqHg9zjsTPXT
 ELBQ==
X-Gm-Message-State: AOJu0Yyj2OjU+BjoYKpgpcxYcbP2W7XrZJ7M6b015fd99ZWlo7FUnrB7
 flePhNHxogVHCItq3D0zeoGEgWkS8T3FSj2Qz4/Hyl4E+ylgE3p9+F0YXMRz5lWmu3LMLWOQP+V
 Zf0mh8mJYZNq+zIjcR0k5iCp7lffkLk06ArcaF2Ma
X-Google-Smtp-Source: AGHT+IFd5wEKltVBptNcNscUa5EJ5g60EZL75yrzaLoJpGyLYuJMztYsE42ay+Ddm2o3gdRwTU1Wf87gNvkL
X-Received: by 2002:a05:6e02:1d9d:b0:36b:3a6e:ee83 with SMTP id
 h29-20020a056e021d9d00b0036b3a6eee83mr2536743ila.22.1713433910732; 
 Thu, 18 Apr 2024 02:51:50 -0700 (PDT)
Received: from postal.iol.unh.edu (postal.iol.unh.edu. [132.177.123.84])
 by smtp-relay.gmail.com with ESMTPS id
 gx2-20020a05663867c200b00482cc9427c1sm78273jab.68.2024.04.18.02.51.50
 (version=TLS1_2 cipher=ECDHE-ECDSA-AES128-GCM-SHA256 bits=128/128);
 Thu, 18 Apr 2024 02:51:50 -0700 (PDT)
X-Relaying-Domain: iol.unh.edu
Date: Thu, 18 Apr 2024 02:51:50 -0700 (PDT)
Message-ID: <6620ed36.050a0220.c816c.3f4eSMTPIN_ADDED_MISSING@mx.google.com>
Received: from [172.17.0.2] (unknown [172.18.0.217])
 by postal.iol.unh.edu (Postfix) with ESMTP id 357626052514;
 Thu, 18 Apr 2024 05:51:50 -0400 (EDT)
Subject: |SUCCESS| pw139481-139487 [PATCH] [v3,7/7] net: clear outer UDP chec
From: dpdklab@iol.unh.edu
To: Test Report <test-report@dpdk.org>
Cc: dpdk-test-reports@iol.unh.edu
In-Reply-To: <20240418082023.1767998-8-david.marchand@redhat.com>
References: <20240418082023.1767998-8-david.marchand@redhat.com>
Content-Type: text/plain
X-BeenThere: test-report@dpdk.org
X-Mailman-Version: 2.1.29
Precedence: list
List-Id: automatic DPDK test reports <test-report.dpdk.org>
List-Unsubscribe: <https://mails.dpdk.org/options/test-report>,
 <mailto:test-report-request@dpdk.org?subject=unsubscribe>
List-Archive: <http://mails.dpdk.org/archives/test-report/>
List-Post: <mailto:test-report@dpdk.org>
List-Help: <mailto:test-report-request@dpdk.org?subject=help>
List-Subscribe: <https://mails.dpdk.org/listinfo/test-report>,
 <mailto:test-report-request@dpdk.org?subject=subscribe>
Errors-To: test-report-bounces@dpdk.org

Test-Label: iol-compile-arm64-testing
Test-Status: SUCCESS
http://dpdk.org/patch/139487

_Testing PASS_

Submitter: David Marchand <david.marchand@redhat.com>
Date: Thursday, April 18 2024 08:20:21 
DPDK git baseline: Repo:dpdk
  Branch: master
  CommitID:ea9b0f7277acc931ced3fee4a3ee087a26ee1401

139481-139487 --> testing pass

Test environment and result as below:

+----------------------------------------+--------------------+
|              Environment               | dpdk_meson_compile |
+========================================+====================+
| Ubuntu 20.04 ARM SVE                   | PASS               |
+----------------------------------------+--------------------+
| Debian 12 with MUSDK                   | PASS               |
+----------------------------------------+--------------------+
| Ubuntu 20.04 ARM GCC Cross Compile     | PASS               |
+----------------------------------------+--------------------+
| Ubuntu 20.04 ARM Clang Cross Compile   | PASS               |
+----------------------------------------+--------------------+
| Ubuntu 20.04 aarch32 GCC Cross Compile | PASS               |
+----------------------------------------+--------------------+
| Fedora 37 (ARM)                        | PASS               |
+----------------------------------------+--------------------+
| Fedora 38 (ARM)                        | PASS               |
+----------------------------------------+--------------------+
| Ubuntu 20.04 (ARM)                     | PASS               |
+----------------------------------------+--------------------+
| Fedora 39 (ARM)                        | PASS               |
+----------------------------------------+--------------------+
| Debian 11 (Buster) (ARM)               | PASS               |
+----------------------------------------+--------------------+
| Debian 12 (arm)                        | PASS               |
+----------------------------------------+--------------------+
| CentOS Stream 9 (ARM)                  | PASS               |
+----------------------------------------+--------------------+


Ubuntu 20.04 ARM SVE
	Kernel: 5.4.0-167-generic
	Compiler: gcc (Ubuntu 10.5.0-1ubuntu1~20.04) 10.5.0

Debian 12 with MUSDK
	Kernel: Container Host Kernel
	Compiler: gcc 12.2.0

Ubuntu 20.04 ARM GCC Cross Compile
	Kernel: 5.4.0-167-generic
	Compiler: aarch64-linux-gnu-gcc (Ubuntu 9.4.0-1ubuntu1~20.04.2) 9.4.0

Ubuntu 20.04 ARM Clang Cross Compile
	Kernel: 5.4.0-72-generic
	Compiler: clang 10.0.0-4ubuntu1

Ubuntu 20.04 aarch32 GCC Cross Compile
	Kernel: 5.4.0-167-generic
	Compiler: gcc 9.4.0

Fedora 37 (ARM)
	Kernel: Depends on container host
	Compiler: gcc 12.3.1

Fedora 38 (ARM)
	Kernel: Depends on container host
	Compiler: gcc 13.2.1

Ubuntu 20.04 (ARM)
	Kernel: Container Host Kernel
	Compiler: gcc 9.4.0

Fedora 39 (ARM)
	Kernel: Depends on container host
	Compiler: gcc 13.2.1

Debian 11 (Buster) (ARM)
	Kernel: Container Host Kernel
	Compiler: gcc 10.2.1

Debian 12 (arm)
	Kernel: Container Host Kernel
	Compiler: gcc 12.2.0

CentOS Stream 9 (ARM)
	Kernel: Container Host Kernel
	Compiler: gcc 11.4.1

To view detailed results, visit:
https://lab.dpdk.org/results/dashboard/patchsets/29816/

UNH-IOL DPDK Community Lab

To manage your email subscriptions, visit: 
https://lab.dpdk.org/results/dashboard/preferences/subscriptions/