From mboxrd@z Thu Jan  1 00:00:00 1970
Return-Path: <test-report-bounces@dpdk.org>
Received: from mails.dpdk.org (mails.dpdk.org [217.70.189.124])
	by inbox.dpdk.org (Postfix) with ESMTP id 35AA243E9E
	for <public@inbox.dpdk.org>; Thu, 18 Apr 2024 11:55:15 +0200 (CEST)
Received: from mails.dpdk.org (localhost [127.0.0.1])
	by mails.dpdk.org (Postfix) with ESMTP id 2997C402CC;
	Thu, 18 Apr 2024 11:55:15 +0200 (CEST)
Received: from mail-io1-f97.google.com (mail-io1-f97.google.com
 [209.85.166.97]) by mails.dpdk.org (Postfix) with ESMTP id 17C7940042
 for <test-report@dpdk.org>; Thu, 18 Apr 2024 11:55:14 +0200 (CEST)
Received: by mail-io1-f97.google.com with SMTP id
 ca18e2360f4ac-7d622edf790so23023839f.1
 for <test-report@dpdk.org>; Thu, 18 Apr 2024 02:55:14 -0700 (PDT)
DKIM-Signature: v=1; a=rsa-sha256; c=relaxed/relaxed;
 d=iol.unh.edu; s=unh-iol; t=1713434113; x=1714038913; darn=dpdk.org;
 h=references:in-reply-to:cc:to:from:subject:message-id:date:from:to
 :cc:subject:date:message-id:reply-to;
 bh=6kCwUFZbtTxFSDjD0TbdPi9eqOUr6KRe22UJM5Re6/w=;
 b=Q5+l/fdL4WNkh6rB0qwF4col6aXUgn9T68q/p9FJSN1yMJtmPQI0IsoAaM9GhYn/ht
 JY1YwNeMzYo1o2NCyeXzFqnk+q0dT8ELLFamgnmbTmtG6clNF5imoqMVQHwAa9LmNIQY
 UM6cxzpl7iw2vyeJ2Yt4ITWIOq+quL1z7OLPE=
X-Google-DKIM-Signature: v=1; a=rsa-sha256; c=relaxed/relaxed;
 d=1e100.net; s=20230601; t=1713434113; x=1714038913;
 h=references:in-reply-to:cc:to:from:subject:message-id:date
 :x-gm-message-state:from:to:cc:subject:date:message-id:reply-to;
 bh=6kCwUFZbtTxFSDjD0TbdPi9eqOUr6KRe22UJM5Re6/w=;
 b=R3AyoylARO7RdkGxGya2zuYBlYSsu43ZFKUCEtIqcRzaI5pE4cZujUydS++dQmz3JN
 aQYoVkv5W4mq1+7DKlXg8vL18MyF7ZqRn6VbteMax60me9AD41KedM0QLhLpONH7aSL2
 QW3Il/KwLCsdz8SV9mKHdahvkm5EdDDKtFg0XD+Vs+9HjbaiRNZdAmk9jdHYiXdyp5CO
 YKDeWrizJqua+AUiiJHNDOHXs3TY1rLKCmuJRdDtrSnCY+r0JHJ7lyGvknjGKnCF4BvP
 t53tU8EpeQ+lZU9vrDQAdbftN7MHiV4bsPyBqRnzD0cG/OoSYANdDn3rcVshokPGMwZG
 VHvg==
X-Gm-Message-State: AOJu0YxENyGA/qZfgSiWg40wx7QjLc7PmVC8+zQ0Z0I5frQO5ovzL0qw
 2RBJ/49aDsmhaVdiaotRqABPcvcuv7nywYNbCHkqsgg7d7iyaa9UXKWWIh7S9vQPXhrBzDRVmlj
 0FRwDWMpgu3mZw6pSsrOKfm7HEmJyASZXVUs/XYBD
X-Google-Smtp-Source: AGHT+IGpka1vTdjj4/LbH3m17jgMQ85hLjob6egwvUbGup3yjn80+KWbC0Bx1zcoiTIdm+C9FBIBURN0u3yN
X-Received: by 2002:a05:6602:638a:b0:7d5:c987:3239 with SMTP id
 gb10-20020a056602638a00b007d5c9873239mr2602703iob.16.1713434113498; 
 Thu, 18 Apr 2024 02:55:13 -0700 (PDT)
Received: from postal.iol.unh.edu (postal.iol.unh.edu. [132.177.123.84])
 by smtp-relay.gmail.com with ESMTPS id
 n40-20020a056602342800b007d07502784dsm46246ioz.26.2024.04.18.02.55.13
 (version=TLS1_2 cipher=ECDHE-ECDSA-AES128-GCM-SHA256 bits=128/128);
 Thu, 18 Apr 2024 02:55:13 -0700 (PDT)
X-Relaying-Domain: iol.unh.edu
Date: Thu, 18 Apr 2024 02:55:13 -0700 (PDT)
Message-ID: <6620ee01.050a0220.2cfe7.1f90SMTPIN_ADDED_MISSING@mx.google.com>
Received: from [172.17.0.4] (unknown [172.18.0.217])
 by postal.iol.unh.edu (Postfix) with ESMTP id 215356052514;
 Thu, 18 Apr 2024 05:55:13 -0400 (EDT)
Subject: |SUCCESS| pw139481-139487 [PATCH] [v3,7/7] net: clear outer UDP chec
From: dpdklab@iol.unh.edu
To: Test Report <test-report@dpdk.org>
Cc: dpdk-test-reports@iol.unh.edu
In-Reply-To: <20240418082023.1767998-8-david.marchand@redhat.com>
References: <20240418082023.1767998-8-david.marchand@redhat.com>
Content-Type: text/plain
X-BeenThere: test-report@dpdk.org
X-Mailman-Version: 2.1.29
Precedence: list
List-Id: automatic DPDK test reports <test-report.dpdk.org>
List-Unsubscribe: <https://mails.dpdk.org/options/test-report>,
 <mailto:test-report-request@dpdk.org?subject=unsubscribe>
List-Archive: <http://mails.dpdk.org/archives/test-report/>
List-Post: <mailto:test-report@dpdk.org>
List-Help: <mailto:test-report-request@dpdk.org?subject=help>
List-Subscribe: <https://mails.dpdk.org/listinfo/test-report>,
 <mailto:test-report-request@dpdk.org?subject=subscribe>
Errors-To: test-report-bounces@dpdk.org

Test-Label: iol-unit-amd64-testing
Test-Status: SUCCESS
http://dpdk.org/patch/139487

_Testing PASS_

Submitter: David Marchand <david.marchand@redhat.com>
Date: Thursday, April 18 2024 08:20:21 
DPDK git baseline: Repo:dpdk
  Branch: master
  CommitID:ea9b0f7277acc931ced3fee4a3ee087a26ee1401

139481-139487 --> testing pass

Test environment and result as below:

+---------------------+----------------+
|     Environment     | dpdk_unit_test |
+=====================+================+
| CentOS Stream 9     | PASS           |
+---------------------+----------------+
| Debian 12           | PASS           |
+---------------------+----------------+
| CentOS Stream 8     | PASS           |
+---------------------+----------------+
| Windows Server 2019 | PASS           |
+---------------------+----------------+
| Debian Bullseye     | PASS           |
+---------------------+----------------+
| Fedora 37           | PASS           |
+---------------------+----------------+
| Fedora 38           | PASS           |
+---------------------+----------------+
| Fedora 39           | PASS           |
+---------------------+----------------+
| RHEL8               | PASS           |
+---------------------+----------------+
| openSUSE Leap 15    | PASS           |
+---------------------+----------------+
| Ubuntu 20.04        | PASS           |
+---------------------+----------------+
| Ubuntu 22.04        | PASS           |
+---------------------+----------------+


CentOS Stream 9
	Kernel: 5.4.0-167-generic
	Compiler: gcc 11.4.1 20230605

Debian 12
	Kernel: Container Host Kernel
	Compiler: gcc 10.2.1

CentOS Stream 8
	Kernel: 5.4.0-167-generic
	Compiler: gcc 8.5.0 20210514

Windows Server 2019
	Kernel: 10.0.17763
	Compiler: clang 14.0 and gcc 8.1.0 (MinGW)

Debian Bullseye
	Kernel: 5.4.0-167-generic
	Compiler: gcc 10.2.1-6

Fedora 37
	Kernel: Depends on container host system
	Compiler: gcc 12.3.1

Fedora 38
	Kernel: Depends on container host
	Compiler: gcc 13.2.1

Fedora 39
	Kernel: Depends on container host
	Compiler: gcc 13.2.1

RHEL8
	Kernel: 5.4.0-167-generic
	Compiler: gcc 8.5.0 20210514 (Red Hat 8.5.0-20)

openSUSE Leap 15
	Kernel: 5.4.0-167-generic
	Compiler: gcc 7.5.0

Ubuntu 20.04
	Kernel: 5.4.0-167-generic
	Compiler: gcc 9.4.0-1ubuntu1~20.04.1

Ubuntu 22.04
	Kernel: 5.4.0-167-generic
	Compiler: gcc 11.4.0

To view detailed results, visit:
https://lab.dpdk.org/results/dashboard/patchsets/29816/

UNH-IOL DPDK Community Lab

To manage your email subscriptions, visit: 
https://lab.dpdk.org/results/dashboard/preferences/subscriptions/