From mboxrd@z Thu Jan  1 00:00:00 1970
Return-Path: <test-report-bounces@dpdk.org>
Received: from mails.dpdk.org (mails.dpdk.org [217.70.189.124])
	by inbox.dpdk.org (Postfix) with ESMTP id D421743EA2
	for <public@inbox.dpdk.org>; Thu, 18 Apr 2024 14:52:32 +0200 (CEST)
Received: from mails.dpdk.org (localhost [127.0.0.1])
	by mails.dpdk.org (Postfix) with ESMTP id CB094402CC;
	Thu, 18 Apr 2024 14:52:32 +0200 (CEST)
Received: from mail-oi1-f228.google.com (mail-oi1-f228.google.com
 [209.85.167.228])
 by mails.dpdk.org (Postfix) with ESMTP id 7E60740042
 for <test-report@dpdk.org>; Thu, 18 Apr 2024 14:52:31 +0200 (CEST)
Received: by mail-oi1-f228.google.com with SMTP id
 5614622812f47-3c70e46f3caso540691b6e.2
 for <test-report@dpdk.org>; Thu, 18 Apr 2024 05:52:31 -0700 (PDT)
DKIM-Signature: v=1; a=rsa-sha256; c=relaxed/relaxed;
 d=iol.unh.edu; s=unh-iol; t=1713444751; x=1714049551; darn=dpdk.org;
 h=references:in-reply-to:cc:to:from:subject:message-id:date:from:to
 :cc:subject:date:message-id:reply-to;
 bh=3Qklr9GJKKA24VlpNXn/Z5lRPS78btEixpe/5RVesy8=;
 b=dibKZKGq3N0EKt3t122Cbf1RyQKAK4tLgS0l946hpoGTIEgXV2odvPQ4hA8hxo3sV/
 UsrquskKMZKNASZ08W5PQH75sSBjE2rVcKybR2LEtO89NqfMDcBKcQVV89PNAQ0iienb
 a2XHQmYCHhIMbkcCrgRe6j2jsb/8wUI0IwA6s=
X-Google-DKIM-Signature: v=1; a=rsa-sha256; c=relaxed/relaxed;
 d=1e100.net; s=20230601; t=1713444751; x=1714049551;
 h=references:in-reply-to:cc:to:from:subject:message-id:date
 :x-gm-message-state:from:to:cc:subject:date:message-id:reply-to;
 bh=3Qklr9GJKKA24VlpNXn/Z5lRPS78btEixpe/5RVesy8=;
 b=aI6xtUPGIQqKeY6U0maiwpbWeEp19/6S/j54HRrL7l3hizkzPHmWJvH4yTYPJXjjCU
 xAsqEZXN7hO6lYoY6mEtiIq5R3mSegFxdvWFtKT3d5wqdXuIPesEzRQntPnIAV7mgKgV
 ldAVm99dRCSj1B+NGV7Hcgv4ARru8oKYGNLZCL1kt2SPeA+LAJsqe5+9F88R2gI9azin
 fyOf6XIaX2sK0ZKrelJTL0v8WeJRe7xGeNwR6uk18IeejwhGE/aVN+OLw0P0Baiv5y1Z
 DP3lhfOWVLoqJbiva3oVNoK36eVpz3u7m8qYpgG3I1gJZ0w0KEwoyQLEozEUxUhFEhaT
 1Rlw==
X-Gm-Message-State: AOJu0YxT0cU1ay2ZCxkvfGssb9mrAyM25+0B2iRpuawbXA32oOTMdBFK
 NhJsUPBWfkgmmKKOjZTiL/3uddim1UK/kG1BQ0TXtKR5LXX+XpPJqcp1zMsTtfXDQGB3XbeZCAv
 ksPV09p67Ox1xnllcWj/IGWp5o6osRmu6HeEZriYy
X-Google-Smtp-Source: AGHT+IEw1QHx10DV1zi9lu6CP3OV9+IhSJ4ki2T4ThfQt3Y8gebf5BJ6W4Wu2X3Uiu3rPT6uFUqu2MVTff6i
X-Received: by 2002:aca:1014:0:b0:3c5:e03a:8f51 with SMTP id
 20-20020aca1014000000b003c5e03a8f51mr2867136oiq.48.1713444750870; 
 Thu, 18 Apr 2024 05:52:30 -0700 (PDT)
Received: from postal.iol.unh.edu (postal.iol.unh.edu. [132.177.123.84])
 by smtp-relay.gmail.com with ESMTPS id
 c29-20020a63725d000000b005dc857069fdsm76949pgn.12.2024.04.18.05.52.30
 (version=TLS1_2 cipher=ECDHE-ECDSA-AES128-GCM-SHA256 bits=128/128);
 Thu, 18 Apr 2024 05:52:30 -0700 (PDT)
X-Relaying-Domain: iol.unh.edu
Date: Thu, 18 Apr 2024 05:52:30 -0700 (PDT)
Message-ID: <6621178e.630a0220.5a2e9.440aSMTPIN_ADDED_MISSING@mx.google.com>
Received: from [172.17.0.5] (unknown [172.18.0.217])
 by postal.iol.unh.edu (Postfix) with ESMTP id 1B9BE6052514;
 Thu, 18 Apr 2024 08:52:30 -0400 (EDT)
Subject: |SUCCESS| pw139478 [PATCH] doc: Fix some typos in mbuf_lib.rst and n
From: dpdklab@iol.unh.edu
To: Test Report <test-report@dpdk.org>
Cc: dpdk-test-reports@iol.unh.edu
In-Reply-To: <20240418062025.26674-1-maoyingming@baidu.com>
References: <20240418062025.26674-1-maoyingming@baidu.com>
Content-Type: text/plain
X-BeenThere: test-report@dpdk.org
X-Mailman-Version: 2.1.29
Precedence: list
List-Id: automatic DPDK test reports <test-report.dpdk.org>
List-Unsubscribe: <https://mails.dpdk.org/options/test-report>,
 <mailto:test-report-request@dpdk.org?subject=unsubscribe>
List-Archive: <http://mails.dpdk.org/archives/test-report/>
List-Post: <mailto:test-report@dpdk.org>
List-Help: <mailto:test-report-request@dpdk.org?subject=help>
List-Subscribe: <https://mails.dpdk.org/listinfo/test-report>,
 <mailto:test-report-request@dpdk.org?subject=subscribe>
Errors-To: test-report-bounces@dpdk.org

Test-Label: iol-compile-arm64-testing
Test-Status: SUCCESS
http://dpdk.org/patch/139478

_Testing PASS_

Submitter: Mao YingMing <maoyingming@baidu.com>
Date: Thursday, April 18 2024 06:20:25 
DPDK git baseline: Repo:dpdk
  Branch: master
  CommitID:e2e546ab5bf5e024986ccb5310ab43982f3bb40c

139478 --> testing pass

Test environment and result as below:

+----------------------------------------+--------------------+
|              Environment               | dpdk_meson_compile |
+========================================+====================+
| Ubuntu 20.04 ARM SVE                   | PASS               |
+----------------------------------------+--------------------+
| Ubuntu 20.04 ARM GCC Cross Compile     | PASS               |
+----------------------------------------+--------------------+
| Debian 12 with MUSDK                   | PASS               |
+----------------------------------------+--------------------+
| Ubuntu 20.04 ARM Clang Cross Compile   | PASS               |
+----------------------------------------+--------------------+
| Ubuntu 20.04 (ARM)                     | PASS               |
+----------------------------------------+--------------------+
| Fedora 37 (ARM)                        | PASS               |
+----------------------------------------+--------------------+
| Fedora 38 (ARM)                        | PASS               |
+----------------------------------------+--------------------+
| Ubuntu 20.04 aarch32 GCC Cross Compile | PASS               |
+----------------------------------------+--------------------+
| Debian 11 (Buster) (ARM)               | PASS               |
+----------------------------------------+--------------------+
| Debian 12 (arm)                        | PASS               |
+----------------------------------------+--------------------+
| Fedora 39 (ARM)                        | PASS               |
+----------------------------------------+--------------------+
| CentOS Stream 9 (ARM)                  | PASS               |
+----------------------------------------+--------------------+


Ubuntu 20.04 ARM SVE
	Kernel: 5.4.0-167-generic
	Compiler: gcc (Ubuntu 10.5.0-1ubuntu1~20.04) 10.5.0

Ubuntu 20.04 ARM GCC Cross Compile
	Kernel: 5.4.0-167-generic
	Compiler: aarch64-linux-gnu-gcc (Ubuntu 9.4.0-1ubuntu1~20.04.2) 9.4.0

Debian 12 with MUSDK
	Kernel: Container Host Kernel
	Compiler: gcc 12.2.0

Ubuntu 20.04 ARM Clang Cross Compile
	Kernel: 5.4.0-72-generic
	Compiler: clang 10.0.0-4ubuntu1

Ubuntu 20.04 (ARM)
	Kernel: Container Host Kernel
	Compiler: gcc 9.4.0

Fedora 37 (ARM)
	Kernel: Depends on container host
	Compiler: gcc 12.3.1

Fedora 38 (ARM)
	Kernel: Depends on container host
	Compiler: gcc 13.2.1

Ubuntu 20.04 aarch32 GCC Cross Compile
	Kernel: 5.4.0-167-generic
	Compiler: gcc 9.4.0

Debian 11 (Buster) (ARM)
	Kernel: Container Host Kernel
	Compiler: gcc 10.2.1

Debian 12 (arm)
	Kernel: Container Host Kernel
	Compiler: gcc 12.2.0

Fedora 39 (ARM)
	Kernel: Depends on container host
	Compiler: gcc 13.2.1

CentOS Stream 9 (ARM)
	Kernel: Container Host Kernel
	Compiler: gcc 11.4.1

To view detailed results, visit:
https://lab.dpdk.org/results/dashboard/patchsets/29813/

UNH-IOL DPDK Community Lab

To manage your email subscriptions, visit: 
https://lab.dpdk.org/results/dashboard/preferences/subscriptions/