From mboxrd@z Thu Jan  1 00:00:00 1970
Return-Path: <test-report-bounces@dpdk.org>
Received: from mails.dpdk.org (mails.dpdk.org [217.70.189.124])
	by inbox.dpdk.org (Postfix) with ESMTP id D776043EA2
	for <public@inbox.dpdk.org>; Thu, 18 Apr 2024 15:03:23 +0200 (CEST)
Received: from mails.dpdk.org (localhost [127.0.0.1])
	by mails.dpdk.org (Postfix) with ESMTP id CF37F402CC;
	Thu, 18 Apr 2024 15:03:23 +0200 (CEST)
Received: from mail-io1-f98.google.com (mail-io1-f98.google.com
 [209.85.166.98]) by mails.dpdk.org (Postfix) with ESMTP id 3B4B040042
 for <test-report@dpdk.org>; Thu, 18 Apr 2024 15:03:22 +0200 (CEST)
Received: by mail-io1-f98.google.com with SMTP id
 ca18e2360f4ac-7d644c91834so29491139f.1
 for <test-report@dpdk.org>; Thu, 18 Apr 2024 06:03:22 -0700 (PDT)
DKIM-Signature: v=1; a=rsa-sha256; c=relaxed/relaxed;
 d=iol.unh.edu; s=unh-iol; t=1713445401; x=1714050201; darn=dpdk.org;
 h=references:in-reply-to:cc:to:from:subject:message-id:date:from:to
 :cc:subject:date:message-id:reply-to;
 bh=d4omkIUCS3vXPFUj2iO9NO9x3fiMevtMv6HAfzhjiUo=;
 b=EVRUEFc8hhjEev8uq+iF3XB8Va5mBiER6NLz5fwWOsj1tJ7mKGWQqCbd5Rd/nqui7X
 5jpnJIJyLFG9bZl/+MyVebYiYXhhfTu+MG1rd5KaaKcoOJDPLhWNUAzzeBAvQE3immgR
 8mfG/C7BlKlL38xWjRm1MSX73ag3Lqs4NlUj4=
X-Google-DKIM-Signature: v=1; a=rsa-sha256; c=relaxed/relaxed;
 d=1e100.net; s=20230601; t=1713445401; x=1714050201;
 h=references:in-reply-to:cc:to:from:subject:message-id:date
 :x-gm-message-state:from:to:cc:subject:date:message-id:reply-to;
 bh=d4omkIUCS3vXPFUj2iO9NO9x3fiMevtMv6HAfzhjiUo=;
 b=NP+IbQhCYii/C7w588vnuEdttxluXsCfwDEa/2kxf8xNtqka3gd3RoBV+xBl982xeP
 HvYhJCawP0o6t5FNJI2HvF6xKvcCySSD2bHOjEwhEeEeT1CpRzBwWZdMnoVJwnKddAqx
 lqoXzl4cILOxKh8kYoeoIw8pstUNWZ7YCi07UYlmDaDwei9XBXH93L0ve7OMWmoOt4Rv
 zNHOP/RVrjXAD21E5Y/wtIdx0Mi1v7vpYiLtkJaRgZh4dk9u3FOGyJArZODKezyrN9mJ
 CJzrOI0sKSWjQRmUbf5Wkf5+7W32dhXoerAmLk0lVXPCgsv/fliUZf++jcs6ON2QRUHI
 nqCg==
X-Gm-Message-State: AOJu0YwbWQtVXyTmAaP1JpgI4miACN+Z94Ca9WdgN0wV/SursaL9DNVL
 TxCfSGRTcYoownjVuynTH+8cuXmRuy6EXbfT2lvgZXyzLSVfXs9/KH0zswzOkQOs1SwlFGmPRAY
 vI6eygasokChMJpymR8TMVv8LV+WmvWLixwN2kVxG
X-Google-Smtp-Source: AGHT+IErNmEfMTVNeY2vZF3KBLSFtH65HBtiOkHBnIBNtGLPYqVU/NbLqC6Uky/I5syuDchNTMX4HDSY+yZu
X-Received: by 2002:a05:6602:189:b0:7da:18b8:a4fb with SMTP id
 m9-20020a056602018900b007da18b8a4fbmr2629804ioo.9.1713445401406; 
 Thu, 18 Apr 2024 06:03:21 -0700 (PDT)
Received: from postal.iol.unh.edu (postal.iol.unh.edu. [132.177.123.84])
 by smtp-relay.gmail.com with ESMTPS id
 f5-20020a5ec605000000b007d0317ef743sm62858iok.32.2024.04.18.06.03.21
 (version=TLS1_2 cipher=ECDHE-ECDSA-AES128-GCM-SHA256 bits=128/128);
 Thu, 18 Apr 2024 06:03:21 -0700 (PDT)
X-Relaying-Domain: iol.unh.edu
Date: Thu, 18 Apr 2024 06:03:21 -0700 (PDT)
Message-ID: <66211a19.5e0a0220.12da6.348dSMTPIN_ADDED_MISSING@mx.google.com>
Received: from [172.21.0.6] (unknown [172.18.0.240])
 by postal.iol.unh.edu (Postfix) with ESMTP id DBA5E6052514;
 Thu, 18 Apr 2024 09:03:20 -0400 (EDT)
Subject: |SUCCESS| pw139488-139493 [PATCH] [RFC,6/6] rcu: remove VLA warnings
From: dpdklab@iol.unh.edu
To: Test Report <test-report@dpdk.org>
Cc: dpdk-test-reports@iol.unh.edu
In-Reply-To: <20240418103314.40705-7-konstantin.v.ananyev@yandex.ru>
References: <20240418103314.40705-7-konstantin.v.ananyev@yandex.ru>
Content-Type: text/plain
X-BeenThere: test-report@dpdk.org
X-Mailman-Version: 2.1.29
Precedence: list
List-Id: automatic DPDK test reports <test-report.dpdk.org>
List-Unsubscribe: <https://mails.dpdk.org/options/test-report>,
 <mailto:test-report-request@dpdk.org?subject=unsubscribe>
List-Archive: <http://mails.dpdk.org/archives/test-report/>
List-Post: <mailto:test-report@dpdk.org>
List-Help: <mailto:test-report-request@dpdk.org?subject=help>
List-Subscribe: <https://mails.dpdk.org/listinfo/test-report>,
 <mailto:test-report-request@dpdk.org?subject=subscribe>
Errors-To: test-report-bounces@dpdk.org

Test-Label: iol-abi-testing
Test-Status: SUCCESS
http://dpdk.org/patch/139493

_Testing PASS_

Submitter: Konstantin Ananyev <konstantin.v.ananyev@yandex.ru>
Date: Thursday, April 18 2024 10:33:14 
DPDK git baseline: Repo:dpdk
  Branch: master
  CommitID:e2e546ab5bf5e024986ccb5310ab43982f3bb40c

139488-139493 --> testing pass

Test environment and result as below:

+------------------+----------+
|   Environment    | abi_test |
+==================+==========+
| CentOS Stream 9  | PASS     |
+------------------+----------+
| Fedora 38        | PASS     |
+------------------+----------+
| Debian 12        | PASS     |
+------------------+----------+
| Ubuntu 22.04     | PASS     |
+------------------+----------+
| Fedora 39        | PASS     |
+------------------+----------+
| CentOS Stream 8  | PASS     |
+------------------+----------+
| RHEL8            | PASS     |
+------------------+----------+
| openSUSE Leap 15 | PASS     |
+------------------+----------+
| Debian Bullseye  | PASS     |
+------------------+----------+
| Fedora 37        | PASS     |
+------------------+----------+


CentOS Stream 9
	Kernel: 5.4.0-167-generic
	Compiler: gcc 11.4.1 20230605

Fedora 38
	Kernel: Depends on container host
	Compiler: gcc 13.2.1

Debian 12
	Kernel: Container Host Kernel
	Compiler: gcc 10.2.1

Ubuntu 22.04
	Kernel: 5.4.0-167-generic
	Compiler: gcc 11.4.0

Fedora 39
	Kernel: Depends on container host
	Compiler: gcc 13.2.1

CentOS Stream 8
	Kernel: 5.4.0-167-generic
	Compiler: gcc 8.5.0 20210514

RHEL8
	Kernel: 5.4.0-167-generic
	Compiler: gcc 8.5.0 20210514 (Red Hat 8.5.0-20)

openSUSE Leap 15
	Kernel: 5.4.0-167-generic
	Compiler: gcc 7.5.0

Debian Bullseye
	Kernel: 5.4.0-167-generic
	Compiler: gcc 10.2.1-6

Fedora 37
	Kernel: Depends on container host system
	Compiler: gcc 12.3.1

To view detailed results, visit:
https://lab.dpdk.org/results/dashboard/patchsets/29817/

UNH-IOL DPDK Community Lab

To manage your email subscriptions, visit: 
https://lab.dpdk.org/results/dashboard/preferences/subscriptions/