From mboxrd@z Thu Jan  1 00:00:00 1970
Return-Path: <test-report-bounces@dpdk.org>
Received: from mails.dpdk.org (mails.dpdk.org [217.70.189.124])
	by inbox.dpdk.org (Postfix) with ESMTP id 38C2D43EA2
	for <public@inbox.dpdk.org>; Thu, 18 Apr 2024 15:04:38 +0200 (CEST)
Received: from mails.dpdk.org (localhost [127.0.0.1])
	by mails.dpdk.org (Postfix) with ESMTP id 30921402CC;
	Thu, 18 Apr 2024 15:04:38 +0200 (CEST)
Received: from mail-pl1-f228.google.com (mail-pl1-f228.google.com
 [209.85.214.228])
 by mails.dpdk.org (Postfix) with ESMTP id A369E40042
 for <test-report@dpdk.org>; Thu, 18 Apr 2024 15:04:36 +0200 (CEST)
Received: by mail-pl1-f228.google.com with SMTP id
 d9443c01a7336-1e4bf0b3e06so8160395ad.1
 for <test-report@dpdk.org>; Thu, 18 Apr 2024 06:04:36 -0700 (PDT)
DKIM-Signature: v=1; a=rsa-sha256; c=relaxed/relaxed;
 d=iol.unh.edu; s=unh-iol; t=1713445476; x=1714050276; darn=dpdk.org;
 h=references:in-reply-to:cc:to:from:subject:message-id:date:from:to
 :cc:subject:date:message-id:reply-to;
 bh=6QubfDh4Y38TYWu/P3aPZBpE41uWTeGO/Uw6T9FMaq8=;
 b=M2iudlFTTc/UjNUMoRAmcTotINsRkqs8dYpqx2yBfdBJzt+rmrXrRJ7xPnwtZgpDro
 Vs25vHyBIvG1CLkS+JerJLz+f8T4lGIkq0ZxN6qqsVGZUQnUGR53jKeXMXdK5l0WehSY
 tG3n94kJrVCcEE2qLjQ64WrF/RWOak6ywCLxA=
X-Google-DKIM-Signature: v=1; a=rsa-sha256; c=relaxed/relaxed;
 d=1e100.net; s=20230601; t=1713445476; x=1714050276;
 h=references:in-reply-to:cc:to:from:subject:message-id:date
 :x-gm-message-state:from:to:cc:subject:date:message-id:reply-to;
 bh=6QubfDh4Y38TYWu/P3aPZBpE41uWTeGO/Uw6T9FMaq8=;
 b=nkhLdSiy4pSjcc7dNs6slgvg64JOYL7wdjKMlg+wOLo1wKINxzzG0YgjgYsz6xlC0b
 00bp2F6BQr4MsmIM9LcBCCDq0Yxt8PwK0gDtumRZuawKXMyXaelRLcZhJWhjZuFBKQiM
 hD1rZMoIEfkLOvM4ey8g4R82nW3hBRV5ATmd6FvMuefVPYEFYeXLhwFakYF2qoNafmtS
 vI03aWsWM/xqaR0taBrTPYsuEPaq5tlT7/wABWYC59j6Tr3gSzq1zyXnOA7l6YVtKrhG
 XBuLIFCFJEMCNAMQHQrCvKxcYag/q6S448kddSgQHGlp3DT8C5a0Hp4qqADNvrvCkZ0Q
 dIsg==
X-Gm-Message-State: AOJu0YxwG4+f8c72kTusCgDPu0dB4ESLUXf4h3Ehc/bWzRUiUheGL7/t
 7VjvrsdrOZbizcsTU2tli1FXLQmNfo+aepCcra88D9S4yltAHNSsGsJYartLu2eCItUkgvqdL/8
 Jyo67LH4sohBL7yfU5O0yW8Ah2K9vthwH5LcpXoS4
X-Google-Smtp-Source: AGHT+IEN3s2k4+rmzvEaXneNc/U2grcOZxu1l+Di9mo+onEnUQEvKMVJV0PJDiCCBdkBnK6AsB606eJtn1Vj
X-Received: by 2002:a17:902:dac3:b0:1e2:538:a063 with SMTP id
 q3-20020a170902dac300b001e20538a063mr3259265plx.33.1713445475861; 
 Thu, 18 Apr 2024 06:04:35 -0700 (PDT)
Received: from postal.iol.unh.edu (postal.iol.unh.edu. [132.177.123.84])
 by smtp-relay.gmail.com with ESMTPS id
 mq8-20020a170902fd4800b001e3c8d7d66bsm56293plb.125.2024.04.18.06.04.35
 (version=TLS1_2 cipher=ECDHE-ECDSA-AES128-GCM-SHA256 bits=128/128);
 Thu, 18 Apr 2024 06:04:35 -0700 (PDT)
X-Relaying-Domain: iol.unh.edu
Date: Thu, 18 Apr 2024 06:04:35 -0700 (PDT)
Message-ID: <66211a63.170a0220.2f45e.2e94SMTPIN_ADDED_MISSING@mx.google.com>
Received: from [172.21.0.6] (unknown [172.18.0.240])
 by postal.iol.unh.edu (Postfix) with ESMTP id 0F71E6052514;
 Thu, 18 Apr 2024 09:04:35 -0400 (EDT)
Subject: |SUCCESS| pw139478 [PATCH] doc: Fix some typos in mbuf_lib.rst and n
From: dpdklab@iol.unh.edu
To: Test Report <test-report@dpdk.org>
Cc: dpdk-test-reports@iol.unh.edu
In-Reply-To: <20240418062025.26674-1-maoyingming@baidu.com>
References: <20240418062025.26674-1-maoyingming@baidu.com>
Content-Type: text/plain
X-BeenThere: test-report@dpdk.org
X-Mailman-Version: 2.1.29
Precedence: list
List-Id: automatic DPDK test reports <test-report.dpdk.org>
List-Unsubscribe: <https://mails.dpdk.org/options/test-report>,
 <mailto:test-report-request@dpdk.org?subject=unsubscribe>
List-Archive: <http://mails.dpdk.org/archives/test-report/>
List-Post: <mailto:test-report@dpdk.org>
List-Help: <mailto:test-report-request@dpdk.org?subject=help>
List-Subscribe: <https://mails.dpdk.org/listinfo/test-report>,
 <mailto:test-report-request@dpdk.org?subject=subscribe>
Errors-To: test-report-bounces@dpdk.org

Test-Label: iol-unit-arm64-testing
Test-Status: SUCCESS
http://dpdk.org/patch/139478

_Testing PASS_

Submitter: Mao YingMing <maoyingming@baidu.com>
Date: Thursday, April 18 2024 06:20:25 
DPDK git baseline: Repo:dpdk
  Branch: master
  CommitID:e2e546ab5bf5e024986ccb5310ab43982f3bb40c

139478 --> testing pass

Test environment and result as below:

+-----------------------------+---------------------------+------------------------------+----------------+--------------+
|         Environment         | cryptodev_sw_zuc_autotest | cryptodev_sw_snow3g_autotest | dpdk_unit_test | lpm_autotest |
+=============================+===========================+==============================+================+==============+
| Debian 12 (arm)             | PASS                      | PASS                         | PASS           | SKIPPED      |
+-----------------------------+---------------------------+------------------------------+----------------+--------------+
| 32-bit Ubuntu 20.04.4 (ARM) | SKIPPED                   | SKIPPED                      | PASS           | SKIPPED      |
+-----------------------------+---------------------------+------------------------------+----------------+--------------+
| Debian 11 (Buster) (ARM)    | SKIPPED                   | SKIPPED                      | PASS           | SKIPPED      |
+-----------------------------+---------------------------+------------------------------+----------------+--------------+
| CentOS Stream 9 (ARM)       | SKIPPED                   | SKIPPED                      | PASS           | SKIPPED      |
+-----------------------------+---------------------------+------------------------------+----------------+--------------+
| Fedora 37 (ARM)             | SKIPPED                   | SKIPPED                      | PASS           | SKIPPED      |
+-----------------------------+---------------------------+------------------------------+----------------+--------------+
| Fedora 39 (ARM)             | SKIPPED                   | SKIPPED                      | PASS           | SKIPPED      |
+-----------------------------+---------------------------+------------------------------+----------------+--------------+
| Fedora 38 (ARM)             | SKIPPED                   | SKIPPED                      | PASS           | SKIPPED      |
+-----------------------------+---------------------------+------------------------------+----------------+--------------+
| Ubuntu 20.04 (ARM)          | SKIPPED                   | SKIPPED                      | PASS           | SKIPPED      |
+-----------------------------+---------------------------+------------------------------+----------------+--------------+
| Fedora 38 (ARM Clang)       | SKIPPED                   | SKIPPED                      | PASS           | SKIPPED      |
+-----------------------------+---------------------------+------------------------------+----------------+--------------+
| Ubuntu 20.04 ARM SVE        | SKIPPED                   | SKIPPED                      | SKIPPED        | PASS         |
+-----------------------------+---------------------------+------------------------------+----------------+--------------+


Debian 12 (arm)
	Kernel: Container Host Kernel
	Compiler: gcc 12.2.0

32-bit Ubuntu 20.04.4 (ARM)
	Kernel: 5.4.0-155-generic aarch64
	Compiler: gcc 9.4

Debian 11 (Buster) (ARM)
	Kernel: Container Host Kernel
	Compiler: gcc 10.2.1

CentOS Stream 9 (ARM)
	Kernel: Container Host Kernel
	Compiler: gcc 11.4.1

Fedora 37 (ARM)
	Kernel: Depends on container host
	Compiler: gcc 12.3.1

Fedora 39 (ARM)
	Kernel: Depends on container host
	Compiler: gcc 13.2.1

Fedora 38 (ARM)
	Kernel: Depends on container host
	Compiler: gcc 13.2.1

Ubuntu 20.04 (ARM)
	Kernel: Container Host Kernel
	Compiler: gcc 9.4.0

Fedora 38 (ARM Clang)
	Kernel: Depends on container host
	Compiler: clang 16.0.6

Ubuntu 20.04 ARM SVE
	Kernel: 5.4.0-167-generic
	Compiler: gcc (Ubuntu 10.5.0-1ubuntu1~20.04) 10.5.0

To view detailed results, visit:
https://lab.dpdk.org/results/dashboard/patchsets/29813/

UNH-IOL DPDK Community Lab

To manage your email subscriptions, visit: 
https://lab.dpdk.org/results/dashboard/preferences/subscriptions/