From mboxrd@z Thu Jan  1 00:00:00 1970
Return-Path: <test-report-bounces@dpdk.org>
Received: from mails.dpdk.org (mails.dpdk.org [217.70.189.124])
	by inbox.dpdk.org (Postfix) with ESMTP id 673D143EA3
	for <public@inbox.dpdk.org>; Thu, 18 Apr 2024 16:12:33 +0200 (CEST)
Received: from mails.dpdk.org (localhost [127.0.0.1])
	by mails.dpdk.org (Postfix) with ESMTP id 5BDD140647;
	Thu, 18 Apr 2024 16:12:33 +0200 (CEST)
Received: from mail-pl1-f225.google.com (mail-pl1-f225.google.com
 [209.85.214.225])
 by mails.dpdk.org (Postfix) with ESMTP id CED14402DC
 for <test-report@dpdk.org>; Thu, 18 Apr 2024 16:12:32 +0200 (CEST)
Received: by mail-pl1-f225.google.com with SMTP id
 d9443c01a7336-1e857e571f3so7627025ad.0
 for <test-report@dpdk.org>; Thu, 18 Apr 2024 07:12:32 -0700 (PDT)
DKIM-Signature: v=1; a=rsa-sha256; c=relaxed/relaxed;
 d=iol.unh.edu; s=unh-iol; t=1713449552; x=1714054352; darn=dpdk.org;
 h=references:in-reply-to:cc:to:from:subject:message-id:date:from:to
 :cc:subject:date:message-id:reply-to;
 bh=0DHOX03vgDlSWmBgxltC3aFRDumzUQqfAtXJOo2k7d8=;
 b=gBcH2QWN9GIXxu3rVn9VlYTdw6NrLi4AW+ZL50lb37Q/CyBI1TZ7fBe0SijYGUmlg8
 MXFhNxs34IUMM+G4u5I/E5ZUFxYTsnkndeDqax9WapzDlpd47+N0pSh1URUlu+Dx//Cu
 2zzwfIs3IcxJslGfiBfBorPuIxXJf8Edfi2jA=
X-Google-DKIM-Signature: v=1; a=rsa-sha256; c=relaxed/relaxed;
 d=1e100.net; s=20230601; t=1713449552; x=1714054352;
 h=references:in-reply-to:cc:to:from:subject:message-id:date
 :x-gm-message-state:from:to:cc:subject:date:message-id:reply-to;
 bh=0DHOX03vgDlSWmBgxltC3aFRDumzUQqfAtXJOo2k7d8=;
 b=v56UiCTvxyPxRVioCcL8GTEAGn42mH/8N5msyUc9QKIRRcyGjluxfxCZzLpYBOujrp
 nL1UlB1Lj3X7hNdaP22xSiKigml0VCznL1JBgpSqyDaO0wc51uG2Mr14e/2pyaAjPT/W
 Su8gR1b6q5L272BCUWlfOyMCdvHvSjxpyWfLj0rp7I50TuCr04opy6s5Ct7JL+/y+DxS
 flvW9bGDD3eEaEbJmq6pHNvyFdZEa9+aCMHJuzx7y6d0nOxTGPeOQjY2Pce3cujcKet2
 bLNqktQuZ7Q6CqYST5fiYyBWpaRW7o7YX6w76yyMa+QtWmGCGScYT7WYwqePMUSPVLL5
 UsEw==
X-Gm-Message-State: AOJu0Yzbi2Wm1qgjkcXhYY5q0d/OYm6WWb8buJ40jOTBTo5/O2Lc/lLM
 /scrALvZKDh6vVRdl6nMy6dpAgYxT9XWmsy7Nec+ol9IUR0DCQN8zRVs/KjWtsTFfORDL0JncG3
 Gnr40jt9pDWkrjytmXjo+fD8+UWSeLuAzsvv+Itdc
X-Google-Smtp-Source: AGHT+IGLs1hxUY7gWsPf9+krSXvufYSszz6rUuJhX8duesXuUIv0gA87YaGtUeai5HLmlv78ZfKj9cs8PEeN
X-Received: by 2002:a17:902:d485:b0:1e5:9391:1d44 with SMTP id
 c5-20020a170902d48500b001e593911d44mr3675518plg.47.1713449551976; 
 Thu, 18 Apr 2024 07:12:31 -0700 (PDT)
Received: from postal.iol.unh.edu (postal.iol.unh.edu. [132.177.123.84])
 by smtp-relay.gmail.com with ESMTPS id
 13-20020a170902c24d00b001e24e2782adsm62125plg.107.2024.04.18.07.12.31
 (version=TLS1_2 cipher=ECDHE-ECDSA-AES128-GCM-SHA256 bits=128/128);
 Thu, 18 Apr 2024 07:12:31 -0700 (PDT)
X-Relaying-Domain: iol.unh.edu
Date: Thu, 18 Apr 2024 07:12:31 -0700 (PDT)
Message-ID: <66212a4f.170a0220.9be6a.31bdSMTPIN_ADDED_MISSING@mx.google.com>
Received: from [172.17.0.4] (unknown [172.18.0.217])
 by postal.iol.unh.edu (Postfix) with ESMTP id 0778C6052514;
 Thu, 18 Apr 2024 10:12:31 -0400 (EDT)
Subject: |SUCCESS| pw139488-139493 [PATCH] [RFC,6/6] rcu: remove VLA warnings
From: dpdklab@iol.unh.edu
To: Test Report <test-report@dpdk.org>
Cc: dpdk-test-reports@iol.unh.edu
In-Reply-To: <20240418103314.40705-7-konstantin.v.ananyev@yandex.ru>
References: <20240418103314.40705-7-konstantin.v.ananyev@yandex.ru>
Content-Type: text/plain
X-BeenThere: test-report@dpdk.org
X-Mailman-Version: 2.1.29
Precedence: list
List-Id: automatic DPDK test reports <test-report.dpdk.org>
List-Unsubscribe: <https://mails.dpdk.org/options/test-report>,
 <mailto:test-report-request@dpdk.org?subject=unsubscribe>
List-Archive: <http://mails.dpdk.org/archives/test-report/>
List-Post: <mailto:test-report@dpdk.org>
List-Help: <mailto:test-report-request@dpdk.org?subject=help>
List-Subscribe: <https://mails.dpdk.org/listinfo/test-report>,
 <mailto:test-report-request@dpdk.org?subject=subscribe>
Errors-To: test-report-bounces@dpdk.org

Test-Label: iol-compile-arm64-testing
Test-Status: SUCCESS
http://dpdk.org/patch/139493

_Testing PASS_

Submitter: Konstantin Ananyev <konstantin.v.ananyev@yandex.ru>
Date: Thursday, April 18 2024 10:33:14 
DPDK git baseline: Repo:dpdk
  Branch: master
  CommitID:e2e546ab5bf5e024986ccb5310ab43982f3bb40c

139488-139493 --> testing pass

Test environment and result as below:

+----------------------------------------+--------------------+
|              Environment               | dpdk_meson_compile |
+========================================+====================+
| Debian 12 with MUSDK                   | PASS               |
+----------------------------------------+--------------------+
| Ubuntu 20.04 ARM SVE                   | PASS               |
+----------------------------------------+--------------------+
| Fedora 38 (ARM)                        | PASS               |
+----------------------------------------+--------------------+
| Ubuntu 20.04 ARM Clang Cross Compile   | PASS               |
+----------------------------------------+--------------------+
| Ubuntu 20.04 aarch32 GCC Cross Compile | PASS               |
+----------------------------------------+--------------------+
| Fedora 37 (ARM)                        | PASS               |
+----------------------------------------+--------------------+
| Ubuntu 20.04 (ARM)                     | PASS               |
+----------------------------------------+--------------------+
| Ubuntu 20.04 ARM GCC Cross Compile     | PASS               |
+----------------------------------------+--------------------+
| CentOS Stream 9 (ARM)                  | PASS               |
+----------------------------------------+--------------------+
| Debian 11 (Buster) (ARM)               | PASS               |
+----------------------------------------+--------------------+
| Debian 12 (arm)                        | PASS               |
+----------------------------------------+--------------------+


Debian 12 with MUSDK
	Kernel: Container Host Kernel
	Compiler: gcc 12.2.0

Ubuntu 20.04 ARM SVE
	Kernel: 5.4.0-167-generic
	Compiler: gcc (Ubuntu 10.5.0-1ubuntu1~20.04) 10.5.0

Fedora 38 (ARM)
	Kernel: Depends on container host
	Compiler: gcc 13.2.1

Ubuntu 20.04 ARM Clang Cross Compile
	Kernel: 5.4.0-72-generic
	Compiler: clang 10.0.0-4ubuntu1

Ubuntu 20.04 aarch32 GCC Cross Compile
	Kernel: 5.4.0-167-generic
	Compiler: gcc 9.4.0

Fedora 37 (ARM)
	Kernel: Depends on container host
	Compiler: gcc 12.3.1

Ubuntu 20.04 (ARM)
	Kernel: Container Host Kernel
	Compiler: gcc 9.4.0

Ubuntu 20.04 ARM GCC Cross Compile
	Kernel: 5.4.0-167-generic
	Compiler: aarch64-linux-gnu-gcc (Ubuntu 9.4.0-1ubuntu1~20.04.2) 9.4.0

CentOS Stream 9 (ARM)
	Kernel: Container Host Kernel
	Compiler: gcc 11.4.1

Debian 11 (Buster) (ARM)
	Kernel: Container Host Kernel
	Compiler: gcc 10.2.1

Debian 12 (arm)
	Kernel: Container Host Kernel
	Compiler: gcc 12.2.0

To view detailed results, visit:
https://lab.dpdk.org/results/dashboard/patchsets/29817/

UNH-IOL DPDK Community Lab

To manage your email subscriptions, visit: 
https://lab.dpdk.org/results/dashboard/preferences/subscriptions/