From mboxrd@z Thu Jan  1 00:00:00 1970
Return-Path: <test-report-bounces@dpdk.org>
Received: from mails.dpdk.org (mails.dpdk.org [217.70.189.124])
	by inbox.dpdk.org (Postfix) with ESMTP id D344743EA5
	for <public@inbox.dpdk.org>; Thu, 18 Apr 2024 16:59:33 +0200 (CEST)
Received: from mails.dpdk.org (localhost [127.0.0.1])
	by mails.dpdk.org (Postfix) with ESMTP id CEB9940272;
	Thu, 18 Apr 2024 16:59:33 +0200 (CEST)
Received: from mail-pl1-f225.google.com (mail-pl1-f225.google.com
 [209.85.214.225])
 by mails.dpdk.org (Postfix) with ESMTP id C07CC40042
 for <test-report@dpdk.org>; Thu, 18 Apr 2024 16:59:31 +0200 (CEST)
Received: by mail-pl1-f225.google.com with SMTP id
 d9443c01a7336-1e40042c13eso7822195ad.2
 for <test-report@dpdk.org>; Thu, 18 Apr 2024 07:59:31 -0700 (PDT)
DKIM-Signature: v=1; a=rsa-sha256; c=relaxed/relaxed;
 d=iol.unh.edu; s=unh-iol; t=1713452371; x=1714057171; darn=dpdk.org;
 h=references:in-reply-to:cc:to:from:subject:message-id:date:from:to
 :cc:subject:date:message-id:reply-to;
 bh=mHFpwLUIj60o3MNPdfB0rQ+PwSqAcFxzZu+E1CgS/Hg=;
 b=Ngl1MXMSYG+7dJ21Br1xEQR1ecXJYJo1RkQ/Rntcm5/1Qamc41MrTTZBBqtuCfdDvL
 UMxvNSauFxA8Lr+fF+eYeana+kVEMaGmUHo5r8dWAAqlPUhCQwR3S1AsvU7i3OmetLVi
 X4o1q3BPKSRkQxEnn+NBG4tY4ee8JAKRSUbbQ=
X-Google-DKIM-Signature: v=1; a=rsa-sha256; c=relaxed/relaxed;
 d=1e100.net; s=20230601; t=1713452371; x=1714057171;
 h=references:in-reply-to:cc:to:from:subject:message-id:date
 :x-gm-message-state:from:to:cc:subject:date:message-id:reply-to;
 bh=mHFpwLUIj60o3MNPdfB0rQ+PwSqAcFxzZu+E1CgS/Hg=;
 b=X8cxvqftgf5R4TDfay4AwYfKE8aoJo97puJRR5H+brFFbXGKIgtYuPm8jNqmpSZ7NE
 lU8nE50gozgmIX7+h6kAKtmRbuRvppGMPMzSA3QV9MXSv/pCEC6mMg4iDBFhctWBe5RD
 3QKRLzJx7b47Old6+2XGa9We9JDW6GemyG62OZCYsB3WZIPf3ppS1d8b3tdLevVTmcz+
 t4cA6JX07JemwcaTVQjI5QB5wTQw7Ug6yPx90dIsPxdrfrITmRLos6OmWgkaizghKMqO
 Hjxz9/0xICrV2Vv9PxOP5mQMOaMOkBi7756fDvJIunR0cRI9/bNGqtAyrpSyns1A58kk
 Iz7A==
X-Gm-Message-State: AOJu0YzJo+FNrrrlwGaHRWg2tfLc7BH49s4D/DCGt/O8KvAHqZ+LnRxb
 UusyQpoMrB73/Qe22WlrbhkSCxXyCj2gL1fGdI8e79tF5wOss3SM9Qs7Hrez83G47z94H+7+oZi
 yoJNRX4mAaFzV6KDNlQGmBVGzZrZpRjvsoeSI/S2P
X-Google-Smtp-Source: AGHT+IHYPDWVYXLR9T4oWQ2SYiu04NW8IacJgXFdXC/zTOQAAC7KTkm/rKA+iqIWCRikllnAuikHTxtwFpQ0
X-Received: by 2002:a17:902:b90c:b0:1e4:64ac:caad with SMTP id
 bf12-20020a170902b90c00b001e464accaadmr3043985plb.66.1713452370986; 
 Thu, 18 Apr 2024 07:59:30 -0700 (PDT)
Received: from postal.iol.unh.edu (postal.iol.unh.edu. [132.177.123.84])
 by smtp-relay.gmail.com with ESMTPS id
 g7-20020a170902868700b001e0c120866fsm63118plo.25.2024.04.18.07.59.30
 (version=TLS1_2 cipher=ECDHE-ECDSA-AES128-GCM-SHA256 bits=128/128);
 Thu, 18 Apr 2024 07:59:30 -0700 (PDT)
X-Relaying-Domain: iol.unh.edu
Date: Thu, 18 Apr 2024 07:59:30 -0700 (PDT)
Message-ID: <66213552.170a0220.5245d.340dSMTPIN_ADDED_MISSING@mx.google.com>
Received: from [172.17.0.4] (unknown [172.18.0.217])
 by postal.iol.unh.edu (Postfix) with ESMTP id 1C9476052514;
 Thu, 18 Apr 2024 10:59:30 -0400 (EDT)
Subject: |SUCCESS| pw139494 [PATCH] net/ixgbe: don't create a delayed interru
From: dpdklab@iol.unh.edu
To: Test Report <test-report@dpdk.org>
Cc: dpdk-test-reports@iol.unh.edu
In-Reply-To: <20240418135307.3270094-1-edwin.brossette@6wind.com>
References: <20240418135307.3270094-1-edwin.brossette@6wind.com>
Content-Type: text/plain
X-BeenThere: test-report@dpdk.org
X-Mailman-Version: 2.1.29
Precedence: list
List-Id: automatic DPDK test reports <test-report.dpdk.org>
List-Unsubscribe: <https://mails.dpdk.org/options/test-report>,
 <mailto:test-report-request@dpdk.org?subject=unsubscribe>
List-Archive: <http://mails.dpdk.org/archives/test-report/>
List-Post: <mailto:test-report@dpdk.org>
List-Help: <mailto:test-report-request@dpdk.org?subject=help>
List-Subscribe: <https://mails.dpdk.org/listinfo/test-report>,
 <mailto:test-report-request@dpdk.org?subject=subscribe>
Errors-To: test-report-bounces@dpdk.org

Test-Label: iol-compile-amd64-testing
Test-Status: SUCCESS
http://dpdk.org/patch/139494

_Testing PASS_

Submitter: None <edwin.brossette@6wind.com>
Date: Thursday, April 18 2024 13:53:07 
DPDK git baseline: Repo:dpdk
  Branch: master
  CommitID:2ac57ed414af92f0c30a799e1824fd47f86a94b0

139494 --> testing pass

Test environment and result as below:

+---------------------+--------------------+----------------------+-------------------+
|     Environment     | dpdk_meson_compile | dpdk_mingw64_compile | dpdk_msvc_compile |
+=====================+====================+======================+===================+
| Debian Bullseye     | PASS               | SKIPPED              | SKIPPED           |
+---------------------+--------------------+----------------------+-------------------+
| CentOS Stream 8     | PASS               | SKIPPED              | SKIPPED           |
+---------------------+--------------------+----------------------+-------------------+
| Windows Server 2019 | PASS               | PASS                 | SKIPPED           |
+---------------------+--------------------+----------------------+-------------------+
| Fedora 37           | PASS               | SKIPPED              | SKIPPED           |
+---------------------+--------------------+----------------------+-------------------+
| Debian 12           | PASS               | SKIPPED              | SKIPPED           |
+---------------------+--------------------+----------------------+-------------------+
| Windows Server 2022 | PASS               | PASS                 | PASS              |
+---------------------+--------------------+----------------------+-------------------+
| FreeBSD 13.2        | PASS               | SKIPPED              | SKIPPED           |
+---------------------+--------------------+----------------------+-------------------+
| Fedora 38           | PASS               | SKIPPED              | SKIPPED           |
+---------------------+--------------------+----------------------+-------------------+
| RHEL8               | PASS               | SKIPPED              | SKIPPED           |
+---------------------+--------------------+----------------------+-------------------+
| openSUSE Leap 15    | PASS               | SKIPPED              | SKIPPED           |
+---------------------+--------------------+----------------------+-------------------+
| Ubuntu 22.04        | PASS               | SKIPPED              | SKIPPED           |
+---------------------+--------------------+----------------------+-------------------+
| Fedora 39           | PASS               | SKIPPED              | SKIPPED           |
+---------------------+--------------------+----------------------+-------------------+
| CentOS Stream 9     | PASS               | SKIPPED              | SKIPPED           |
+---------------------+--------------------+----------------------+-------------------+


Debian Bullseye
	Kernel: 5.4.0-167-generic
	Compiler: gcc 10.2.1-6

CentOS Stream 8
	Kernel: 5.4.0-167-generic
	Compiler: gcc 8.5.0 20210514

Windows Server 2019
	Kernel: 10.0.17763
	Compiler: clang 14.0 and gcc 8.1.0 (MinGW)

Fedora 37
	Kernel: Depends on container host system
	Compiler: gcc 12.3.1

Debian 12
	Kernel: Container Host Kernel
	Compiler: gcc 10.2.1

Windows Server 2022
	Kernel: 10.0.20348.2031
	Compiler: clang 15.0.7, gcc 8.1.0 (MinGW), and MSVC VS 17.9

FreeBSD 13.2
	Kernel: 13.2
	Compiler: clang 14.0.5

Fedora 38
	Kernel: Depends on container host
	Compiler: gcc 13.2.1

RHEL8
	Kernel: 5.4.0-167-generic
	Compiler: gcc 8.5.0 20210514 (Red Hat 8.5.0-20)

openSUSE Leap 15
	Kernel: 5.4.0-167-generic
	Compiler: gcc 7.5.0

Ubuntu 22.04
	Kernel: 5.4.0-167-generic
	Compiler: gcc 11.4.0

Fedora 39
	Kernel: Depends on container host
	Compiler: gcc 13.2.1

CentOS Stream 9
	Kernel: 5.4.0-167-generic
	Compiler: gcc 11.4.1 20230605

To view detailed results, visit:
https://lab.dpdk.org/results/dashboard/patchsets/29818/

UNH-IOL DPDK Community Lab

To manage your email subscriptions, visit: 
https://lab.dpdk.org/results/dashboard/preferences/subscriptions/