From mboxrd@z Thu Jan  1 00:00:00 1970
Return-Path: <test-report-bounces@dpdk.org>
Received: from mails.dpdk.org (mails.dpdk.org [217.70.189.124])
	by inbox.dpdk.org (Postfix) with ESMTP id D9BB043EA5
	for <public@inbox.dpdk.org>; Thu, 18 Apr 2024 17:02:23 +0200 (CEST)
Received: from mails.dpdk.org (localhost [127.0.0.1])
	by mails.dpdk.org (Postfix) with ESMTP id D1BD840272;
	Thu, 18 Apr 2024 17:02:23 +0200 (CEST)
Received: from mail-yw1-f226.google.com (mail-yw1-f226.google.com
 [209.85.128.226])
 by mails.dpdk.org (Postfix) with ESMTP id A824F40042
 for <test-report@dpdk.org>; Thu, 18 Apr 2024 17:02:22 +0200 (CEST)
Received: by mail-yw1-f226.google.com with SMTP id
 00721157ae682-61ae4743d36so10656637b3.2
 for <test-report@dpdk.org>; Thu, 18 Apr 2024 08:02:22 -0700 (PDT)
DKIM-Signature: v=1; a=rsa-sha256; c=relaxed/relaxed;
 d=iol.unh.edu; s=unh-iol; t=1713452542; x=1714057342; darn=dpdk.org;
 h=references:in-reply-to:cc:to:from:subject:message-id:date:from:to
 :cc:subject:date:message-id:reply-to;
 bh=qM8iFS2cy9T5q+bvy2pq8JIJUK2VgT9meG8KsstXwBw=;
 b=E2ZQlotcpnmwR+Lf1I5MZsvMurpqgOCyCDErx3JuB+T8c7EZ64PuR+5zxl/euwalc1
 Z/v03e2TCa3kODkovmMltZV9la/8hkPGBfzIRVqnRbtLqdcJQy18Yg90yuYU7PPaUjsq
 bQhlfXh9ETO52cXmXRxDU5ULHt3QC+j2XmqLk=
X-Google-DKIM-Signature: v=1; a=rsa-sha256; c=relaxed/relaxed;
 d=1e100.net; s=20230601; t=1713452542; x=1714057342;
 h=references:in-reply-to:cc:to:from:subject:message-id:date
 :x-gm-message-state:from:to:cc:subject:date:message-id:reply-to;
 bh=qM8iFS2cy9T5q+bvy2pq8JIJUK2VgT9meG8KsstXwBw=;
 b=wI6iMg260DC6agVOL6VVeCCq2XuSaOiUvzQSYOHf6JDvDMa6eakJ/gLdS+xuxvt5P+
 B07pW4bRQIIhjjwaNtoxhtZAyuVigr3HHWFwaMVxv4V3sns11SIo1/jq3G/CIA8HqNxt
 5FnblduBBee79YmNIUqX0O0gDoNo9B/WvKFFTJ7fxiKAbBXzFTytmTKwizsMQOkZV8Eh
 VhWIxY8rRvt7UK+sIvohkU092hM0D+3+uKx1LjTt+AUQknuxj/f0+f5g2TLitX4UN51o
 KN2H9VoJSn8AESVYAJQOTNtoYpsDI8o9ya+BlEhzSfhT4LPziVYdaOD6zUAeesmgjlQe
 fW2Q==
X-Gm-Message-State: AOJu0YwF4EbghsQ3ySSd9zuWrcoOkoWg5MzRz6niGoAM6cWww99EG0U0
 9e0nzMS0ChiVd9r05SFEk0AJPk3hAzFdbsZq5hvHTzUVmuwmn73um87WbBIGFc2+AgtlwFvii1h
 dATkhI3Dvar+a/qGQ0KhszR7sASqhhahvmwn0t4VT
X-Google-Smtp-Source: AGHT+IFQ/ym4xswP8pTO+QRpGVK3mRAXYF2ycuWTUlm9fb00I0YI4hMpqAqwzLaESc8pKMU0TXnshZS1k8OZ
X-Received: by 2002:a05:690c:6d8b:b0:617:c383:42ac with SMTP id
 iw11-20020a05690c6d8b00b00617c38342acmr3195805ywb.51.1713452541738; 
 Thu, 18 Apr 2024 08:02:21 -0700 (PDT)
Received: from postal.iol.unh.edu (postal.iol.unh.edu. [132.177.123.84])
 by smtp-relay.gmail.com with ESMTPS id
 u76-20020a0deb4f000000b00617c7cd3af1sm111510ywe.20.2024.04.18.08.02.21
 (version=TLS1_2 cipher=ECDHE-ECDSA-AES128-GCM-SHA256 bits=128/128);
 Thu, 18 Apr 2024 08:02:21 -0700 (PDT)
X-Relaying-Domain: iol.unh.edu
Date: Thu, 18 Apr 2024 08:02:21 -0700 (PDT)
Message-ID: <662135fd.0d0a0220.497f0.5aacSMTPIN_ADDED_MISSING@mx.google.com>
Received: from [172.17.0.2] (unknown [172.18.0.217])
 by postal.iol.unh.edu (Postfix) with ESMTP id 6E7CE6052514;
 Thu, 18 Apr 2024 11:02:21 -0400 (EDT)
Subject: |SUCCESS| pw139494 [PATCH] net/ixgbe: don't create a delayed interru
From: dpdklab@iol.unh.edu
To: Test Report <test-report@dpdk.org>
Cc: dpdk-test-reports@iol.unh.edu
In-Reply-To: <20240418135307.3270094-1-edwin.brossette@6wind.com>
References: <20240418135307.3270094-1-edwin.brossette@6wind.com>
Content-Type: text/plain
X-BeenThere: test-report@dpdk.org
X-Mailman-Version: 2.1.29
Precedence: list
List-Id: automatic DPDK test reports <test-report.dpdk.org>
List-Unsubscribe: <https://mails.dpdk.org/options/test-report>,
 <mailto:test-report-request@dpdk.org?subject=unsubscribe>
List-Archive: <http://mails.dpdk.org/archives/test-report/>
List-Post: <mailto:test-report@dpdk.org>
List-Help: <mailto:test-report-request@dpdk.org?subject=help>
List-Subscribe: <https://mails.dpdk.org/listinfo/test-report>,
 <mailto:test-report-request@dpdk.org?subject=subscribe>
Errors-To: test-report-bounces@dpdk.org

Test-Label: iol-compile-amd64-testing
Test-Status: SUCCESS
http://dpdk.org/patch/139494

_Testing PASS_

Submitter: None <edwin.brossette@6wind.com>
Date: Thursday, April 18 2024 13:53:07 
DPDK git baseline: Repo:dpdk
  Branch: master
  CommitID:2ac57ed414af92f0c30a799e1824fd47f86a94b0

139494 --> testing pass

Test environment and result as below:

+---------------------+--------------------+----------------------+-------------------+
|     Environment     | dpdk_meson_compile | dpdk_mingw64_compile | dpdk_msvc_compile |
+=====================+====================+======================+===================+
| Debian Bullseye     | PASS               | SKIPPED              | SKIPPED           |
+---------------------+--------------------+----------------------+-------------------+
| CentOS Stream 8     | PASS               | SKIPPED              | SKIPPED           |
+---------------------+--------------------+----------------------+-------------------+
| Windows Server 2019 | PASS               | PASS                 | SKIPPED           |
+---------------------+--------------------+----------------------+-------------------+
| Fedora 37           | PASS               | SKIPPED              | SKIPPED           |
+---------------------+--------------------+----------------------+-------------------+
| Debian 12           | PASS               | SKIPPED              | SKIPPED           |
+---------------------+--------------------+----------------------+-------------------+
| Windows Server 2022 | PASS               | PASS                 | PASS              |
+---------------------+--------------------+----------------------+-------------------+
| FreeBSD 13.2        | PASS               | SKIPPED              | SKIPPED           |
+---------------------+--------------------+----------------------+-------------------+
| Fedora 38           | PASS               | SKIPPED              | SKIPPED           |
+---------------------+--------------------+----------------------+-------------------+
| RHEL8               | PASS               | SKIPPED              | SKIPPED           |
+---------------------+--------------------+----------------------+-------------------+
| openSUSE Leap 15    | PASS               | SKIPPED              | SKIPPED           |
+---------------------+--------------------+----------------------+-------------------+
| Ubuntu 22.04        | PASS               | SKIPPED              | SKIPPED           |
+---------------------+--------------------+----------------------+-------------------+
| Fedora 39           | PASS               | SKIPPED              | SKIPPED           |
+---------------------+--------------------+----------------------+-------------------+
| CentOS Stream 9     | PASS               | SKIPPED              | SKIPPED           |
+---------------------+--------------------+----------------------+-------------------+
| Ubuntu 20.04        | PASS               | SKIPPED              | SKIPPED           |
+---------------------+--------------------+----------------------+-------------------+


Debian Bullseye
	Kernel: 5.4.0-167-generic
	Compiler: gcc 10.2.1-6

CentOS Stream 8
	Kernel: 5.4.0-167-generic
	Compiler: gcc 8.5.0 20210514

Windows Server 2019
	Kernel: 10.0.17763
	Compiler: clang 14.0 and gcc 8.1.0 (MinGW)

Fedora 37
	Kernel: Depends on container host system
	Compiler: gcc 12.3.1

Debian 12
	Kernel: Container Host Kernel
	Compiler: gcc 10.2.1

Windows Server 2022
	Kernel: 10.0.20348.2031
	Compiler: clang 15.0.7, gcc 8.1.0 (MinGW), and MSVC VS 17.9

FreeBSD 13.2
	Kernel: 13.2
	Compiler: clang 14.0.5

Fedora 38
	Kernel: Depends on container host
	Compiler: gcc 13.2.1

RHEL8
	Kernel: 5.4.0-167-generic
	Compiler: gcc 8.5.0 20210514 (Red Hat 8.5.0-20)

openSUSE Leap 15
	Kernel: 5.4.0-167-generic
	Compiler: gcc 7.5.0

Ubuntu 22.04
	Kernel: 5.4.0-167-generic
	Compiler: gcc 11.4.0

Fedora 39
	Kernel: Depends on container host
	Compiler: gcc 13.2.1

CentOS Stream 9
	Kernel: 5.4.0-167-generic
	Compiler: gcc 11.4.1 20230605

Ubuntu 20.04
	Kernel: 5.4.0-167-generic
	Compiler: gcc 9.4.0-1ubuntu1~20.04.1

To view detailed results, visit:
https://lab.dpdk.org/results/dashboard/patchsets/29818/

UNH-IOL DPDK Community Lab

To manage your email subscriptions, visit: 
https://lab.dpdk.org/results/dashboard/preferences/subscriptions/