From mboxrd@z Thu Jan  1 00:00:00 1970
Return-Path: <test-report-bounces@dpdk.org>
Received: from mails.dpdk.org (mails.dpdk.org [217.70.189.124])
	by inbox.dpdk.org (Postfix) with ESMTP id 290AA43EA5
	for <public@inbox.dpdk.org>; Thu, 18 Apr 2024 17:06:50 +0200 (CEST)
Received: from mails.dpdk.org (localhost [127.0.0.1])
	by mails.dpdk.org (Postfix) with ESMTP id 202F540ED8;
	Thu, 18 Apr 2024 17:06:50 +0200 (CEST)
Received: from mail-il1-f226.google.com (mail-il1-f226.google.com
 [209.85.166.226])
 by mails.dpdk.org (Postfix) with ESMTP id E910740042
 for <test-report@dpdk.org>; Thu, 18 Apr 2024 17:06:40 +0200 (CEST)
Received: by mail-il1-f226.google.com with SMTP id
 e9e14a558f8ab-36b375ceb9bso3839105ab.2
 for <test-report@dpdk.org>; Thu, 18 Apr 2024 08:06:40 -0700 (PDT)
DKIM-Signature: v=1; a=rsa-sha256; c=relaxed/relaxed;
 d=iol.unh.edu; s=unh-iol; t=1713452800; x=1714057600; darn=dpdk.org;
 h=references:in-reply-to:cc:to:from:subject:message-id:date:from:to
 :cc:subject:date:message-id:reply-to;
 bh=lf4tEfKHvvoWwdtI78mTnPlyG6Jvl2bknMQAnWluB04=;
 b=eiFVjQYhfjjZ44CFGLNMixQes3h6DFQxacAZ1RPhALzLxp8CimxizkJZxDgHdBCOnG
 zllYEUtHi2b+RXQsdqn45oxDaY5hpwDhZlvrwfLimMWqzPd0dpNYKc8iiQ5oyBTh20nC
 zsxX8R83DAj3vcLBfUYQMENCKDgZMP+pdCHKU=
X-Google-DKIM-Signature: v=1; a=rsa-sha256; c=relaxed/relaxed;
 d=1e100.net; s=20230601; t=1713452800; x=1714057600;
 h=references:in-reply-to:cc:to:from:subject:message-id:date
 :x-gm-message-state:from:to:cc:subject:date:message-id:reply-to;
 bh=lf4tEfKHvvoWwdtI78mTnPlyG6Jvl2bknMQAnWluB04=;
 b=JgolF1cjHBLfLWUW6QEq5zfBLibmRa8MsvCnOjEyguDFOgKWSVw4er5eaDGEe5o/X/
 uXhiAwQ0B35m9zFqRIkDhL5H572HY9nEMOBWYgLsMdOttdSs9flCYMAL1OMVg7T/0KoR
 c29A/FwLSDSmpmqN0ijDcJEjwGWbm4AJDZv05g343qOgeZl55mt10jUsFHXAvlj7yV0h
 7oIQ4bil6ZQ/gLr/0Rkr6QKxL6ylinNOv76/xLoS5jDgiyibPRvwv9hiDhjpHER/Tzjd
 PieCdx9ewqWelqX+pw3SzTr9WRtUEUS7fw/dlncxR9guJpwocpKTGPwSdtfhDQHQJVAA
 faLA==
X-Gm-Message-State: AOJu0Yxk2wbR6vRjlE5pStbg2ipMBqo2XRL8ZO98JVZbEQ7MEkm20l8S
 UeDsoDzYS7XPXwTc30dGXBYon/+0+Zq2Xu5Vfxi8f44Fd7KuXU4ub4ZDRZB2HV6Ilop2/K/KFvI
 t/sqY59Cu2RkcstiK34xM0go8XNJZ4p0XrPji9nnIg22or1EtY0tUMGoN
X-Google-Smtp-Source: AGHT+IHEFCLn+A4/CdaT5C51SWItKH0Uqwvag5dk7kltu9bVBEaxyBjcjfCjYtE7LxL2bsv76qHhyx8CUU3K
X-Received: by 2002:a92:cd8a:0:b0:36b:2438:8805 with SMTP id
 r10-20020a92cd8a000000b0036b24388805mr3878356ilb.12.1713452800412; 
 Thu, 18 Apr 2024 08:06:40 -0700 (PDT)
Received: from postal.iol.unh.edu (postal.iol.unh.edu.
 [2606:4100:3880:1234::84]) by smtp-relay.gmail.com with ESMTPS id
 17-20020a056e0211b100b0036afd2c2fbfsm91836ilj.73.2024.04.18.08.06.40
 (version=TLS1_2 cipher=ECDHE-ECDSA-AES128-GCM-SHA256 bits=128/128);
 Thu, 18 Apr 2024 08:06:40 -0700 (PDT)
X-Relaying-Domain: iol.unh.edu
Date: Thu, 18 Apr 2024 08:06:40 -0700 (PDT)
Message-ID: <66213700.050a0220.618ef.4b92SMTPIN_ADDED_MISSING@mx.google.com>
Received: from [172.17.0.4] (unknown [172.18.0.217])
 by postal.iol.unh.edu (Postfix) with ESMTP id F3B076052514;
 Thu, 18 Apr 2024 11:06:39 -0400 (EDT)
Subject: |SUCCESS| pw139494 [PATCH] net/ixgbe: don't create a delayed interru
From: dpdklab@iol.unh.edu
To: Test Report <test-report@dpdk.org>
Cc: dpdk-test-reports@iol.unh.edu
In-Reply-To: <20240418135307.3270094-1-edwin.brossette@6wind.com>
References: <20240418135307.3270094-1-edwin.brossette@6wind.com>
Content-Type: text/plain
X-BeenThere: test-report@dpdk.org
X-Mailman-Version: 2.1.29
Precedence: list
List-Id: automatic DPDK test reports <test-report.dpdk.org>
List-Unsubscribe: <https://mails.dpdk.org/options/test-report>,
 <mailto:test-report-request@dpdk.org?subject=unsubscribe>
List-Archive: <http://mails.dpdk.org/archives/test-report/>
List-Post: <mailto:test-report@dpdk.org>
List-Help: <mailto:test-report-request@dpdk.org?subject=help>
List-Subscribe: <https://mails.dpdk.org/listinfo/test-report>,
 <mailto:test-report-request@dpdk.org?subject=subscribe>
Errors-To: test-report-bounces@dpdk.org

Test-Label: iol-compile-arm64-testing
Test-Status: SUCCESS
http://dpdk.org/patch/139494

_Testing PASS_

Submitter: None <edwin.brossette@6wind.com>
Date: Thursday, April 18 2024 13:53:07 
DPDK git baseline: Repo:dpdk
  Branch: master
  CommitID:2ac57ed414af92f0c30a799e1824fd47f86a94b0

139494 --> testing pass

Test environment and result as below:

+----------------------------------------+--------------------+
|              Environment               | dpdk_meson_compile |
+========================================+====================+
| Ubuntu 20.04 ARM SVE                   | PASS               |
+----------------------------------------+--------------------+
| Debian 12 with MUSDK                   | PASS               |
+----------------------------------------+--------------------+
| Ubuntu 20.04 aarch32 GCC Cross Compile | PASS               |
+----------------------------------------+--------------------+
| Debian 11 (Buster) (ARM)               | PASS               |
+----------------------------------------+--------------------+
| Fedora 37 (ARM)                        | PASS               |
+----------------------------------------+--------------------+
| Ubuntu 20.04 (ARM)                     | PASS               |
+----------------------------------------+--------------------+
| Ubuntu 20.04 ARM Clang Cross Compile   | PASS               |
+----------------------------------------+--------------------+
| Fedora 39 (ARM)                        | PASS               |
+----------------------------------------+--------------------+
| Fedora 38 (ARM)                        | PASS               |
+----------------------------------------+--------------------+
| CentOS Stream 9 (ARM)                  | PASS               |
+----------------------------------------+--------------------+
| Debian 12 (arm)                        | PASS               |
+----------------------------------------+--------------------+


Ubuntu 20.04 ARM SVE
	Kernel: 5.4.0-167-generic
	Compiler: gcc (Ubuntu 10.5.0-1ubuntu1~20.04) 10.5.0

Debian 12 with MUSDK
	Kernel: Container Host Kernel
	Compiler: gcc 12.2.0

Ubuntu 20.04 aarch32 GCC Cross Compile
	Kernel: 5.4.0-167-generic
	Compiler: gcc 9.4.0

Debian 11 (Buster) (ARM)
	Kernel: Container Host Kernel
	Compiler: gcc 10.2.1

Fedora 37 (ARM)
	Kernel: Depends on container host
	Compiler: gcc 12.3.1

Ubuntu 20.04 (ARM)
	Kernel: Container Host Kernel
	Compiler: gcc 9.4.0

Ubuntu 20.04 ARM Clang Cross Compile
	Kernel: 5.4.0-72-generic
	Compiler: clang 10.0.0-4ubuntu1

Fedora 39 (ARM)
	Kernel: Depends on container host
	Compiler: gcc 13.2.1

Fedora 38 (ARM)
	Kernel: Depends on container host
	Compiler: gcc 13.2.1

CentOS Stream 9 (ARM)
	Kernel: Container Host Kernel
	Compiler: gcc 11.4.1

Debian 12 (arm)
	Kernel: Container Host Kernel
	Compiler: gcc 12.2.0

To view detailed results, visit:
https://lab.dpdk.org/results/dashboard/patchsets/29818/

UNH-IOL DPDK Community Lab

To manage your email subscriptions, visit: 
https://lab.dpdk.org/results/dashboard/preferences/subscriptions/