From mboxrd@z Thu Jan  1 00:00:00 1970
Return-Path: <test-report-bounces@dpdk.org>
Received: from mails.dpdk.org (mails.dpdk.org [217.70.189.124])
	by inbox.dpdk.org (Postfix) with ESMTP id EA03C43EA5
	for <public@inbox.dpdk.org>; Thu, 18 Apr 2024 17:17:38 +0200 (CEST)
Received: from mails.dpdk.org (localhost [127.0.0.1])
	by mails.dpdk.org (Postfix) with ESMTP id E514D40EF1;
	Thu, 18 Apr 2024 17:17:38 +0200 (CEST)
Received: from mail-oa1-f98.google.com (mail-oa1-f98.google.com
 [209.85.160.98]) by mails.dpdk.org (Postfix) with ESMTP id A1A0D40272
 for <test-report@dpdk.org>; Thu, 18 Apr 2024 17:17:37 +0200 (CEST)
Received: by mail-oa1-f98.google.com with SMTP id
 586e51a60fabf-238fd6481d9so358424fac.3
 for <test-report@dpdk.org>; Thu, 18 Apr 2024 08:17:37 -0700 (PDT)
DKIM-Signature: v=1; a=rsa-sha256; c=relaxed/relaxed;
 d=iol.unh.edu; s=unh-iol; t=1713453457; x=1714058257; darn=dpdk.org;
 h=references:in-reply-to:cc:to:from:subject:message-id:date:from:to
 :cc:subject:date:message-id:reply-to;
 bh=5seEAJpVY4Xw+A23/ESN8RNgLS/Ckh8DFIwt6+kNMPo=;
 b=cY8WZ17ifCMWsN7G1XyWrvQ5YevcL0EGC9aD9rajwdp6GGZtim+136XdV5k6qt7P25
 W9zc7EdolAoly+SLFJqPVTb9BjeLs4vxBL6BD8DQfeDWND0nYvHUqktjFohqe0Qhj3yD
 JfWXahdT1qIRXT8wFg9GSwFmsGFLQA7XBfg28=
X-Google-DKIM-Signature: v=1; a=rsa-sha256; c=relaxed/relaxed;
 d=1e100.net; s=20230601; t=1713453457; x=1714058257;
 h=references:in-reply-to:cc:to:from:subject:message-id:date
 :x-gm-message-state:from:to:cc:subject:date:message-id:reply-to;
 bh=5seEAJpVY4Xw+A23/ESN8RNgLS/Ckh8DFIwt6+kNMPo=;
 b=jc5UWFMqwEzW8H+74h+Yf9U54bF5xKuPW2zVVJw0EFFxkkyZuazvd4pEt0OPa6S7LC
 3GIy8y/zllBjySFhXWQ6kOJ+w7r+rSgOKRePRFFYDx1X5lp4h28JFfleLru4NFgLGpN0
 3Pi2TpT75YGAUNIyqcnkYTbZDSlZEHqIj8fHXEyOYlnjkXbb7BYSp5PPKiEDX6p8JRsT
 89Zrdzyqn8GsmZ3YAH3NApduCbJm0IuS5ZDLVBwViehv++IXmFILAhdabX9IHRnxl1rE
 Phn+B8Dekim5kwMhZKAAz3fu023njsc9gxD+LqRNRcBIZYWikEAGXYrRGLwksJlSw5Cs
 k/kw==
X-Gm-Message-State: AOJu0Yyk7pvsum6j6QbdyOGNSn6MOny+8imjUIZL9pou+FdPAopFC7vE
 YogGsVztFrHeHJOaK+OqKRwx4EtXp+5TYFB9r6VmGQNUmQwKgwt6kbOCVw5H81EW/var6aDSlCE
 mASJPJtrU6wwdiToAgYnmpinZUr7kvSdsh5hMCh5E
X-Google-Smtp-Source: AGHT+IExcEZybI1MIimv3FIf8NINVjfJ+QqusxuoAdgt86YvZerlThcfJauHUSn0grqE+VGWjPMeT0QdV3jR
X-Received: by 2002:a05:6870:1490:b0:22a:9ea4:c18 with SMTP id
 k16-20020a056870149000b0022a9ea40c18mr4071327oab.15.1713453456930; 
 Thu, 18 Apr 2024 08:17:36 -0700 (PDT)
Received: from postal.iol.unh.edu (postal.iol.unh.edu. [132.177.123.84])
 by smtp-relay.gmail.com with ESMTPS id
 h21-20020a056870d25500b00221a2cf0cc5sm43553oac.1.2024.04.18.08.17.36
 (version=TLS1_2 cipher=ECDHE-ECDSA-AES128-GCM-SHA256 bits=128/128);
 Thu, 18 Apr 2024 08:17:36 -0700 (PDT)
X-Relaying-Domain: iol.unh.edu
Date: Thu, 18 Apr 2024 08:17:36 -0700 (PDT)
Message-ID: <66213990.050a0220.7be69.2203SMTPIN_ADDED_MISSING@mx.google.com>
Received: from [172.17.0.3] (unknown [172.18.0.217])
 by postal.iol.unh.edu (Postfix) with ESMTP id 64DBD6052514;
 Thu, 18 Apr 2024 11:17:36 -0400 (EDT)
Subject: |SUCCESS| pw139494 [PATCH] net/ixgbe: don't create a delayed interru
From: dpdklab@iol.unh.edu
To: Test Report <test-report@dpdk.org>
Cc: dpdk-test-reports@iol.unh.edu
In-Reply-To: <20240418135307.3270094-1-edwin.brossette@6wind.com>
References: <20240418135307.3270094-1-edwin.brossette@6wind.com>
Content-Type: text/plain
X-BeenThere: test-report@dpdk.org
X-Mailman-Version: 2.1.29
Precedence: list
List-Id: automatic DPDK test reports <test-report.dpdk.org>
List-Unsubscribe: <https://mails.dpdk.org/options/test-report>,
 <mailto:test-report-request@dpdk.org?subject=unsubscribe>
List-Archive: <http://mails.dpdk.org/archives/test-report/>
List-Post: <mailto:test-report@dpdk.org>
List-Help: <mailto:test-report-request@dpdk.org?subject=help>
List-Subscribe: <https://mails.dpdk.org/listinfo/test-report>,
 <mailto:test-report-request@dpdk.org?subject=subscribe>
Errors-To: test-report-bounces@dpdk.org

Test-Label: iol-unit-arm64-testing
Test-Status: SUCCESS
http://dpdk.org/patch/139494

_Testing PASS_

Submitter: None <edwin.brossette@6wind.com>
Date: Thursday, April 18 2024 13:53:07 
DPDK git baseline: Repo:dpdk
  Branch: master
  CommitID:2ac57ed414af92f0c30a799e1824fd47f86a94b0

139494 --> testing pass

Test environment and result as below:

+-----------------------------+------------------------------+----------------+--------------+---------------------------+
|         Environment         | cryptodev_sw_snow3g_autotest | dpdk_unit_test | lpm_autotest | cryptodev_sw_zuc_autotest |
+=============================+==============================+================+==============+===========================+
| Debian 12 (arm)             | PASS                         | PASS           | SKIPPED      | PASS                      |
+-----------------------------+------------------------------+----------------+--------------+---------------------------+
| Debian 11 (Buster) (ARM)    | SKIPPED                      | PASS           | SKIPPED      | SKIPPED                   |
+-----------------------------+------------------------------+----------------+--------------+---------------------------+
| CentOS Stream 9 (ARM)       | SKIPPED                      | PASS           | SKIPPED      | SKIPPED                   |
+-----------------------------+------------------------------+----------------+--------------+---------------------------+
| Fedora 37 (ARM)             | SKIPPED                      | PASS           | SKIPPED      | SKIPPED                   |
+-----------------------------+------------------------------+----------------+--------------+---------------------------+
| 32-bit Ubuntu 20.04.4 (ARM) | SKIPPED                      | PASS           | SKIPPED      | SKIPPED                   |
+-----------------------------+------------------------------+----------------+--------------+---------------------------+
| Fedora 39 (ARM)             | SKIPPED                      | PASS           | SKIPPED      | SKIPPED                   |
+-----------------------------+------------------------------+----------------+--------------+---------------------------+
| Fedora 38 (ARM)             | SKIPPED                      | PASS           | SKIPPED      | SKIPPED                   |
+-----------------------------+------------------------------+----------------+--------------+---------------------------+
| Ubuntu 20.04 ARM SVE        | SKIPPED                      | SKIPPED        | PASS         | SKIPPED                   |
+-----------------------------+------------------------------+----------------+--------------+---------------------------+


Debian 12 (arm)
	Kernel: Container Host Kernel
	Compiler: gcc 12.2.0

Debian 11 (Buster) (ARM)
	Kernel: Container Host Kernel
	Compiler: gcc 10.2.1

CentOS Stream 9 (ARM)
	Kernel: Container Host Kernel
	Compiler: gcc 11.4.1

Fedora 37 (ARM)
	Kernel: Depends on container host
	Compiler: gcc 12.3.1

32-bit Ubuntu 20.04.4 (ARM)
	Kernel: 5.4.0-155-generic aarch64
	Compiler: gcc 9.4

Fedora 39 (ARM)
	Kernel: Depends on container host
	Compiler: gcc 13.2.1

Fedora 38 (ARM)
	Kernel: Depends on container host
	Compiler: gcc 13.2.1

Ubuntu 20.04 ARM SVE
	Kernel: 5.4.0-167-generic
	Compiler: gcc (Ubuntu 10.5.0-1ubuntu1~20.04) 10.5.0

To view detailed results, visit:
https://lab.dpdk.org/results/dashboard/patchsets/29818/

UNH-IOL DPDK Community Lab

To manage your email subscriptions, visit: 
https://lab.dpdk.org/results/dashboard/preferences/subscriptions/