From mboxrd@z Thu Jan  1 00:00:00 1970
Return-Path: <test-report-bounces@dpdk.org>
Received: from mails.dpdk.org (mails.dpdk.org [217.70.189.124])
	by inbox.dpdk.org (Postfix) with ESMTP id 13CE943EA1
	for <public@inbox.dpdk.org>; Thu, 18 Apr 2024 23:32:42 +0200 (CEST)
Received: from mails.dpdk.org (localhost [127.0.0.1])
	by mails.dpdk.org (Postfix) with ESMTP id 0D123402D0;
	Thu, 18 Apr 2024 23:32:42 +0200 (CEST)
Received: from mail-vk1-f226.google.com (mail-vk1-f226.google.com
 [209.85.221.226])
 by mails.dpdk.org (Postfix) with ESMTP id D4DFF402CC
 for <test-report@dpdk.org>; Thu, 18 Apr 2024 23:32:40 +0200 (CEST)
Received: by mail-vk1-f226.google.com with SMTP id
 71dfb90a1353d-4dc9f17c27bso319434e0c.1
 for <test-report@dpdk.org>; Thu, 18 Apr 2024 14:32:40 -0700 (PDT)
DKIM-Signature: v=1; a=rsa-sha256; c=relaxed/relaxed;
 d=iol.unh.edu; s=unh-iol; t=1713475960; x=1714080760; darn=dpdk.org;
 h=references:in-reply-to:cc:to:from:subject:message-id:date:from:to
 :cc:subject:date:message-id:reply-to;
 bh=HOPLkOqEDjwbhGcwQcdqF6HTmysP87ULKf+IunYdGQQ=;
 b=fKhUsQnOpPrbltW2/QZSx2duiZyx0HrywuSqPfRKPxIafKAbqTNPJWkc0csCwEgZcN
 +i9JcMenQyllD5SBwrgsY35mnqrLJwqbfflTA505zcOrzmX3+qUZ2AMh0AQz9F8yQSkz
 sFZ0jTi7TuTGBcZ3g8LxBlITm26Ey891njDc4=
X-Google-DKIM-Signature: v=1; a=rsa-sha256; c=relaxed/relaxed;
 d=1e100.net; s=20230601; t=1713475960; x=1714080760;
 h=references:in-reply-to:cc:to:from:subject:message-id:date
 :x-gm-message-state:from:to:cc:subject:date:message-id:reply-to;
 bh=HOPLkOqEDjwbhGcwQcdqF6HTmysP87ULKf+IunYdGQQ=;
 b=XpEApNwQguZe8aQPaNnV40jMWZffz6/WCVBpGJrzDl6hK0IvrKGk2/FhMJp/KoGgaD
 vvTTu8h0xmomXP43iJ99StJNc8FZtiXUw5cJeN4Si+zwbTtTrdqDMCDphRykiqpqkm2W
 A73jrEf7sLmwNDYSs6JEnadTm0LAqqpwIuj2uStCNwWNrHicCTRH1DZRsLlBmi4Q99hS
 8zkIBO/9U0xvX6lHlBksZnbEFr84dDnOhI03tCOMH44pr8d1+y+nNtxK8GhV66AFWgMv
 YTCw0PxxZjukWB2qZwHzt3ldYfLNA0PPfNlScCL/FyeGvLTQ6DLZmo8oDBIgiJp588yW
 WVIQ==
X-Gm-Message-State: AOJu0YzPqQOh3NdKYJKgjpuMSOkKEb+ueENkRcE0NXoXa4+eJHFkcNuF
 lDbqpbUNk1L+/S+ZTcdu5ivTeXrNzv2KgLyhxOFl0Ecou1+XRe8XDM5Dmj7mMGweeJh7kJyFyp0
 F7RxdyiFnxOlqSevL8vKDz+a1uRag6r0rtSGXSkBW
X-Google-Smtp-Source: AGHT+IEuVFUH3ufHBHPYlCtQfy/8tjwWWrPQp45sWJaMrD3xvYW5nf8CB7oXs7+I+WSMF2h3pngUFf2acGmC
X-Received: by 2002:a05:6122:208a:b0:4db:1b9d:c70a with SMTP id
 i10-20020a056122208a00b004db1b9dc70amr242857vkd.0.1713475960091; 
 Thu, 18 Apr 2024 14:32:40 -0700 (PDT)
Received: from postal.iol.unh.edu (postal.iol.unh.edu. [132.177.123.84])
 by smtp-relay.gmail.com with ESMTPS id
 fw20-20020a0561222a1400b004d87b75351dsm122462vkb.4.2024.04.18.14.32.40
 (version=TLS1_2 cipher=ECDHE-ECDSA-AES128-GCM-SHA256 bits=128/128);
 Thu, 18 Apr 2024 14:32:40 -0700 (PDT)
X-Relaying-Domain: iol.unh.edu
Date: Thu, 18 Apr 2024 14:32:40 -0700 (PDT)
Message-ID: <66219178.050a0220.bb5d9.603aSMTPIN_ADDED_MISSING@mx.google.com>
Received: from [172.21.0.6] (unknown [172.18.0.240])
 by postal.iol.unh.edu (Postfix) with ESMTP id 962616052514;
 Thu, 18 Apr 2024 17:32:39 -0400 (EDT)
Subject: |SUCCESS| pw139497-139515 [PATCH] [v2,19/19] build: enable vla warni
From: dpdklab@iol.unh.edu
To: Test Report <test-report@dpdk.org>
Cc: dpdk-test-reports@iol.unh.edu
In-Reply-To: <1713470562-17415-20-git-send-email-roretzla@linux.microsoft.com>
References: <1713470562-17415-20-git-send-email-roretzla@linux.microsoft.com>
Content-Type: text/plain
X-BeenThere: test-report@dpdk.org
X-Mailman-Version: 2.1.29
Precedence: list
List-Id: automatic DPDK test reports <test-report.dpdk.org>
List-Unsubscribe: <https://mails.dpdk.org/options/test-report>,
 <mailto:test-report-request@dpdk.org?subject=unsubscribe>
List-Archive: <http://mails.dpdk.org/archives/test-report/>
List-Post: <mailto:test-report@dpdk.org>
List-Help: <mailto:test-report-request@dpdk.org?subject=help>
List-Subscribe: <https://mails.dpdk.org/listinfo/test-report>,
 <mailto:test-report-request@dpdk.org?subject=subscribe>
Errors-To: test-report-bounces@dpdk.org

Test-Label: iol-compile-amd64-testing
Test-Status: SUCCESS
http://dpdk.org/patch/139515

_Testing PASS_

Submitter: Tyler Retzlaff <roretzla@linux.microsoft.com>
Date: Thursday, April 18 2024 20:02:42 
DPDK git baseline: Repo:dpdk
  Branch: master
  CommitID:e2e546ab5bf5e024986ccb5310ab43982f3bb40c

139497-139515 --> testing pass

Test environment and result as below:

+---------------------+--------------------+----------------------+-------------------+
|     Environment     | dpdk_meson_compile | dpdk_mingw64_compile | dpdk_msvc_compile |
+=====================+====================+======================+===================+
| FreeBSD 13.2        | PASS               | SKIPPED              | SKIPPED           |
+---------------------+--------------------+----------------------+-------------------+
| Windows Server 2019 | PASS               | PASS                 | SKIPPED           |
+---------------------+--------------------+----------------------+-------------------+
| Windows Server 2022 | PASS               | PASS                 | PASS              |
+---------------------+--------------------+----------------------+-------------------+
| CentOS Stream 8     | PASS               | SKIPPED              | SKIPPED           |
+---------------------+--------------------+----------------------+-------------------+
| openSUSE Leap 15    | PASS               | SKIPPED              | SKIPPED           |
+---------------------+--------------------+----------------------+-------------------+
| CentOS Stream 9     | PASS               | SKIPPED              | SKIPPED           |
+---------------------+--------------------+----------------------+-------------------+
| Fedora 37           | PASS               | SKIPPED              | SKIPPED           |
+---------------------+--------------------+----------------------+-------------------+
| Debian Bullseye     | PASS               | SKIPPED              | SKIPPED           |
+---------------------+--------------------+----------------------+-------------------+
| Fedora 38           | PASS               | SKIPPED              | SKIPPED           |
+---------------------+--------------------+----------------------+-------------------+
| Debian 12           | PASS               | SKIPPED              | SKIPPED           |
+---------------------+--------------------+----------------------+-------------------+
| Fedora 39           | PASS               | SKIPPED              | SKIPPED           |
+---------------------+--------------------+----------------------+-------------------+
| Ubuntu 22.04        | PASS               | SKIPPED              | SKIPPED           |
+---------------------+--------------------+----------------------+-------------------+
| RHEL8               | PASS               | SKIPPED              | SKIPPED           |
+---------------------+--------------------+----------------------+-------------------+


FreeBSD 13.2
	Kernel: 13.2
	Compiler: clang 14.0.5

Windows Server 2019
	Kernel: 10.0.17763
	Compiler: clang 14.0 and gcc 8.1.0 (MinGW)

Windows Server 2022
	Kernel: 10.0.20348.2031
	Compiler: clang 15.0.7, gcc 8.1.0 (MinGW), and MSVC VS 17.9

CentOS Stream 8
	Kernel: 5.4.0-167-generic
	Compiler: gcc 8.5.0 20210514

openSUSE Leap 15
	Kernel: 5.4.0-167-generic
	Compiler: gcc 7.5.0

CentOS Stream 9
	Kernel: 5.4.0-167-generic
	Compiler: gcc 11.4.1 20230605

Fedora 37
	Kernel: Depends on container host system
	Compiler: gcc 12.3.1

Debian Bullseye
	Kernel: 5.4.0-167-generic
	Compiler: gcc 10.2.1-6

Fedora 38
	Kernel: Depends on container host
	Compiler: clang 16.0.6

Debian 12
	Kernel: Container Host Kernel
	Compiler: gcc 10.2.1

Fedora 39
	Kernel: Depends on container host
	Compiler: clang 17.0.6

Ubuntu 22.04
	Kernel: 5.4.0-167-generic
	Compiler: gcc 11.4.0

RHEL8
	Kernel: 5.4.0-167-generic
	Compiler: gcc 8.5.0 20210514 (Red Hat 8.5.0-20)

To view detailed results, visit:
https://lab.dpdk.org/results/dashboard/patchsets/29821/

UNH-IOL DPDK Community Lab

To manage your email subscriptions, visit: 
https://lab.dpdk.org/results/dashboard/preferences/subscriptions/