From mboxrd@z Thu Jan  1 00:00:00 1970
Return-Path: <test-report-bounces@dpdk.org>
Received: from mails.dpdk.org (mails.dpdk.org [217.70.189.124])
	by inbox.dpdk.org (Postfix) with ESMTP id A094343EA1
	for <public@inbox.dpdk.org>; Thu, 18 Apr 2024 23:37:59 +0200 (CEST)
Received: from mails.dpdk.org (localhost [127.0.0.1])
	by mails.dpdk.org (Postfix) with ESMTP id 9BA14402D0;
	Thu, 18 Apr 2024 23:37:59 +0200 (CEST)
Received: from mail-pg1-f226.google.com (mail-pg1-f226.google.com
 [209.85.215.226])
 by mails.dpdk.org (Postfix) with ESMTP id 7021E402CC
 for <test-report@dpdk.org>; Thu, 18 Apr 2024 23:37:58 +0200 (CEST)
Received: by mail-pg1-f226.google.com with SMTP id
 41be03b00d2f7-5cedfc32250so909233a12.0
 for <test-report@dpdk.org>; Thu, 18 Apr 2024 14:37:58 -0700 (PDT)
DKIM-Signature: v=1; a=rsa-sha256; c=relaxed/relaxed;
 d=iol.unh.edu; s=unh-iol; t=1713476277; x=1714081077; darn=dpdk.org;
 h=references:in-reply-to:cc:to:from:subject:message-id:date:from:to
 :cc:subject:date:message-id:reply-to;
 bh=cKxNDNEJnC9P8vWLk1wpRWyjSSyR/ORRsFcisXnrz7I=;
 b=B0BpponwVWEfxz3hVplas/D1+m2Zx4oWLx9gCXCkl9yZe1YlaEE2+CM3xlNiU7f6KM
 t2IYO2sWdMsTs53WYeF1HKCcvUsqNw66OscA66yrGL872xwYJ+0AJQ2YCjpFpUjWwi1a
 M1gJEPsoPNBI7VTttFByjyo4VjBfgiWKzxtJ0=
X-Google-DKIM-Signature: v=1; a=rsa-sha256; c=relaxed/relaxed;
 d=1e100.net; s=20230601; t=1713476277; x=1714081077;
 h=references:in-reply-to:cc:to:from:subject:message-id:date
 :x-gm-message-state:from:to:cc:subject:date:message-id:reply-to;
 bh=cKxNDNEJnC9P8vWLk1wpRWyjSSyR/ORRsFcisXnrz7I=;
 b=dZw8IOGBI19oyqhE7AQxlH4dnejrZFQoTYzR+TXQIsxLfxb+1CuRq7dbx6Jyjaylux
 yAHiMgKIac8VOCDP1QMC/9DeMIZ7wPBPRSS5IMUQN75HF8cr2u9eMGByHXVp2JGFh6Cu
 zdnvQlVUR4tzrLH8llnfBQ5l5oCZQCgdePtxpOtrCX7+WPg9U2/wiGTGpleLvIdwm7Hr
 Te977fSPDPGMCCkyt1sXzmS5Sw0whi83x2j08cE3eDCwIfWpO8Xk645k0UDjgASFLrtd
 ZTb6RhRpXIIrbYsz9ctzbM2yL3duNSjbhoYdcZVcWXHJjjXvmVT9CN+t3wS+UCL58R+I
 Yq+Q==
X-Gm-Message-State: AOJu0Yx/oxqsK3086Azh6iGATXcad+xCLHzXMpPZik5As/1T02zN1i1O
 80qJKQmT32wShZL3kVXyxrDIjgMTrEc6t6pR+Ox5QhOoPzACY2s91toji+LZxUWCjdzVbyOlGgK
 YPBVbOQM4RRa8N6r32hkLvWZgfTeqoC2lri4pxmJItLoP/Ed/kl1ov8Nb
X-Google-Smtp-Source: AGHT+IEudU7bPBOVGRDRGjK42DShp0mN6ZTGSegeN1dSgd/SmHuDqE0ADG0Sg0FpItSKIvS0jqJWrg7S/p+h
X-Received: by 2002:a05:6a20:9495:b0:1a7:47ff:5f3e with SMTP id
 hs21-20020a056a20949500b001a747ff5f3emr449593pzb.9.1713476277730; 
 Thu, 18 Apr 2024 14:37:57 -0700 (PDT)
Received: from postal.iol.unh.edu (postal.iol.unh.edu.
 [2606:4100:3880:1234::84]) by smtp-relay.gmail.com with ESMTPS id
 n26-20020a63721a000000b005dc1e620401sm121432pgc.13.2024.04.18.14.37.57
 (version=TLS1_2 cipher=ECDHE-ECDSA-AES128-GCM-SHA256 bits=128/128);
 Thu, 18 Apr 2024 14:37:57 -0700 (PDT)
X-Relaying-Domain: iol.unh.edu
Date: Thu, 18 Apr 2024 14:37:57 -0700 (PDT)
Message-ID: <662192b5.630a0220.2f877.724cSMTPIN_ADDED_MISSING@mx.google.com>
Received: from [172.21.0.6] (unknown [172.18.0.240])
 by postal.iol.unh.edu (Postfix) with ESMTP id CB8C86052514;
 Thu, 18 Apr 2024 17:37:56 -0400 (EDT)
Subject: |SUCCESS| pw139497-139515 [PATCH] [v2,19/19] build: enable vla warni
From: dpdklab@iol.unh.edu
To: Test Report <test-report@dpdk.org>
Cc: dpdk-test-reports@iol.unh.edu
In-Reply-To: <1713470562-17415-20-git-send-email-roretzla@linux.microsoft.com>
References: <1713470562-17415-20-git-send-email-roretzla@linux.microsoft.com>
Content-Type: text/plain
X-BeenThere: test-report@dpdk.org
X-Mailman-Version: 2.1.29
Precedence: list
List-Id: automatic DPDK test reports <test-report.dpdk.org>
List-Unsubscribe: <https://mails.dpdk.org/options/test-report>,
 <mailto:test-report-request@dpdk.org?subject=unsubscribe>
List-Archive: <http://mails.dpdk.org/archives/test-report/>
List-Post: <mailto:test-report@dpdk.org>
List-Help: <mailto:test-report-request@dpdk.org?subject=help>
List-Subscribe: <https://mails.dpdk.org/listinfo/test-report>,
 <mailto:test-report-request@dpdk.org?subject=subscribe>
Errors-To: test-report-bounces@dpdk.org

Test-Label: iol-compile-arm64-testing
Test-Status: SUCCESS
http://dpdk.org/patch/139515

_Testing PASS_

Submitter: Tyler Retzlaff <roretzla@linux.microsoft.com>
Date: Thursday, April 18 2024 20:02:42 
DPDK git baseline: Repo:dpdk
  Branch: master
  CommitID:e2e546ab5bf5e024986ccb5310ab43982f3bb40c

139497-139515 --> testing pass

Test environment and result as below:

+----------------------------------------+--------------------+
|              Environment               | dpdk_meson_compile |
+========================================+====================+
| Ubuntu 20.04 ARM SVE                   | PASS               |
+----------------------------------------+--------------------+
| Debian 12 with MUSDK                   | PASS               |
+----------------------------------------+--------------------+
| Debian 11 (Buster) (ARM)               | PASS               |
+----------------------------------------+--------------------+
| Ubuntu 20.04 aarch32 GCC Cross Compile | PASS               |
+----------------------------------------+--------------------+
| Fedora 37 (ARM)                        | PASS               |
+----------------------------------------+--------------------+
| Ubuntu 20.04 ARM GCC Cross Compile     | PASS               |
+----------------------------------------+--------------------+
| Debian 12 (arm)                        | PASS               |
+----------------------------------------+--------------------+
| Ubuntu 20.04 ARM Clang Cross Compile   | PASS               |
+----------------------------------------+--------------------+


Ubuntu 20.04 ARM SVE
	Kernel: 5.4.0-167-generic
	Compiler: gcc (Ubuntu 10.5.0-1ubuntu1~20.04) 10.5.0

Debian 12 with MUSDK
	Kernel: Container Host Kernel
	Compiler: gcc 12.2.0

Debian 11 (Buster) (ARM)
	Kernel: Container Host Kernel
	Compiler: gcc 10.2.1

Ubuntu 20.04 aarch32 GCC Cross Compile
	Kernel: 5.4.0-167-generic
	Compiler: gcc 9.4.0

Fedora 37 (ARM)
	Kernel: Depends on container host
	Compiler: gcc 12.3.1

Ubuntu 20.04 ARM GCC Cross Compile
	Kernel: 5.4.0-167-generic
	Compiler: aarch64-linux-gnu-gcc (Ubuntu 9.4.0-1ubuntu1~20.04.2) 9.4.0

Debian 12 (arm)
	Kernel: Container Host Kernel
	Compiler: gcc 12.2.0

Ubuntu 20.04 ARM Clang Cross Compile
	Kernel: 5.4.0-72-generic
	Compiler: clang 10.0.0-4ubuntu1

To view detailed results, visit:
https://lab.dpdk.org/results/dashboard/patchsets/29821/

UNH-IOL DPDK Community Lab

To manage your email subscriptions, visit: 
https://lab.dpdk.org/results/dashboard/preferences/subscriptions/