From mboxrd@z Thu Jan  1 00:00:00 1970
Return-Path: <test-report-bounces@dpdk.org>
Received: from mails.dpdk.org (mails.dpdk.org [217.70.189.124])
	by inbox.dpdk.org (Postfix) with ESMTP id 4D48443EA1
	for <public@inbox.dpdk.org>; Thu, 18 Apr 2024 23:40:39 +0200 (CEST)
Received: from mails.dpdk.org (localhost [127.0.0.1])
	by mails.dpdk.org (Postfix) with ESMTP id 46F0C402D0;
	Thu, 18 Apr 2024 23:40:39 +0200 (CEST)
Received: from mail-qk1-f225.google.com (mail-qk1-f225.google.com
 [209.85.222.225])
 by mails.dpdk.org (Postfix) with ESMTP id B00A8402CC
 for <test-report@dpdk.org>; Thu, 18 Apr 2024 23:40:37 +0200 (CEST)
Received: by mail-qk1-f225.google.com with SMTP id
 af79cd13be357-78f049ddd7dso90324785a.1
 for <test-report@dpdk.org>; Thu, 18 Apr 2024 14:40:37 -0700 (PDT)
DKIM-Signature: v=1; a=rsa-sha256; c=relaxed/relaxed;
 d=iol.unh.edu; s=unh-iol; t=1713476437; x=1714081237; darn=dpdk.org;
 h=references:in-reply-to:cc:to:from:subject:message-id:date:from:to
 :cc:subject:date:message-id:reply-to;
 bh=sY8H58yArkf20cxmWKDAZpXjjtsFhsw39/LWpCq/3yo=;
 b=G/xmqiYZ9HehlWVFisO1sTW7bz3+OSqXU9AgXVDfmZpa5PowJ4ttKkiJGfM8HG4Cdy
 Tdh+W6eU4suTQx5iKYRizkM+Y6mtv2drjB1jVyUq2+Qhiw44KiXKK9kq4OCyLBN44fQU
 i2vo6N1I56sQEDlBUaFrY92XspsCIEdcen1e0=
X-Google-DKIM-Signature: v=1; a=rsa-sha256; c=relaxed/relaxed;
 d=1e100.net; s=20230601; t=1713476437; x=1714081237;
 h=references:in-reply-to:cc:to:from:subject:message-id:date
 :x-gm-message-state:from:to:cc:subject:date:message-id:reply-to;
 bh=sY8H58yArkf20cxmWKDAZpXjjtsFhsw39/LWpCq/3yo=;
 b=O6ljJs+63SRtmLADNDXObRsqb+4kn3a+S3M+wtBPHdUNeBk3r/HB8m8m5neZtSa1NY
 iTldmTIw15Bg+Sa1DlW/SbDim2iozsok6F1cFWTJiBhMI5iDwzROfJr03+C+P8HHiAXF
 k4EjFCkG/xgW9y4ehc6yTxmuvvX3LUTrBDldJQPPharDFjtd97DOzLp6H9uoajnT0sI4
 A5U15i6R1r/vl7sWWniJfPnSIIDQIuNd9Bx9uFP/QbCGhHyW+MB8U+sOcp4YOgcTzO/W
 MPyJjMn3k29ScOGIwKJtlOlnlzIfj4m4u+waog8oodqV2emwUUm3lr1Qyn0E2U+gPRck
 6Pbg==
X-Gm-Message-State: AOJu0YxD38rn0Xo5+JtNLyVooDasTD4DRtx4CZTJAJkHwAGqoXDer/UD
 Wm8K9TudTOiIw4dnptfPSTk2JFu1JCZI3onxsVsJRuUuDObFHFWMWk3BRqITDr3Hbb/g9qnpiNx
 iyX9OtMFawywYH9NVdW3M7Mc7/Jvy6Z8wfJMYHqvZBywZPJJODrB926b/
X-Google-Smtp-Source: AGHT+IHeB7I+/hxkZEKvKVMMQg45cgJisGsMDStoWt+BA3IywQvAox785a90AITNbSYhs9Ms4TiiXCpt/XBX
X-Received: by 2002:a05:6214:c2a:b0:69b:7260:b4dc with SMTP id
 a10-20020a0562140c2a00b0069b7260b4dcmr428924qvd.3.1713476437180; 
 Thu, 18 Apr 2024 14:40:37 -0700 (PDT)
Received: from postal.iol.unh.edu (postal.iol.unh.edu.
 [2606:4100:3880:1234::84]) by smtp-relay.gmail.com with ESMTPS id
 jo20-20020a056214501400b00698fcd02fc4sm151227qvb.13.2024.04.18.14.40.37
 (version=TLS1_2 cipher=ECDHE-ECDSA-AES128-GCM-SHA256 bits=128/128);
 Thu, 18 Apr 2024 14:40:37 -0700 (PDT)
X-Relaying-Domain: iol.unh.edu
Date: Thu, 18 Apr 2024 14:40:37 -0700 (PDT)
Message-ID: <66219355.050a0220.7ddf0.8a40SMTPIN_ADDED_MISSING@mx.google.com>
Received: from [172.21.0.6] (unknown [172.18.0.240])
 by postal.iol.unh.edu (Postfix) with ESMTP id E75306052514;
 Thu, 18 Apr 2024 17:40:36 -0400 (EDT)
Subject: |SUCCESS| pw139497-139515 [PATCH] [v2,19/19] build: enable vla warni
From: dpdklab@iol.unh.edu
To: Test Report <test-report@dpdk.org>
Cc: dpdk-test-reports@iol.unh.edu
In-Reply-To: <1713470562-17415-20-git-send-email-roretzla@linux.microsoft.com>
References: <1713470562-17415-20-git-send-email-roretzla@linux.microsoft.com>
Content-Type: text/plain
X-BeenThere: test-report@dpdk.org
X-Mailman-Version: 2.1.29
Precedence: list
List-Id: automatic DPDK test reports <test-report.dpdk.org>
List-Unsubscribe: <https://mails.dpdk.org/options/test-report>,
 <mailto:test-report-request@dpdk.org?subject=unsubscribe>
List-Archive: <http://mails.dpdk.org/archives/test-report/>
List-Post: <mailto:test-report@dpdk.org>
List-Help: <mailto:test-report-request@dpdk.org?subject=help>
List-Subscribe: <https://mails.dpdk.org/listinfo/test-report>,
 <mailto:test-report-request@dpdk.org?subject=subscribe>
Errors-To: test-report-bounces@dpdk.org

Test-Label: iol-compile-amd64-testing
Test-Status: SUCCESS
http://dpdk.org/patch/139515

_Testing PASS_

Submitter: Tyler Retzlaff <roretzla@linux.microsoft.com>
Date: Thursday, April 18 2024 20:02:42 
DPDK git baseline: Repo:dpdk
  Branch: master
  CommitID:e2e546ab5bf5e024986ccb5310ab43982f3bb40c

139497-139515 --> testing pass

Test environment and result as below:

+---------------------+--------------------+----------------------+-------------------+
|     Environment     | dpdk_meson_compile | dpdk_mingw64_compile | dpdk_msvc_compile |
+=====================+====================+======================+===================+
| FreeBSD 13.2        | PASS               | SKIPPED              | SKIPPED           |
+---------------------+--------------------+----------------------+-------------------+
| Windows Server 2019 | PASS               | PASS                 | SKIPPED           |
+---------------------+--------------------+----------------------+-------------------+
| Windows Server 2022 | PASS               | PASS                 | PASS              |
+---------------------+--------------------+----------------------+-------------------+
| CentOS Stream 8     | PASS               | SKIPPED              | SKIPPED           |
+---------------------+--------------------+----------------------+-------------------+
| openSUSE Leap 15    | PASS               | SKIPPED              | SKIPPED           |
+---------------------+--------------------+----------------------+-------------------+
| CentOS Stream 9     | PASS               | SKIPPED              | SKIPPED           |
+---------------------+--------------------+----------------------+-------------------+
| Fedora 37           | PASS               | SKIPPED              | SKIPPED           |
+---------------------+--------------------+----------------------+-------------------+
| Debian Bullseye     | PASS               | SKIPPED              | SKIPPED           |
+---------------------+--------------------+----------------------+-------------------+
| Fedora 38           | PASS               | SKIPPED              | SKIPPED           |
+---------------------+--------------------+----------------------+-------------------+
| Debian 12           | PASS               | SKIPPED              | SKIPPED           |
+---------------------+--------------------+----------------------+-------------------+
| Fedora 39           | PASS               | SKIPPED              | SKIPPED           |
+---------------------+--------------------+----------------------+-------------------+
| Ubuntu 22.04        | PASS               | SKIPPED              | SKIPPED           |
+---------------------+--------------------+----------------------+-------------------+
| RHEL8               | PASS               | SKIPPED              | SKIPPED           |
+---------------------+--------------------+----------------------+-------------------+
| Ubuntu 20.04        | PASS               | SKIPPED              | SKIPPED           |
+---------------------+--------------------+----------------------+-------------------+


FreeBSD 13.2
	Kernel: 13.2
	Compiler: clang 14.0.5

Windows Server 2019
	Kernel: 10.0.17763
	Compiler: clang 14.0 and gcc 8.1.0 (MinGW)

Windows Server 2022
	Kernel: 10.0.20348.2031
	Compiler: clang 15.0.7, gcc 8.1.0 (MinGW), and MSVC VS 17.9

CentOS Stream 8
	Kernel: 5.4.0-167-generic
	Compiler: gcc 8.5.0 20210514

openSUSE Leap 15
	Kernel: 5.4.0-167-generic
	Compiler: gcc 7.5.0

CentOS Stream 9
	Kernel: 5.4.0-167-generic
	Compiler: gcc 11.4.1 20230605

Fedora 37
	Kernel: Depends on container host system
	Compiler: gcc 12.3.1

Debian Bullseye
	Kernel: 5.4.0-167-generic
	Compiler: gcc 10.2.1-6

Fedora 38
	Kernel: Depends on container host
	Compiler: clang 16.0.6

Debian 12
	Kernel: Container Host Kernel
	Compiler: gcc 10.2.1

Fedora 39
	Kernel: Depends on container host
	Compiler: clang 17.0.6

Ubuntu 22.04
	Kernel: 5.4.0-167-generic
	Compiler: gcc 11.4.0

RHEL8
	Kernel: 5.4.0-167-generic
	Compiler: gcc 8.5.0 20210514 (Red Hat 8.5.0-20)

Ubuntu 20.04
	Kernel: 5.4.0-167-generic
	Compiler: gcc 9.4.0-1ubuntu1~20.04.1

To view detailed results, visit:
https://lab.dpdk.org/results/dashboard/patchsets/29821/

UNH-IOL DPDK Community Lab

To manage your email subscriptions, visit: 
https://lab.dpdk.org/results/dashboard/preferences/subscriptions/