From mboxrd@z Thu Jan  1 00:00:00 1970
Return-Path: <test-report-bounces@dpdk.org>
Received: from mails.dpdk.org (mails.dpdk.org [217.70.189.124])
	by inbox.dpdk.org (Postfix) with ESMTP id 4BA9643EA6
	for <public@inbox.dpdk.org>; Fri, 19 Apr 2024 00:23:55 +0200 (CEST)
Received: from mails.dpdk.org (localhost [127.0.0.1])
	by mails.dpdk.org (Postfix) with ESMTP id 4503C4027D;
	Fri, 19 Apr 2024 00:23:55 +0200 (CEST)
Received: from mail-yw1-f225.google.com (mail-yw1-f225.google.com
 [209.85.128.225])
 by mails.dpdk.org (Postfix) with ESMTP id 2DB1C40273
 for <test-report@dpdk.org>; Fri, 19 Apr 2024 00:23:54 +0200 (CEST)
Received: by mail-yw1-f225.google.com with SMTP id
 00721157ae682-617e42a3f94so15462407b3.2
 for <test-report@dpdk.org>; Thu, 18 Apr 2024 15:23:54 -0700 (PDT)
DKIM-Signature: v=1; a=rsa-sha256; c=relaxed/relaxed;
 d=iol.unh.edu; s=unh-iol; t=1713479033; x=1714083833; darn=dpdk.org;
 h=references:in-reply-to:cc:to:from:subject:message-id:date:from:to
 :cc:subject:date:message-id:reply-to;
 bh=dQvTlt1k1/BTj+iCVAvHQUsUjqV9g6wxw3GKrKQDuoo=;
 b=hXsWBDnag/QcXnFWbJqX4KAOh7APqZiqwhriZMJ2zcmLLxGBFRnHqD8MSrIcD8WAk3
 g861x39Br9yXxTod9N47wxbbOO9ThT7DNK+zelun/JDW/B55JLcbpTkClNJusLMrTHYM
 j+RNt4oSquQXolKILvSKPtE+7O5c+FpGc59LY=
X-Google-DKIM-Signature: v=1; a=rsa-sha256; c=relaxed/relaxed;
 d=1e100.net; s=20230601; t=1713479033; x=1714083833;
 h=references:in-reply-to:cc:to:from:subject:message-id:date
 :x-gm-message-state:from:to:cc:subject:date:message-id:reply-to;
 bh=dQvTlt1k1/BTj+iCVAvHQUsUjqV9g6wxw3GKrKQDuoo=;
 b=ddZd81yk8+J7SPZk15iGDQeG3xfIPOVr/j3kvxLc4QRyf6SNHczOLg/IoXs836+jw8
 cO2YRjEp9rBtMkY49HHgvzQU0xcFiecQana8+4rln4orlLDzy+PkIvSI7tcqbyfTuKi8
 X/8QWQt3JrJpsjbpEZw8Jb9LgErmyeqlUywnEQ17F73+I+d8iZ18vAVgf7U+Sob8F8sC
 EWFekOXSjR+gahSKrwaVi2mXGiJf5vlJmzZ0i7ZgeXID62MZyqhUCdig67k1Ad0Ywi6q
 sRXqIFeCtStHvXO3mOHLGWeRA/Lv03DbjMhFtoLJXmazjuWI3W474VOgRKzkNx6Hei0O
 VmDQ==
X-Gm-Message-State: AOJu0YyAAAwB/73BZL9E0qJaq+cYxoW8ns/s00rij09P78Yd88uuwtWr
 O2HTcIkaT0Iy0M3IWIElL5jHM4mgojpgzci7g6n8s5z1S3IFyEV+r2oCK5dzWoeNxyOH17cMQJd
 Y0cl+n0skLRfl+B9Xv224A+AUPGtrnEl/rgS9G900
X-Google-Smtp-Source: AGHT+IHKOQjRhmR2uR1cuJMoJ8KxSNWA9VqHSjCZPpJq5PNO4nhyI09Qngd7khwfR02fQGR9TvXJNhwsBzTp
X-Received: by 2002:a05:690c:dcc:b0:618:7c14:5a73 with SMTP id
 db12-20020a05690c0dcc00b006187c145a73mr395748ywb.4.1713479033677; 
 Thu, 18 Apr 2024 15:23:53 -0700 (PDT)
Received: from postal.iol.unh.edu (postal.iol.unh.edu. [132.177.123.84])
 by smtp-relay.gmail.com with ESMTPS id
 n5-20020a0dfd05000000b00615218be229sm168089ywf.18.2024.04.18.15.23.53
 (version=TLS1_2 cipher=ECDHE-ECDSA-AES128-GCM-SHA256 bits=128/128);
 Thu, 18 Apr 2024 15:23:53 -0700 (PDT)
X-Relaying-Domain: iol.unh.edu
Date: Thu, 18 Apr 2024 15:23:53 -0700 (PDT)
Message-ID: <66219d79.0d0a0220.b3591.950eSMTPIN_ADDED_MISSING@mx.google.com>
Received: from [172.17.0.4] (unknown [172.18.0.217])
 by postal.iol.unh.edu (Postfix) with ESMTP id 51EF06052514;
 Thu, 18 Apr 2024 18:23:53 -0400 (EDT)
Subject: |SUCCESS| pw139497-139515 [PATCH] [v2,19/19] build: enable vla warni
From: dpdklab@iol.unh.edu
To: Test Report <test-report@dpdk.org>
Cc: dpdk-test-reports@iol.unh.edu
In-Reply-To: <1713470562-17415-20-git-send-email-roretzla@linux.microsoft.com>
References: <1713470562-17415-20-git-send-email-roretzla@linux.microsoft.com>
Content-Type: text/plain
X-BeenThere: test-report@dpdk.org
X-Mailman-Version: 2.1.29
Precedence: list
List-Id: automatic DPDK test reports <test-report.dpdk.org>
List-Unsubscribe: <https://mails.dpdk.org/options/test-report>,
 <mailto:test-report-request@dpdk.org?subject=unsubscribe>
List-Archive: <http://mails.dpdk.org/archives/test-report/>
List-Post: <mailto:test-report@dpdk.org>
List-Help: <mailto:test-report-request@dpdk.org?subject=help>
List-Subscribe: <https://mails.dpdk.org/listinfo/test-report>,
 <mailto:test-report-request@dpdk.org?subject=subscribe>
Errors-To: test-report-bounces@dpdk.org

Test-Label: iol-compile-arm64-testing
Test-Status: SUCCESS
http://dpdk.org/patch/139515

_Testing PASS_

Submitter: Tyler Retzlaff <roretzla@linux.microsoft.com>
Date: Thursday, April 18 2024 20:02:42 
DPDK git baseline: Repo:dpdk
  Branch: master
  CommitID:e2e546ab5bf5e024986ccb5310ab43982f3bb40c

139497-139515 --> testing pass

Test environment and result as below:

+----------------------------------------+--------------------+
|              Environment               | dpdk_meson_compile |
+========================================+====================+
| Ubuntu 20.04 ARM SVE                   | PASS               |
+----------------------------------------+--------------------+
| Debian 12 with MUSDK                   | PASS               |
+----------------------------------------+--------------------+
| Debian 11 (Buster) (ARM)               | PASS               |
+----------------------------------------+--------------------+
| Ubuntu 20.04 aarch32 GCC Cross Compile | PASS               |
+----------------------------------------+--------------------+
| Fedora 37 (ARM)                        | PASS               |
+----------------------------------------+--------------------+
| Ubuntu 20.04 ARM GCC Cross Compile     | PASS               |
+----------------------------------------+--------------------+
| Debian 12 (arm)                        | PASS               |
+----------------------------------------+--------------------+
| Ubuntu 20.04 ARM Clang Cross Compile   | PASS               |
+----------------------------------------+--------------------+
| Fedora 38 (ARM)                        | PASS               |
+----------------------------------------+--------------------+
| Ubuntu 20.04 (ARM)                     | PASS               |
+----------------------------------------+--------------------+
| Fedora 39 (ARM)                        | PASS               |
+----------------------------------------+--------------------+
| Fedora 39 (ARM Clang)                  | PASS               |
+----------------------------------------+--------------------+


Ubuntu 20.04 ARM SVE
	Kernel: 5.4.0-167-generic
	Compiler: gcc (Ubuntu 10.5.0-1ubuntu1~20.04) 10.5.0

Debian 12 with MUSDK
	Kernel: Container Host Kernel
	Compiler: gcc 12.2.0

Debian 11 (Buster) (ARM)
	Kernel: Container Host Kernel
	Compiler: gcc 10.2.1

Ubuntu 20.04 aarch32 GCC Cross Compile
	Kernel: 5.4.0-167-generic
	Compiler: gcc 9.4.0

Fedora 37 (ARM)
	Kernel: Depends on container host
	Compiler: gcc 12.3.1

Ubuntu 20.04 ARM GCC Cross Compile
	Kernel: 5.4.0-167-generic
	Compiler: aarch64-linux-gnu-gcc (Ubuntu 9.4.0-1ubuntu1~20.04.2) 9.4.0

Debian 12 (arm)
	Kernel: Container Host Kernel
	Compiler: gcc 12.2.0

Ubuntu 20.04 ARM Clang Cross Compile
	Kernel: 5.4.0-72-generic
	Compiler: clang 10.0.0-4ubuntu1

Fedora 38 (ARM)
	Kernel: Depends on container host
	Compiler: gcc 13.2.1

Ubuntu 20.04 (ARM)
	Kernel: Container Host Kernel
	Compiler: gcc 9.4.0

Fedora 39 (ARM)
	Kernel: Depends on container host
	Compiler: gcc 13.2.1

Fedora 39 (ARM Clang)
	Kernel: Depends on container host
	Compiler: clang 17.0.6

To view detailed results, visit:
https://lab.dpdk.org/results/dashboard/patchsets/29821/

UNH-IOL DPDK Community Lab

To manage your email subscriptions, visit: 
https://lab.dpdk.org/results/dashboard/preferences/subscriptions/