From mboxrd@z Thu Jan  1 00:00:00 1970
Return-Path: <test-report-bounces@dpdk.org>
Received: from mails.dpdk.org (mails.dpdk.org [217.70.189.124])
	by inbox.dpdk.org (Postfix) with ESMTP id B5F5443EA6
	for <public@inbox.dpdk.org>; Fri, 19 Apr 2024 00:52:38 +0200 (CEST)
Received: from mails.dpdk.org (localhost [127.0.0.1])
	by mails.dpdk.org (Postfix) with ESMTP id B0394402D6;
	Fri, 19 Apr 2024 00:52:38 +0200 (CEST)
Received: from mail-oa1-f98.google.com (mail-oa1-f98.google.com
 [209.85.160.98]) by mails.dpdk.org (Postfix) with ESMTP id 033A340273
 for <test-report@dpdk.org>; Fri, 19 Apr 2024 00:52:33 +0200 (CEST)
Received: by mail-oa1-f98.google.com with SMTP id
 586e51a60fabf-22edec341c2so767745fac.0
 for <test-report@dpdk.org>; Thu, 18 Apr 2024 15:52:32 -0700 (PDT)
DKIM-Signature: v=1; a=rsa-sha256; c=relaxed/relaxed;
 d=iol.unh.edu; s=unh-iol; t=1713480752; x=1714085552; darn=dpdk.org;
 h=references:in-reply-to:cc:to:from:subject:message-id:date:from:to
 :cc:subject:date:message-id:reply-to;
 bh=rK4jSmXH4UDam6yOMgwjs5oazBCVN6/b5UWT39U5mps=;
 b=PuvVVtK61EktiM2X7KHuOMhMYnTaulcWYhmOIZSKxQZThAh6/9XWOPiW771vWI6YUh
 w2tlQD/SHZHLnnnrNnWTUOEqjr0gd5/atpQNGfWw8FOtLFp0UD00g+S5lkR4/aZ0UtCP
 ys+s5Z6CwcgxWD8Y6yE3O1KVFckD61fTN0f6g=
X-Google-DKIM-Signature: v=1; a=rsa-sha256; c=relaxed/relaxed;
 d=1e100.net; s=20230601; t=1713480752; x=1714085552;
 h=references:in-reply-to:cc:to:from:subject:message-id:date
 :x-gm-message-state:from:to:cc:subject:date:message-id:reply-to;
 bh=rK4jSmXH4UDam6yOMgwjs5oazBCVN6/b5UWT39U5mps=;
 b=s46Txsz+86Bf4uRYePFWIESHQx2IyVuZsiPfA6yiR8rdbHlp/3+SKYLTTbQ5vZHyHq
 t41IHXHlML4DRhzG+RRlUBNdarxMC+mfQlGISg21HgflsSmXAqm9foUYVcXOvLVg83Oo
 O/i+rL+3MkyULdIQ/9P3+nxPO1phz+JZnOlnL+3psFqXQsOUaZDcATHMc5yLPIXassQU
 nbhQikmhJXiCwfCox+EQq9JyD/YJsJTA6Bo5NdBhK8jenhsP/ZeYl/4mqegP/Uoqgnot
 1BU/mKGeS+O8PfZ2Ho5rcTZqP8yRd/2PLiqfE+sUgWQYIURbI0XIFCKbjV48xG7vETEQ
 D7gQ==
X-Gm-Message-State: AOJu0YzXYT+jmjBtqwh4iBXoobH8kCZi4/JvmB95oXI2YFmSnS4sg6LC
 HkLQO+tDqTaB1ae0/lz36hzsmc4uMO7SzFixXp7rwyVuYLGMq0h08CYF3id11F3EHkZ50uh8OmX
 lBmXjG7Deq7Wef99Yi8x4FhsFVb51gX12hX5LlWvI
X-Google-Smtp-Source: AGHT+IEQqUf5jlntKaHl9ay5MtzIlc81JIagAkN2PHU5qqGiiIItZAcBtCcSL+yuWNXclACnjIP1bAzNP1vU
X-Received: by 2002:a05:6870:e3d2:b0:232:f98d:8e21 with SMTP id
 y18-20020a056870e3d200b00232f98d8e21mr554591oad.19.1713480752365; 
 Thu, 18 Apr 2024 15:52:32 -0700 (PDT)
Received: from postal.iol.unh.edu (postal.iol.unh.edu. [132.177.123.84])
 by smtp-relay.gmail.com with ESMTPS id
 t2-20020a63a602000000b005dc43133d7bsm126131pge.28.2024.04.18.15.52.32
 (version=TLS1_2 cipher=ECDHE-ECDSA-AES128-GCM-SHA256 bits=128/128);
 Thu, 18 Apr 2024 15:52:32 -0700 (PDT)
X-Relaying-Domain: iol.unh.edu
Date: Thu, 18 Apr 2024 15:52:32 -0700 (PDT)
Message-ID: <6621a430.630a0220.cac22.6bcaSMTPIN_ADDED_MISSING@mx.google.com>
Received: from [172.17.0.4] (unknown [172.18.0.217])
 by postal.iol.unh.edu (Postfix) with ESMTP id 952B46052514;
 Thu, 18 Apr 2024 18:52:31 -0400 (EDT)
Subject: |SUCCESS| pw139186-139188 [PATCH] [v14,3/3] net/af_xdp: support AF_X
From: dpdklab@iol.unh.edu
To: Test Report <test-report@dpdk.org>
Cc: dpdk-test-reports@iol.unh.edu
In-Reply-To: <20240408130924.232154-4-mtahhan@redhat.com>
References: <20240408130924.232154-4-mtahhan@redhat.com>
Content-Type: text/plain
X-BeenThere: test-report@dpdk.org
X-Mailman-Version: 2.1.29
Precedence: list
List-Id: automatic DPDK test reports <test-report.dpdk.org>
List-Unsubscribe: <https://mails.dpdk.org/options/test-report>,
 <mailto:test-report-request@dpdk.org?subject=unsubscribe>
List-Archive: <http://mails.dpdk.org/archives/test-report/>
List-Post: <mailto:test-report@dpdk.org>
List-Help: <mailto:test-report-request@dpdk.org?subject=help>
List-Subscribe: <https://mails.dpdk.org/listinfo/test-report>,
 <mailto:test-report-request@dpdk.org?subject=subscribe>
Errors-To: test-report-bounces@dpdk.org

Test-Label: iol-unit-amd64-testing
Test-Status: SUCCESS
http://dpdk.org/patch/139188

_Testing PASS_

Submitter: Maryam Tahhan <mtahhan@redhat.com>
Date: Monday, April 08 2024 13:09:22 
DPDK git baseline: Repo:dpdk
  Branch: master
  CommitID:e2e546ab5bf5e024986ccb5310ab43982f3bb40c

139186-139188 --> testing pass

Test environment and result as below:

+---------------------+----------------+
|     Environment     | dpdk_unit_test |
+=====================+================+
| Windows Server 2019 | PASS           |
+---------------------+----------------+
| CentOS Stream 9     | PASS           |
+---------------------+----------------+
| CentOS Stream 8     | PASS           |
+---------------------+----------------+
| Debian Bullseye     | PASS           |
+---------------------+----------------+
| Fedora 37           | PASS           |
+---------------------+----------------+
| Debian 12           | PASS           |
+---------------------+----------------+
| Fedora 38           | PASS           |
+---------------------+----------------+
| Fedora 39           | PASS           |
+---------------------+----------------+
| openSUSE Leap 15    | PASS           |
+---------------------+----------------+
| RHEL8               | PASS           |
+---------------------+----------------+
| Ubuntu 20.04        | PASS           |
+---------------------+----------------+
| Ubuntu 22.04        | PASS           |
+---------------------+----------------+
| Windows Server 2022 | PASS           |
+---------------------+----------------+


Windows Server 2019
	Kernel: 10.0.17763
	Compiler: clang 14.0 and gcc 8.1.0 (MinGW)

CentOS Stream 9
	Kernel: 5.4.0-167-generic
	Compiler: gcc 11.4.1 20230605

CentOS Stream 8
	Kernel: 5.4.0-167-generic
	Compiler: gcc 8.5.0 20210514

Debian Bullseye
	Kernel: 5.4.0-167-generic
	Compiler: gcc 10.2.1-6

Fedora 37
	Kernel: Depends on container host system
	Compiler: gcc 12.3.1

Debian 12
	Kernel: Container Host Kernel
	Compiler: gcc 10.2.1

Fedora 38
	Kernel: Depends on container host
	Compiler: gcc 13.2.1

Fedora 39
	Kernel: Depends on container host
	Compiler: gcc 13.2.1

openSUSE Leap 15
	Kernel: 5.4.0-167-generic
	Compiler: gcc 7.5.0

RHEL8
	Kernel: 5.4.0-167-generic
	Compiler: gcc 8.5.0 20210514 (Red Hat 8.5.0-20)

Ubuntu 20.04
	Kernel: 5.4.0-167-generic
	Compiler: gcc 9.4.0-1ubuntu1~20.04.1

Ubuntu 22.04
	Kernel: 5.4.0-167-generic
	Compiler: gcc 11.4.0

Windows Server 2022
	Kernel: 10.0.20348.2031
	Compiler: clang 15.0.7, gcc 8.1.0 (MinGW), and MSVC VS 17.9

To view detailed results, visit:
https://lab.dpdk.org/results/dashboard/patchsets/29740/

UNH-IOL DPDK Community Lab

To manage your email subscriptions, visit: 
https://lab.dpdk.org/results/dashboard/preferences/subscriptions/