From mboxrd@z Thu Jan  1 00:00:00 1970
Return-Path: <test-report-bounces@dpdk.org>
Received: from mails.dpdk.org (mails.dpdk.org [217.70.189.124])
	by inbox.dpdk.org (Postfix) with ESMTP id 80F9F43EA6
	for <public@inbox.dpdk.org>; Fri, 19 Apr 2024 01:13:34 +0200 (CEST)
Received: from mails.dpdk.org (localhost [127.0.0.1])
	by mails.dpdk.org (Postfix) with ESMTP id 7982E4027D;
	Fri, 19 Apr 2024 01:13:34 +0200 (CEST)
Received: from mail-pl1-f226.google.com (mail-pl1-f226.google.com
 [209.85.214.226])
 by mails.dpdk.org (Postfix) with ESMTP id 6CE3340273
 for <test-report@dpdk.org>; Fri, 19 Apr 2024 01:13:33 +0200 (CEST)
Received: by mail-pl1-f226.google.com with SMTP id
 d9443c01a7336-1e4c4fb6af3so10524635ad.0
 for <test-report@dpdk.org>; Thu, 18 Apr 2024 16:13:33 -0700 (PDT)
DKIM-Signature: v=1; a=rsa-sha256; c=relaxed/relaxed;
 d=iol.unh.edu; s=unh-iol; t=1713482012; x=1714086812; darn=dpdk.org;
 h=references:in-reply-to:cc:to:from:subject:message-id:date:from:to
 :cc:subject:date:message-id:reply-to;
 bh=GQSPuJ6ciN8JYeyfAUHSiHV71ZjZYUWQuDXuFss8LnA=;
 b=efarEUvg3mFJNeMxOWAQTeN8TfVChSeZKT0lvPloou9TlXWZ1WnHFFIsYT/9ynmKLn
 vTIg8CLuJHixOH9N6P06/RlOADXRtW0zzU4Xv8+KwFPW9NeXGl7rhUjG0hMHND5WziPM
 Btvpoj4wYykGSuvnsVRcbfdTlLLT7V+eD2YTM=
X-Google-DKIM-Signature: v=1; a=rsa-sha256; c=relaxed/relaxed;
 d=1e100.net; s=20230601; t=1713482012; x=1714086812;
 h=references:in-reply-to:cc:to:from:subject:message-id:date
 :x-gm-message-state:from:to:cc:subject:date:message-id:reply-to;
 bh=GQSPuJ6ciN8JYeyfAUHSiHV71ZjZYUWQuDXuFss8LnA=;
 b=v1NJItWFO3brIXKl2jrEu/oFMAHyU8kehYwDWNJmylJkU7XHCzLRiir742aLxKDljg
 RILbXD22ZF0z4B2S9lFNaMIM37MzkbMi8UzRdP7pkBbNQ6bq06dGTPgNpSWCIWcCxwlh
 FdOIjXVnvdaQxqG96bYID1oIoNLM1JnSt2+GYTeyGPYF0aZYjF5OBy81G1f96KPusAoZ
 SgEVtfgWqyWDOfK3T3nybzGb+MibZ1Hvb6Bipw2Ock5YzYNOfprkbiF3dBM4yYPOiKqO
 e3HSRkqbXtZDI/iWRllMM8IJ7Grq9LnJHilonoV0zONHKBh4z5CLTr6GXhJ8A3oOPtWX
 sObA==
X-Gm-Message-State: AOJu0YxFSUb3SWcRk4+oqEipS7Yj0k8JzYpnwqerJJD0eThoiRqTaJWO
 iLvWi763rlAhjK2fM+f12TLL7qfsB20ZQ2vStBinYW1a1XM4ABp192iscSugUI0y+GdkifTi9ND
 E+NajxPeoRc6dTggVj0VYabwP2+7jAqyLhpvntiFzGV9/sFh4LjdLhdcU
X-Google-Smtp-Source: AGHT+IG8Ch4UBfWT/1l+7lrcJWltbK+jprELm5W2gM263jcuPxsrz3tONdtp8z32scbiswpUm2yUL6MgreWx
X-Received: by 2002:a17:902:fc47:b0:1e4:6253:2f15 with SMTP id
 me7-20020a170902fc4700b001e462532f15mr894430plb.16.1713482012580; 
 Thu, 18 Apr 2024 16:13:32 -0700 (PDT)
Received: from postal.iol.unh.edu (postal.iol.unh.edu.
 [2606:4100:3880:1234::84]) by smtp-relay.gmail.com with ESMTPS id
 mi3-20020a170902fcc300b001dd3e9cf079sm103526plb.120.2024.04.18.16.13.32
 (version=TLS1_2 cipher=ECDHE-ECDSA-AES128-GCM-SHA256 bits=128/128);
 Thu, 18 Apr 2024 16:13:32 -0700 (PDT)
X-Relaying-Domain: iol.unh.edu
Date: Thu, 18 Apr 2024 16:13:32 -0700 (PDT)
Message-ID: <6621a91c.170a0220.1d10b.6439SMTPIN_ADDED_MISSING@mx.google.com>
Received: from [172.17.0.2] (unknown [172.18.0.217])
 by postal.iol.unh.edu (Postfix) with ESMTP id C1D9C6052514;
 Thu, 18 Apr 2024 19:13:31 -0400 (EDT)
Subject: |SUCCESS| pw139186-139188 [PATCH] [v14,3/3] net/af_xdp: support AF_X
From: dpdklab@iol.unh.edu
To: Test Report <test-report@dpdk.org>
Cc: dpdk-test-reports@iol.unh.edu
In-Reply-To: <20240408130924.232154-4-mtahhan@redhat.com>
References: <20240408130924.232154-4-mtahhan@redhat.com>
Content-Type: text/plain
X-BeenThere: test-report@dpdk.org
X-Mailman-Version: 2.1.29
Precedence: list
List-Id: automatic DPDK test reports <test-report.dpdk.org>
List-Unsubscribe: <https://mails.dpdk.org/options/test-report>,
 <mailto:test-report-request@dpdk.org?subject=unsubscribe>
List-Archive: <http://mails.dpdk.org/archives/test-report/>
List-Post: <mailto:test-report@dpdk.org>
List-Help: <mailto:test-report-request@dpdk.org?subject=help>
List-Subscribe: <https://mails.dpdk.org/listinfo/test-report>,
 <mailto:test-report-request@dpdk.org?subject=subscribe>
Errors-To: test-report-bounces@dpdk.org

Test-Label: iol-unit-arm64-testing
Test-Status: SUCCESS
http://dpdk.org/patch/139188

_Testing PASS_

Submitter: Maryam Tahhan <mtahhan@redhat.com>
Date: Monday, April 08 2024 13:09:22 
DPDK git baseline: Repo:dpdk
  Branch: master
  CommitID:e2e546ab5bf5e024986ccb5310ab43982f3bb40c

139186-139188 --> testing pass

Test environment and result as below:

+-----------------------------+----------------+---------------------------+------------------------------+--------------+
|         Environment         | dpdk_unit_test | cryptodev_sw_zuc_autotest | cryptodev_sw_snow3g_autotest | lpm_autotest |
+=============================+================+===========================+==============================+==============+
| Debian 11 (Buster) (ARM)    | PASS           | SKIPPED                   | SKIPPED                      | SKIPPED      |
+-----------------------------+----------------+---------------------------+------------------------------+--------------+
| CentOS Stream 9 (ARM)       | PASS           | SKIPPED                   | SKIPPED                      | SKIPPED      |
+-----------------------------+----------------+---------------------------+------------------------------+--------------+
| Debian 12 (arm)             | PASS           | PASS                      | PASS                         | SKIPPED      |
+-----------------------------+----------------+---------------------------+------------------------------+--------------+
| Fedora 37 (ARM)             | PASS           | SKIPPED                   | SKIPPED                      | SKIPPED      |
+-----------------------------+----------------+---------------------------+------------------------------+--------------+
| Fedora 38 (ARM)             | PASS           | SKIPPED                   | SKIPPED                      | SKIPPED      |
+-----------------------------+----------------+---------------------------+------------------------------+--------------+
| 32-bit Ubuntu 20.04.4 (ARM) | PASS           | SKIPPED                   | SKIPPED                      | SKIPPED      |
+-----------------------------+----------------+---------------------------+------------------------------+--------------+
| Fedora 39 (ARM)             | PASS           | SKIPPED                   | SKIPPED                      | SKIPPED      |
+-----------------------------+----------------+---------------------------+------------------------------+--------------+
| Ubuntu 20.04 (ARM)          | PASS           | SKIPPED                   | SKIPPED                      | SKIPPED      |
+-----------------------------+----------------+---------------------------+------------------------------+--------------+
| Fedora 39 (ARM Clang)       | PASS           | SKIPPED                   | SKIPPED                      | SKIPPED      |
+-----------------------------+----------------+---------------------------+------------------------------+--------------+
| Fedora 38 (ARM Clang)       | PASS           | SKIPPED                   | SKIPPED                      | SKIPPED      |
+-----------------------------+----------------+---------------------------+------------------------------+--------------+
| Ubuntu 20.04 ARM SVE        | SKIPPED        | SKIPPED                   | SKIPPED                      | PASS         |
+-----------------------------+----------------+---------------------------+------------------------------+--------------+


Debian 11 (Buster) (ARM)
	Kernel: Container Host Kernel
	Compiler: gcc 10.2.1

CentOS Stream 9 (ARM)
	Kernel: Container Host Kernel
	Compiler: gcc 11.4.1

Debian 12 (arm)
	Kernel: Container Host Kernel
	Compiler: gcc 12.2.0

Fedora 37 (ARM)
	Kernel: Depends on container host
	Compiler: gcc 12.3.1

Fedora 38 (ARM)
	Kernel: Depends on container host
	Compiler: gcc 13.2.1

32-bit Ubuntu 20.04.4 (ARM)
	Kernel: 5.4.0-155-generic aarch64
	Compiler: gcc 9.4

Fedora 39 (ARM)
	Kernel: Depends on container host
	Compiler: gcc 13.2.1

Ubuntu 20.04 (ARM)
	Kernel: Container Host Kernel
	Compiler: gcc 9.4.0

Fedora 39 (ARM Clang)
	Kernel: Depends on container host
	Compiler: clang 17.0.6

Fedora 38 (ARM Clang)
	Kernel: Depends on container host
	Compiler: clang 16.0.6

Ubuntu 20.04 ARM SVE
	Kernel: 5.4.0-167-generic
	Compiler: gcc (Ubuntu 10.5.0-1ubuntu1~20.04) 10.5.0

To view detailed results, visit:
https://lab.dpdk.org/results/dashboard/patchsets/29740/

UNH-IOL DPDK Community Lab

To manage your email subscriptions, visit: 
https://lab.dpdk.org/results/dashboard/preferences/subscriptions/