From mboxrd@z Thu Jan  1 00:00:00 1970
Return-Path: <test-report-bounces@dpdk.org>
Received: from mails.dpdk.org (mails.dpdk.org [217.70.189.124])
	by inbox.dpdk.org (Postfix) with ESMTP id 53F3A43EAA
	for <public@inbox.dpdk.org>; Fri, 19 Apr 2024 06:18:17 +0200 (CEST)
Received: from mails.dpdk.org (localhost [127.0.0.1])
	by mails.dpdk.org (Postfix) with ESMTP id 4EF9A4027D;
	Fri, 19 Apr 2024 06:18:17 +0200 (CEST)
Received: from mail-qv1-f97.google.com (mail-qv1-f97.google.com
 [209.85.219.97]) by mails.dpdk.org (Postfix) with ESMTP id 5506F40273
 for <test-report@dpdk.org>; Fri, 19 Apr 2024 06:18:15 +0200 (CEST)
Received: by mail-qv1-f97.google.com with SMTP id
 6a1803df08f44-696609f5cf2so9625876d6.3
 for <test-report@dpdk.org>; Thu, 18 Apr 2024 21:18:15 -0700 (PDT)
DKIM-Signature: v=1; a=rsa-sha256; c=relaxed/relaxed;
 d=iol.unh.edu; s=unh-iol; t=1713500295; x=1714105095; darn=dpdk.org;
 h=references:in-reply-to:cc:to:from:subject:message-id:date:from:to
 :cc:subject:date:message-id:reply-to;
 bh=yvDAGGTt49eZvVKeJ78C92BfnCZKqHFBwmaUyG9l+9E=;
 b=QZshiMJbQwF9CUTTyfnz1bxLNWoSuMOUBptCF097YjocFnDwTXz2gxY/4zXF87ru+2
 FYFIbywfQYlNAY/WEpOLIUJWJXawQ7MMQnL4NOsYHW9dv/PGqvP26ljVH4K01lSRMt3/
 3c/WO9FbYZmG78ljlVbRbBCnypxF0AKGqdiDo=
X-Google-DKIM-Signature: v=1; a=rsa-sha256; c=relaxed/relaxed;
 d=1e100.net; s=20230601; t=1713500295; x=1714105095;
 h=references:in-reply-to:cc:to:from:subject:message-id:date
 :x-gm-message-state:from:to:cc:subject:date:message-id:reply-to;
 bh=yvDAGGTt49eZvVKeJ78C92BfnCZKqHFBwmaUyG9l+9E=;
 b=eNgP/VovYXC6ZWHuVo2Ax5nMzjJG3Fr1sXExsBIFuy+7/uoCVdC6TZOYSTSz+CvlEE
 fJqfwZIWR6Okh3zdRAuACBb6ssIwOv5L59ia8NMrRouHpJveSIRhcN3Gkwbr/3QPHlY4
 1zJmZObRz47H70YFHvL8j8d/0GaojJ1mYgcMGb2cfS5XvjKf5E7/6jbBpXkVaWCDrmiv
 f7BIumWM5wFQdRAxJcwlvricHFOA/538DVQgEgjckxmnNObrpYcQIDULh0mJUPnRNV9h
 YQFN77SxQqNuPO6EilYvfjYj68k1LwVdi3aka5QPyR685EYJsQ/9hzB5As9uvB/kFLxp
 vdxg==
X-Gm-Message-State: AOJu0YyT5iiXXZQrfWJUU4rp56Rd2WyPe+/hM1lYtoXuF9Qrjoo8QA4f
 Dcd6dNbfrlZaSh/7ejWxf3bCk1STcJm5QZ6P8MXc1w2/8Kqjllr8DHPySwa2QEPOMkfJJPfHP5z
 0NtztfH1EAE3Yma1qQKVXSqMPl/zWtW4ERMMmkA67
X-Google-Smtp-Source: AGHT+IGplD1RYwVkjZRg+KMyY1kzBEaXRjrnkUNZY8ny2fvkVqtU4Ev5KsLzUZZA/+jikk4eSR7unTyzsl2s
X-Received: by 2002:a0c:c210:0:b0:6a0:605b:4d49 with SMTP id
 l16-20020a0cc210000000b006a0605b4d49mr926764qvh.37.1713500294769; 
 Thu, 18 Apr 2024 21:18:14 -0700 (PDT)
Received: from postal.iol.unh.edu (postal.iol.unh.edu. [132.177.123.84])
 by smtp-relay.gmail.com with ESMTPS id
 d10-20020a056214184a00b006a05b2cf7bfsm98064qvy.6.2024.04.18.21.18.14
 (version=TLS1_2 cipher=ECDHE-ECDSA-AES128-GCM-SHA256 bits=128/128);
 Thu, 18 Apr 2024 21:18:14 -0700 (PDT)
X-Relaying-Domain: iol.unh.edu
Date: Thu, 18 Apr 2024 21:18:14 -0700 (PDT)
Message-ID: <6621f086.050a0220.c11e.6188SMTPIN_ADDED_MISSING@mx.google.com>
Received: from [172.21.0.7] (unknown [172.18.0.240])
 by postal.iol.unh.edu (Postfix) with ESMTP id 7709E6052514;
 Fri, 19 Apr 2024 00:18:14 -0400 (EDT)
Subject: |SUCCESS| pw139516-139523 [PATCH] [8/8] net/nfp: unify port create a
From: dpdklab@iol.unh.edu
To: Test Report <test-report@dpdk.org>
Cc: dpdk-test-reports@iol.unh.edu
In-Reply-To: <20240419031226.1191069-9-chaoyong.he@corigine.com>
References: <20240419031226.1191069-9-chaoyong.he@corigine.com>
Content-Type: text/plain
X-BeenThere: test-report@dpdk.org
X-Mailman-Version: 2.1.29
Precedence: list
List-Id: automatic DPDK test reports <test-report.dpdk.org>
List-Unsubscribe: <https://mails.dpdk.org/options/test-report>,
 <mailto:test-report-request@dpdk.org?subject=unsubscribe>
List-Archive: <http://mails.dpdk.org/archives/test-report/>
List-Post: <mailto:test-report@dpdk.org>
List-Help: <mailto:test-report-request@dpdk.org?subject=help>
List-Subscribe: <https://mails.dpdk.org/listinfo/test-report>,
 <mailto:test-report-request@dpdk.org?subject=subscribe>
Errors-To: test-report-bounces@dpdk.org

Test-Label: iol-compile-amd64-testing
Test-Status: SUCCESS
http://dpdk.org/patch/139523

_Testing PASS_

Submitter: Chaoyong He <chaoyong.he@corigine.com>
Date: Friday, April 19 2024 03:12:26 
DPDK git baseline: Repo:dpdk
  Branch: master
  CommitID:ae59c6a42ee4f49409997765ae64502944e0ac33

139516-139523 --> testing pass

Test environment and result as below:

+---------------------+--------------------+----------------------+-------------------+
|     Environment     | dpdk_meson_compile | dpdk_mingw64_compile | dpdk_msvc_compile |
+=====================+====================+======================+===================+
| CentOS Stream 8     | PASS               | SKIPPED              | SKIPPED           |
+---------------------+--------------------+----------------------+-------------------+
| FreeBSD 13.2        | PASS               | SKIPPED              | SKIPPED           |
+---------------------+--------------------+----------------------+-------------------+
| Debian Bullseye     | PASS               | SKIPPED              | SKIPPED           |
+---------------------+--------------------+----------------------+-------------------+
| CentOS Stream 9     | PASS               | SKIPPED              | SKIPPED           |
+---------------------+--------------------+----------------------+-------------------+
| Debian 12           | PASS               | SKIPPED              | SKIPPED           |
+---------------------+--------------------+----------------------+-------------------+
| Fedora 37           | PASS               | SKIPPED              | SKIPPED           |
+---------------------+--------------------+----------------------+-------------------+
| Fedora 38           | PASS               | SKIPPED              | SKIPPED           |
+---------------------+--------------------+----------------------+-------------------+
| Windows Server 2022 | PASS               | PASS                 | PASS              |
+---------------------+--------------------+----------------------+-------------------+
| Windows Server 2019 | PASS               | PASS                 | SKIPPED           |
+---------------------+--------------------+----------------------+-------------------+
| Ubuntu 22.04        | PASS               | SKIPPED              | SKIPPED           |
+---------------------+--------------------+----------------------+-------------------+
| Ubuntu 20.04        | PASS               | SKIPPED              | SKIPPED           |
+---------------------+--------------------+----------------------+-------------------+
| RHEL8               | PASS               | SKIPPED              | SKIPPED           |
+---------------------+--------------------+----------------------+-------------------+
| openSUSE Leap 15    | PASS               | SKIPPED              | SKIPPED           |
+---------------------+--------------------+----------------------+-------------------+
| Fedora 39           | PASS               | SKIPPED              | SKIPPED           |
+---------------------+--------------------+----------------------+-------------------+
| Alpine              | PASS               | SKIPPED              | SKIPPED           |
+---------------------+--------------------+----------------------+-------------------+


CentOS Stream 8
	Kernel: 5.4.0-167-generic
	Compiler: gcc 8.5.0 20210514

FreeBSD 13.2
	Kernel: 13.2
	Compiler: clang 14.0.5

Debian Bullseye
	Kernel: 5.4.0-167-generic
	Compiler: gcc 10.2.1-6

CentOS Stream 9
	Kernel: 5.4.0-167-generic
	Compiler: gcc 11.4.1 20230605

Debian 12
	Kernel: Container Host Kernel
	Compiler: gcc 10.2.1

Fedora 37
	Kernel: Depends on container host system
	Compiler: gcc 12.3.1

Fedora 38
	Kernel: Depends on container host
	Compiler: gcc 13.2.1

Windows Server 2022
	Kernel: 10.0.20348.2031
	Compiler: clang 15.0.7, gcc 8.1.0 (MinGW), and MSVC VS 17.9

Windows Server 2019
	Kernel: 10.0.17763
	Compiler: clang 14.0 and gcc 8.1.0 (MinGW)

Ubuntu 22.04
	Kernel: 5.4.0-167-generic
	Compiler: gcc 11.4.0

Ubuntu 20.04
	Kernel: 5.4.0-167-generic
	Compiler: gcc 9.4.0-1ubuntu1~20.04.1

RHEL8
	Kernel: 5.4.0-167-generic
	Compiler: gcc 8.5.0 20210514 (Red Hat 8.5.0-20)

openSUSE Leap 15
	Kernel: 5.4.0-167-generic
	Compiler: gcc 7.5.0

Fedora 39
	Kernel: Depends on container host
	Compiler: gcc 13.2.1

Alpine
	Kernel: 5.4.0-167-generic
	Compiler: gcc (Alpine 12.2.1_git20220924-r10) 12.2.1 20220924

To view detailed results, visit:
https://lab.dpdk.org/results/dashboard/patchsets/29822/

UNH-IOL DPDK Community Lab

To manage your email subscriptions, visit: 
https://lab.dpdk.org/results/dashboard/preferences/subscriptions/