From mboxrd@z Thu Jan  1 00:00:00 1970
Return-Path: <test-report-bounces@dpdk.org>
Received: from mails.dpdk.org (mails.dpdk.org [217.70.189.124])
	by inbox.dpdk.org (Postfix) with ESMTP id 8CD9843EAA
	for <public@inbox.dpdk.org>; Fri, 19 Apr 2024 06:18:47 +0200 (CEST)
Received: from mails.dpdk.org (localhost [127.0.0.1])
	by mails.dpdk.org (Postfix) with ESMTP id 84D224027D;
	Fri, 19 Apr 2024 06:18:47 +0200 (CEST)
Received: from mail-vs1-f98.google.com (mail-vs1-f98.google.com
 [209.85.217.98]) by mails.dpdk.org (Postfix) with ESMTP id 9C3B840273
 for <test-report@dpdk.org>; Fri, 19 Apr 2024 06:18:45 +0200 (CEST)
Received: by mail-vs1-f98.google.com with SMTP id
 ada2fe7eead31-47b6ac9745eso545175137.3
 for <test-report@dpdk.org>; Thu, 18 Apr 2024 21:18:45 -0700 (PDT)
DKIM-Signature: v=1; a=rsa-sha256; c=relaxed/relaxed;
 d=iol.unh.edu; s=unh-iol; t=1713500325; x=1714105125; darn=dpdk.org;
 h=references:in-reply-to:cc:to:from:subject:message-id:date:from:to
 :cc:subject:date:message-id:reply-to;
 bh=JCKXLV2MJQoI1GR5Epe9ZN+CdsMmiJ1LQnQIBqt/5rg=;
 b=FnxAllN9k7ZhuVyHUYcDyE48YndaXWjm4MnBjImM9Io481GSmsJhq7+ICJ6aLGE6DD
 d1jZ8Vb0dEcEC8fLcGWbDE+MYSo8OUFdz9MohICNW0vtqrUiVxZvJztZqE9K3d+/JY0E
 t1pTgda+mpIXGKa4MJWSoaQksxRvCyQ2CLuxA=
X-Google-DKIM-Signature: v=1; a=rsa-sha256; c=relaxed/relaxed;
 d=1e100.net; s=20230601; t=1713500325; x=1714105125;
 h=references:in-reply-to:cc:to:from:subject:message-id:date
 :x-gm-message-state:from:to:cc:subject:date:message-id:reply-to;
 bh=JCKXLV2MJQoI1GR5Epe9ZN+CdsMmiJ1LQnQIBqt/5rg=;
 b=h4VdYCZBmlltYPGqBV1zxMg1OLBPACbuBkgMar+0bO2CRxNktAGguEM8h0+3BhhNNR
 rjL74AqBd0STknXFiHeJI602UmRTsOWe+kJyEwua++8rE37fsLO4dhilXcLiLrSjpunT
 TNRyiZZvzXGpRD9apgNSunaGR/LUkevV9aEhA1Qu39HaMPB9I2ZR7T7IH+B9/l2MtsvJ
 0J68h+0R7afQjPgKgM1LkozktfCtlFnEPpEmsz3oQi8dmoowg/8k9fa8ELjIWE6duW8k
 EOu1IBc32Bif2gE2WvRXvBe1oEr/qyVhpeHr++Am95KC8sraVVgFNv+n6nPeoKNFWU50
 JYKw==
X-Gm-Message-State: AOJu0Yw8Pm2A3uhCpINJNE9V8f+koN8r90YtwC7fyIAlYbaomp84plCM
 bp7p3VDW6W3fMsnGSGXHZem6g/DE0w//SziyEEGeT0i3Nae2Q8lN2F5y76eyOE8q7RBw9aKF2lT
 N/j1+MnoaINmQv+QR7nRsJuQYdc+zUdOtqeiFdEQ5ot9dddL0KRhjMDAO
X-Google-Smtp-Source: AGHT+IFplOOp4E0KgP1LRyDmMyZ3zJP0XgdNhAuRWO0cKiyHkfJMv3HE9G+MWw1rY+DvNuW0lit5JQKwDyBm
X-Received: by 2002:a05:6102:c13:b0:47b:c43b:3329 with SMTP id
 x19-20020a0561020c1300b0047bc43b3329mr1067315vss.8.1713500324944; 
 Thu, 18 Apr 2024 21:18:44 -0700 (PDT)
Received: from postal.iol.unh.edu (postal.iol.unh.edu.
 [2606:4100:3880:1234::84]) by smtp-relay.gmail.com with ESMTPS id
 cp9-20020a0561300d8900b007ec2c2be8ebsm88201uab.11.2024.04.18.21.18.44
 (version=TLS1_2 cipher=ECDHE-ECDSA-AES128-GCM-SHA256 bits=128/128);
 Thu, 18 Apr 2024 21:18:44 -0700 (PDT)
X-Relaying-Domain: iol.unh.edu
Date: Thu, 18 Apr 2024 21:18:44 -0700 (PDT)
Message-ID: <6621f0a4.050a0220.b3e7c.47daSMTPIN_ADDED_MISSING@mx.google.com>
Received: from [172.17.0.4] (unknown [172.18.0.217])
 by postal.iol.unh.edu (Postfix) with ESMTP id 65CC96052514;
 Fri, 19 Apr 2024 00:18:44 -0400 (EDT)
Subject: |SUCCESS| pw139516-139523 [PATCH] [8/8] net/nfp: unify port create a
From: dpdklab@iol.unh.edu
To: Test Report <test-report@dpdk.org>
Cc: dpdk-test-reports@iol.unh.edu
In-Reply-To: <20240419031226.1191069-9-chaoyong.he@corigine.com>
References: <20240419031226.1191069-9-chaoyong.he@corigine.com>
Content-Type: text/plain
X-BeenThere: test-report@dpdk.org
X-Mailman-Version: 2.1.29
Precedence: list
List-Id: automatic DPDK test reports <test-report.dpdk.org>
List-Unsubscribe: <https://mails.dpdk.org/options/test-report>,
 <mailto:test-report-request@dpdk.org?subject=unsubscribe>
List-Archive: <http://mails.dpdk.org/archives/test-report/>
List-Post: <mailto:test-report@dpdk.org>
List-Help: <mailto:test-report-request@dpdk.org?subject=help>
List-Subscribe: <https://mails.dpdk.org/listinfo/test-report>,
 <mailto:test-report-request@dpdk.org?subject=subscribe>
Errors-To: test-report-bounces@dpdk.org

Test-Label: iol-unit-amd64-testing
Test-Status: SUCCESS
http://dpdk.org/patch/139523

_Testing PASS_

Submitter: Chaoyong He <chaoyong.he@corigine.com>
Date: Friday, April 19 2024 03:12:26 
DPDK git baseline: Repo:dpdk
  Branch: master
  CommitID:ae59c6a42ee4f49409997765ae64502944e0ac33

139516-139523 --> testing pass

Test environment and result as below:

+---------------------+----------------+
|     Environment     | dpdk_unit_test |
+=====================+================+
| CentOS Stream 9     | PASS           |
+---------------------+----------------+
| Debian 12           | PASS           |
+---------------------+----------------+
| Ubuntu 22.04        | PASS           |
+---------------------+----------------+
| Debian Bullseye     | PASS           |
+---------------------+----------------+
| Fedora 37           | PASS           |
+---------------------+----------------+
| CentOS Stream 8     | PASS           |
+---------------------+----------------+
| Fedora 38           | PASS           |
+---------------------+----------------+
| Fedora 39           | PASS           |
+---------------------+----------------+
| Windows Server 2019 | PASS           |
+---------------------+----------------+
| RHEL8               | PASS           |
+---------------------+----------------+
| Ubuntu 20.04        | PASS           |
+---------------------+----------------+
| openSUSE Leap 15    | PASS           |
+---------------------+----------------+


CentOS Stream 9
	Kernel: 5.4.0-167-generic
	Compiler: gcc 11.4.1 20230605

Debian 12
	Kernel: Container Host Kernel
	Compiler: gcc 10.2.1

Ubuntu 22.04
	Kernel: 5.4.0-167-generic
	Compiler: gcc 11.4.0

Debian Bullseye
	Kernel: 5.4.0-167-generic
	Compiler: gcc 10.2.1-6

Fedora 37
	Kernel: Depends on container host system
	Compiler: gcc 12.3.1

CentOS Stream 8
	Kernel: 5.4.0-167-generic
	Compiler: gcc 8.5.0 20210514

Fedora 38
	Kernel: Depends on container host
	Compiler: gcc 13.2.1

Fedora 39
	Kernel: Depends on container host
	Compiler: gcc 13.2.1

Windows Server 2019
	Kernel: 10.0.17763
	Compiler: clang 14.0 and gcc 8.1.0 (MinGW)

RHEL8
	Kernel: 5.4.0-167-generic
	Compiler: gcc 8.5.0 20210514 (Red Hat 8.5.0-20)

Ubuntu 20.04
	Kernel: 5.4.0-167-generic
	Compiler: gcc 9.4.0-1ubuntu1~20.04.1

openSUSE Leap 15
	Kernel: 5.4.0-167-generic
	Compiler: gcc 7.5.0

To view detailed results, visit:
https://lab.dpdk.org/results/dashboard/patchsets/29822/

UNH-IOL DPDK Community Lab

To manage your email subscriptions, visit: 
https://lab.dpdk.org/results/dashboard/preferences/subscriptions/