From mboxrd@z Thu Jan  1 00:00:00 1970
Return-Path: <test-report-bounces@dpdk.org>
Received: from mails.dpdk.org (mails.dpdk.org [217.70.189.124])
	by inbox.dpdk.org (Postfix) with ESMTP id 41C9043EAA
	for <public@inbox.dpdk.org>; Fri, 19 Apr 2024 06:28:59 +0200 (CEST)
Received: from mails.dpdk.org (localhost [127.0.0.1])
	by mails.dpdk.org (Postfix) with ESMTP id 3C8DB4027D;
	Fri, 19 Apr 2024 06:28:59 +0200 (CEST)
Received: from mail-qk1-f228.google.com (mail-qk1-f228.google.com
 [209.85.222.228])
 by mails.dpdk.org (Postfix) with ESMTP id 9766D40273
 for <test-report@dpdk.org>; Fri, 19 Apr 2024 06:28:53 +0200 (CEST)
Received: by mail-qk1-f228.google.com with SMTP id
 af79cd13be357-78f05afc8d6so106390185a.3
 for <test-report@dpdk.org>; Thu, 18 Apr 2024 21:28:53 -0700 (PDT)
DKIM-Signature: v=1; a=rsa-sha256; c=relaxed/relaxed;
 d=iol.unh.edu; s=unh-iol; t=1713500933; x=1714105733; darn=dpdk.org;
 h=references:in-reply-to:cc:to:from:subject:message-id:date:from:to
 :cc:subject:date:message-id:reply-to;
 bh=yZWMAQpO5QZ+yv0PB6bJ2OVusmzyXne7DN2+sp9Is2Q=;
 b=ZX561PhCvNpUa7dDO6d0/RS8ySyr4kmRBhCNgE8N6zwFCgYzMyP13j4ax+Roy7nOSb
 cFCqisFTqUnHT4x7E3u7k2PD32XE+7DkVKRZ9tv3M5FRrKgh+0JEnNxDa80ANA7eygHd
 OIRZLhyYUBmyLHxkoBDGtDd1W7LZ2KujxNsUU=
X-Google-DKIM-Signature: v=1; a=rsa-sha256; c=relaxed/relaxed;
 d=1e100.net; s=20230601; t=1713500933; x=1714105733;
 h=references:in-reply-to:cc:to:from:subject:message-id:date
 :x-gm-message-state:from:to:cc:subject:date:message-id:reply-to;
 bh=yZWMAQpO5QZ+yv0PB6bJ2OVusmzyXne7DN2+sp9Is2Q=;
 b=hSKpV8zNzh2slKm616d8917EaAcyqowB5y5OqcQemebMmgZ70y4DMGb0B1TJTgtgJy
 dcbunUH4QWoi0A38pas2UQF+uLM9Wg8BtUe+1FWYMZvdaijBL20GE6cU/qsF0ZBp9IMh
 HQ7c+aiiDgNHJFY2FHl9iXp98J/JP2M53sCiSQaItfvPAatr/8Fuy9TnYUqN2Dyw+DhB
 8vaCm0LfG7yh3ic95FUKHVAiAvbKuR7Inw2oElUuxX+AHtYXiCsfee2TPMP/KdBXG9Tp
 3V3I8/NFKy8Qsluu2hSaxntc8oPwe8j+DZVucFMBhENbhLum7jQQKQTkSU+oYamxKb7w
 /tVw==
X-Gm-Message-State: AOJu0YwDzkWr2f7XLfFCjWoI2u0elS8Aefab7jw/jD17Ca251qRf6TRQ
 oQBtiuzGl495SbJZANqPhQeigPSgpihbmbncjzcJqx7aGIDcXdfCtwXACA6vqtTgj9fwuVUPJNR
 oyNEck6PV2Tza8K3Xz6kepYSzgrzcSESk6oR0schT
X-Google-Smtp-Source: AGHT+IHHnFUzLNWaotJNXT/EWQCn1IEilAq6ZbhcGJkenqkt2519Io5TUgicFYdCgdAGXxTSSwQEg5x/a/Bi
X-Received: by 2002:a05:6214:4212:b0:69b:77b9:801a with SMTP id
 nd18-20020a056214421200b0069b77b9801amr274384qvb.58.1713500933120; 
 Thu, 18 Apr 2024 21:28:53 -0700 (PDT)
Received: from postal.iol.unh.edu (postal.iol.unh.edu. [132.177.123.84])
 by smtp-relay.gmail.com with ESMTPS id
 y1-20020ad445a1000000b006a060e538absm48113qvu.10.2024.04.18.21.28.53
 (version=TLS1_2 cipher=ECDHE-ECDSA-AES128-GCM-SHA256 bits=128/128);
 Thu, 18 Apr 2024 21:28:53 -0700 (PDT)
X-Relaying-Domain: iol.unh.edu
Date: Thu, 18 Apr 2024 21:28:53 -0700 (PDT)
Message-ID: <6621f305.d40a0220.895d4.2b25SMTPIN_ADDED_MISSING@mx.google.com>
Received: from [172.17.0.2] (unknown [172.18.0.217])
 by postal.iol.unh.edu (Postfix) with ESMTP id D03486052514;
 Fri, 19 Apr 2024 00:28:52 -0400 (EDT)
Subject: |SUCCESS| pw139516-139523 [PATCH] [8/8] net/nfp: unify port create a
From: dpdklab@iol.unh.edu
To: Test Report <test-report@dpdk.org>
Cc: dpdk-test-reports@iol.unh.edu
In-Reply-To: <20240419031226.1191069-9-chaoyong.he@corigine.com>
References: <20240419031226.1191069-9-chaoyong.he@corigine.com>
Content-Type: text/plain
X-BeenThere: test-report@dpdk.org
X-Mailman-Version: 2.1.29
Precedence: list
List-Id: automatic DPDK test reports <test-report.dpdk.org>
List-Unsubscribe: <https://mails.dpdk.org/options/test-report>,
 <mailto:test-report-request@dpdk.org?subject=unsubscribe>
List-Archive: <http://mails.dpdk.org/archives/test-report/>
List-Post: <mailto:test-report@dpdk.org>
List-Help: <mailto:test-report-request@dpdk.org?subject=help>
List-Subscribe: <https://mails.dpdk.org/listinfo/test-report>,
 <mailto:test-report-request@dpdk.org?subject=subscribe>
Errors-To: test-report-bounces@dpdk.org

Test-Label: iol-compile-arm64-testing
Test-Status: SUCCESS
http://dpdk.org/patch/139523

_Testing PASS_

Submitter: Chaoyong He <chaoyong.he@corigine.com>
Date: Friday, April 19 2024 03:12:26 
DPDK git baseline: Repo:dpdk
  Branch: master
  CommitID:ae59c6a42ee4f49409997765ae64502944e0ac33

139516-139523 --> testing pass

Test environment and result as below:

+----------------------------------------+--------------------+
|              Environment               | dpdk_meson_compile |
+========================================+====================+
| Ubuntu 20.04 ARM SVE                   | PASS               |
+----------------------------------------+--------------------+
| Debian 12 with MUSDK                   | PASS               |
+----------------------------------------+--------------------+
| Fedora 37 (ARM)                        | PASS               |
+----------------------------------------+--------------------+
| Fedora 38 (ARM)                        | PASS               |
+----------------------------------------+--------------------+
| Debian 11 (Buster) (ARM)               | PASS               |
+----------------------------------------+--------------------+
| Ubuntu 20.04 (ARM)                     | PASS               |
+----------------------------------------+--------------------+
| Fedora 39 (ARM)                        | PASS               |
+----------------------------------------+--------------------+
| Ubuntu 20.04 aarch32 GCC Cross Compile | PASS               |
+----------------------------------------+--------------------+
| Debian 12 (arm)                        | PASS               |
+----------------------------------------+--------------------+
| CentOS Stream 9 (ARM)                  | PASS               |
+----------------------------------------+--------------------+


Ubuntu 20.04 ARM SVE
	Kernel: 5.4.0-167-generic
	Compiler: gcc (Ubuntu 10.5.0-1ubuntu1~20.04) 10.5.0

Debian 12 with MUSDK
	Kernel: Container Host Kernel
	Compiler: gcc 12.2.0

Fedora 37 (ARM)
	Kernel: Depends on container host
	Compiler: gcc 12.3.1

Fedora 38 (ARM)
	Kernel: Depends on container host
	Compiler: gcc 13.2.1

Debian 11 (Buster) (ARM)
	Kernel: Container Host Kernel
	Compiler: gcc 10.2.1

Ubuntu 20.04 (ARM)
	Kernel: Container Host Kernel
	Compiler: gcc 9.4.0

Fedora 39 (ARM)
	Kernel: Depends on container host
	Compiler: gcc 13.2.1

Ubuntu 20.04 aarch32 GCC Cross Compile
	Kernel: 5.4.0-167-generic
	Compiler: gcc 9.4.0

Debian 12 (arm)
	Kernel: Container Host Kernel
	Compiler: gcc 12.2.0

CentOS Stream 9 (ARM)
	Kernel: Container Host Kernel
	Compiler: gcc 11.4.1

To view detailed results, visit:
https://lab.dpdk.org/results/dashboard/patchsets/29822/

UNH-IOL DPDK Community Lab

To manage your email subscriptions, visit: 
https://lab.dpdk.org/results/dashboard/preferences/subscriptions/