From mboxrd@z Thu Jan  1 00:00:00 1970
Return-Path: <test-report-bounces@dpdk.org>
Received: from mails.dpdk.org (mails.dpdk.org [217.70.189.124])
	by inbox.dpdk.org (Postfix) with ESMTP id EF80543EAA
	for <public@inbox.dpdk.org>; Fri, 19 Apr 2024 06:30:29 +0200 (CEST)
Received: from mails.dpdk.org (localhost [127.0.0.1])
	by mails.dpdk.org (Postfix) with ESMTP id D1A184027D;
	Fri, 19 Apr 2024 06:30:29 +0200 (CEST)
Received: from mail-yw1-f228.google.com (mail-yw1-f228.google.com
 [209.85.128.228])
 by mails.dpdk.org (Postfix) with ESMTP id 94303402E1
 for <test-report@dpdk.org>; Fri, 19 Apr 2024 06:30:07 +0200 (CEST)
Received: by mail-yw1-f228.google.com with SMTP id
 00721157ae682-61149e50602so12304947b3.0
 for <test-report@dpdk.org>; Thu, 18 Apr 2024 21:30:07 -0700 (PDT)
DKIM-Signature: v=1; a=rsa-sha256; c=relaxed/relaxed;
 d=iol.unh.edu; s=unh-iol; t=1713501007; x=1714105807; darn=dpdk.org;
 h=references:in-reply-to:cc:to:from:subject:message-id:date:from:to
 :cc:subject:date:message-id:reply-to;
 bh=RZHq1x43WTvCubpEwwVTIWl+8Lq7GKBSp3szbZpTXFU=;
 b=WdLPs7pL66IHy4hFtY31BWgHXN+nEgQo1j/KR4aSOPhN2Xk1ybxEd5yIeyVAvyeEvX
 VqezZp+XCSaCg1NAVubpL6+wHb59TcgaRJLo08Qs2rcDGgDLjERlWrDwWEHI/2B1rq5g
 duXYRWbaxDzEbV/61u38EBXjeXJ74TX4BjeB0=
X-Google-DKIM-Signature: v=1; a=rsa-sha256; c=relaxed/relaxed;
 d=1e100.net; s=20230601; t=1713501007; x=1714105807;
 h=references:in-reply-to:cc:to:from:subject:message-id:date
 :x-gm-message-state:from:to:cc:subject:date:message-id:reply-to;
 bh=RZHq1x43WTvCubpEwwVTIWl+8Lq7GKBSp3szbZpTXFU=;
 b=E1FR0Cz0b4WsYWSWkWbXHrgyCsfDQnygUTOFgxGLD3t3Pa1IVKMU/cAT2hcBheyvn3
 8u+jrsuYprctyUlIPrjISQrITuoyxl+gvwe/aH9Vv/Fk+Cz1vt6h6ajv3X5cnlgqnY/0
 a/VzNqk2gd0T9QFblaKOh0vBYQsmI7ZTxY3hNS87pRo65r0aYuLhTq1/oo9AAIhf0A6Y
 h38XVBypUI8TF+eqKcoXGwxr+l/hi1D07tWQv/UxhlO0FtCAT/Juj1cKdBqAtFYx3eSO
 NGlxhd+PccNr85n0/+H7VWqEtMZL+5WaJHBKBgiJUt4+XpopdnvWbXP0YVfrOs6zkOZi
 pTRA==
X-Gm-Message-State: AOJu0Yy/pejSHVSpgFDAZZ6V6/vCTfCjbrWPaLh8aH/GllxfgBXRFHAj
 PJbay0DIervmBAVVmga1dafcOmDGsi1XKvjA57r1J6Tm/FRPibyDbUHJbkT6oRw3tcdTh2jyvGq
 g5ColiUMKxBjH017KAh1EF0qSPcfL7cVh+SfbeLiSML4BrHn/61elMml8
X-Google-Smtp-Source: AGHT+IHSk9qTt2VRn2th1n4n9lR84VmuviipyAhA4b0qXptHedwZxj9EKoRlpVMNnmRvvzmU/DxPXz///Njz
X-Received: by 2002:a0d:e68c:0:b0:618:7ef2:35ab with SMTP id
 p134-20020a0de68c000000b006187ef235abmr3412997ywe.2.1713501005543; 
 Thu, 18 Apr 2024 21:30:05 -0700 (PDT)
Received: from postal.iol.unh.edu (postal.iol.unh.edu.
 [2606:4100:3880:1234::84]) by smtp-relay.gmail.com with ESMTPS id
 s65-20020a0dd044000000b00614efaaad6esm197771ywd.70.2024.04.18.21.30.05
 (version=TLS1_2 cipher=ECDHE-ECDSA-AES128-GCM-SHA256 bits=128/128);
 Thu, 18 Apr 2024 21:30:05 -0700 (PDT)
X-Relaying-Domain: iol.unh.edu
Date: Thu, 18 Apr 2024 21:30:05 -0700 (PDT)
Message-ID: <6621f34d.0d0a0220.bfdaf.c6cdSMTPIN_ADDED_MISSING@mx.google.com>
Received: from [172.17.0.2] (unknown [172.18.0.217])
 by postal.iol.unh.edu (Postfix) with ESMTP id 34F376052514;
 Fri, 19 Apr 2024 00:30:05 -0400 (EDT)
Subject: |SUCCESS| pw139516-139523 [PATCH] [8/8] net/nfp: unify port create a
From: dpdklab@iol.unh.edu
To: Test Report <test-report@dpdk.org>
Cc: dpdk-test-reports@iol.unh.edu
In-Reply-To: <20240419031226.1191069-9-chaoyong.he@corigine.com>
References: <20240419031226.1191069-9-chaoyong.he@corigine.com>
Content-Type: text/plain
X-BeenThere: test-report@dpdk.org
X-Mailman-Version: 2.1.29
Precedence: list
List-Id: automatic DPDK test reports <test-report.dpdk.org>
List-Unsubscribe: <https://mails.dpdk.org/options/test-report>,
 <mailto:test-report-request@dpdk.org?subject=unsubscribe>
List-Archive: <http://mails.dpdk.org/archives/test-report/>
List-Post: <mailto:test-report@dpdk.org>
List-Help: <mailto:test-report-request@dpdk.org?subject=help>
List-Subscribe: <https://mails.dpdk.org/listinfo/test-report>,
 <mailto:test-report-request@dpdk.org?subject=subscribe>
Errors-To: test-report-bounces@dpdk.org

Test-Label: iol-abi-testing
Test-Status: SUCCESS
http://dpdk.org/patch/139523

_Testing PASS_

Submitter: Chaoyong He <chaoyong.he@corigine.com>
Date: Friday, April 19 2024 03:12:26 
DPDK git baseline: Repo:dpdk
  Branch: master
  CommitID:ae59c6a42ee4f49409997765ae64502944e0ac33

139516-139523 --> testing pass

Test environment and result as below:

+------------------+----------+
|   Environment    | abi_test |
+==================+==========+
| Fedora 37        | PASS     |
+------------------+----------+
| CentOS Stream 8  | PASS     |
+------------------+----------+
| openSUSE Leap 15 | PASS     |
+------------------+----------+
| Ubuntu 22.04     | PASS     |
+------------------+----------+
| Fedora 38        | PASS     |
+------------------+----------+
| Fedora 39        | PASS     |
+------------------+----------+
| Debian Bullseye  | PASS     |
+------------------+----------+
| RHEL8            | PASS     |
+------------------+----------+
| Debian 12        | PASS     |
+------------------+----------+
| CentOS Stream 9  | PASS     |
+------------------+----------+


Fedora 37
	Kernel: Depends on container host system
	Compiler: gcc 12.3.1

CentOS Stream 8
	Kernel: 5.4.0-167-generic
	Compiler: gcc 8.5.0 20210514

openSUSE Leap 15
	Kernel: 5.4.0-167-generic
	Compiler: gcc 7.5.0

Ubuntu 22.04
	Kernel: 5.4.0-167-generic
	Compiler: gcc 11.4.0

Fedora 38
	Kernel: Depends on container host
	Compiler: clang 16.0.6

Fedora 39
	Kernel: Depends on container host
	Compiler: clang 17.0.6

Debian Bullseye
	Kernel: 5.4.0-167-generic
	Compiler: gcc 10.2.1-6

RHEL8
	Kernel: 5.4.0-167-generic
	Compiler: gcc 8.5.0 20210514 (Red Hat 8.5.0-20)

Debian 12
	Kernel: Container Host Kernel
	Compiler: gcc 10.2.1

CentOS Stream 9
	Kernel: 5.4.0-167-generic
	Compiler: gcc 11.4.1 20230605

To view detailed results, visit:
https://lab.dpdk.org/results/dashboard/patchsets/29822/

UNH-IOL DPDK Community Lab

To manage your email subscriptions, visit: 
https://lab.dpdk.org/results/dashboard/preferences/subscriptions/