From mboxrd@z Thu Jan  1 00:00:00 1970
Return-Path: <test-report-bounces@dpdk.org>
Received: from mails.dpdk.org (mails.dpdk.org [217.70.189.124])
	by inbox.dpdk.org (Postfix) with ESMTP id 9380C43EAA
	for <public@inbox.dpdk.org>; Fri, 19 Apr 2024 06:30:58 +0200 (CEST)
Received: from mails.dpdk.org (localhost [127.0.0.1])
	by mails.dpdk.org (Postfix) with ESMTP id 8CFC4402D6;
	Fri, 19 Apr 2024 06:30:58 +0200 (CEST)
Received: from mail-yw1-f228.google.com (mail-yw1-f228.google.com
 [209.85.128.228])
 by mails.dpdk.org (Postfix) with ESMTP id 8F4B840273
 for <test-report@dpdk.org>; Fri, 19 Apr 2024 06:30:39 +0200 (CEST)
Received: by mail-yw1-f228.google.com with SMTP id
 00721157ae682-6164d7a02d2so18920217b3.3
 for <test-report@dpdk.org>; Thu, 18 Apr 2024 21:30:39 -0700 (PDT)
DKIM-Signature: v=1; a=rsa-sha256; c=relaxed/relaxed;
 d=iol.unh.edu; s=unh-iol; t=1713501039; x=1714105839; darn=dpdk.org;
 h=references:in-reply-to:cc:to:from:subject:message-id:date:from:to
 :cc:subject:date:message-id:reply-to;
 bh=yvDAGGTt49eZvVKeJ78C92BfnCZKqHFBwmaUyG9l+9E=;
 b=cHItP3Zd2uB3C6IReAuVpLXlw3oyS+QTOEiHit6r0O11GqH/fSPqqXd/3j0KqqZdaw
 NoN7FM5Lephzt6wgRRwNUyVpgUlTHUEPZNslKzPz4uVNzH98kfynDRIJ3YKuwGwZqri3
 9b1NKTKT3Zn5sidfSF+zOzTP/rDPPLqxvOv8o=
X-Google-DKIM-Signature: v=1; a=rsa-sha256; c=relaxed/relaxed;
 d=1e100.net; s=20230601; t=1713501039; x=1714105839;
 h=references:in-reply-to:cc:to:from:subject:message-id:date
 :x-gm-message-state:from:to:cc:subject:date:message-id:reply-to;
 bh=yvDAGGTt49eZvVKeJ78C92BfnCZKqHFBwmaUyG9l+9E=;
 b=JBYdKMNiRHtQAICw5JxpcZ4kcnwjIspjAslc2cwDI9WA0K1aWWU1D/hvSwRHPHsDTF
 LTNVHzSQXCBbjKSiMs2HwPg7SOjyitJ8ySWjSPDLpGWNoxuQcUSoTsiU3BxUIk8KlSQ+
 X04mmKnO3xOZCQ+bymTW2be1MlsoYOlKDCa9WSKOeB8FSDIXoFPLytnwig2WoUgbEQwm
 a29fsN7C9a62xr0R//dSNEssWkQC39aKPEP6UKjW8p7VZe0VBbDnqxgkJw3RytYeELmw
 YsXW0toiT36XyUhllMHNcfYtfXQuc772WyhrP7DNQlBk7gotf0DsFgottkWmKvysF0fu
 tFMw==
X-Gm-Message-State: AOJu0Yz8mQiSJ9vcxig5Vmch0995hl3lF5h1Ybn8oGPQvC7nya9lHMjo
 EPRbBJMo1NHP2WrlKi+T4FoRguTjd6vJFD/DYW8e5qz62pOb4Y0kTrUcZu4JhATfP2XwNgTZoJC
 w2GkygUIQHx2wajHOrX56rBQo6wP16mp1gcnv/5gYHBKluXw0GHQvDWQd
X-Google-Smtp-Source: AGHT+IHzBeSLmVqzCKUxJuAkU8HhZEdEJNITYKNWqocU1d9oPNkvOPO1bzBmShe5ubIwLErV5JrDV5P81QkV
X-Received: by 2002:a05:690c:6804:b0:615:a86:f77b with SMTP id
 id4-20020a05690c680400b006150a86f77bmr972778ywb.26.1713501038484; 
 Thu, 18 Apr 2024 21:30:38 -0700 (PDT)
Received: from postal.iol.unh.edu (postal.iol.unh.edu.
 [2606:4100:3880:1234::84]) by smtp-relay.gmail.com with ESMTPS id
 g139-20020a0ddd91000000b006144cb448d2sm196146ywe.77.2024.04.18.21.30.38
 (version=TLS1_2 cipher=ECDHE-ECDSA-AES128-GCM-SHA256 bits=128/128);
 Thu, 18 Apr 2024 21:30:38 -0700 (PDT)
X-Relaying-Domain: iol.unh.edu
Date: Thu, 18 Apr 2024 21:30:38 -0700 (PDT)
Message-ID: <6621f36e.0d0a0220.2ffe2.b4b9SMTPIN_ADDED_MISSING@mx.google.com>
Received: from [172.21.0.6] (unknown [172.18.0.240])
 by postal.iol.unh.edu (Postfix) with ESMTP id 262316052514;
 Fri, 19 Apr 2024 00:30:37 -0400 (EDT)
Subject: |SUCCESS| pw139516-139523 [PATCH] [8/8] net/nfp: unify port create a
From: dpdklab@iol.unh.edu
To: Test Report <test-report@dpdk.org>
Cc: dpdk-test-reports@iol.unh.edu
In-Reply-To: <20240419031226.1191069-9-chaoyong.he@corigine.com>
References: <20240419031226.1191069-9-chaoyong.he@corigine.com>
Content-Type: text/plain
X-BeenThere: test-report@dpdk.org
X-Mailman-Version: 2.1.29
Precedence: list
List-Id: automatic DPDK test reports <test-report.dpdk.org>
List-Unsubscribe: <https://mails.dpdk.org/options/test-report>,
 <mailto:test-report-request@dpdk.org?subject=unsubscribe>
List-Archive: <http://mails.dpdk.org/archives/test-report/>
List-Post: <mailto:test-report@dpdk.org>
List-Help: <mailto:test-report-request@dpdk.org?subject=help>
List-Subscribe: <https://mails.dpdk.org/listinfo/test-report>,
 <mailto:test-report-request@dpdk.org?subject=subscribe>
Errors-To: test-report-bounces@dpdk.org

Test-Label: iol-compile-amd64-testing
Test-Status: SUCCESS
http://dpdk.org/patch/139523

_Testing PASS_

Submitter: Chaoyong He <chaoyong.he@corigine.com>
Date: Friday, April 19 2024 03:12:26 
DPDK git baseline: Repo:dpdk
  Branch: master
  CommitID:ae59c6a42ee4f49409997765ae64502944e0ac33

139516-139523 --> testing pass

Test environment and result as below:

+---------------------+--------------------+----------------------+-------------------+
|     Environment     | dpdk_meson_compile | dpdk_mingw64_compile | dpdk_msvc_compile |
+=====================+====================+======================+===================+
| CentOS Stream 8     | PASS               | SKIPPED              | SKIPPED           |
+---------------------+--------------------+----------------------+-------------------+
| FreeBSD 13.2        | PASS               | SKIPPED              | SKIPPED           |
+---------------------+--------------------+----------------------+-------------------+
| Debian Bullseye     | PASS               | SKIPPED              | SKIPPED           |
+---------------------+--------------------+----------------------+-------------------+
| CentOS Stream 9     | PASS               | SKIPPED              | SKIPPED           |
+---------------------+--------------------+----------------------+-------------------+
| Debian 12           | PASS               | SKIPPED              | SKIPPED           |
+---------------------+--------------------+----------------------+-------------------+
| Fedora 37           | PASS               | SKIPPED              | SKIPPED           |
+---------------------+--------------------+----------------------+-------------------+
| Fedora 38           | PASS               | SKIPPED              | SKIPPED           |
+---------------------+--------------------+----------------------+-------------------+
| Windows Server 2022 | PASS               | PASS                 | PASS              |
+---------------------+--------------------+----------------------+-------------------+
| Windows Server 2019 | PASS               | PASS                 | SKIPPED           |
+---------------------+--------------------+----------------------+-------------------+
| Ubuntu 22.04        | PASS               | SKIPPED              | SKIPPED           |
+---------------------+--------------------+----------------------+-------------------+
| Ubuntu 20.04        | PASS               | SKIPPED              | SKIPPED           |
+---------------------+--------------------+----------------------+-------------------+
| RHEL8               | PASS               | SKIPPED              | SKIPPED           |
+---------------------+--------------------+----------------------+-------------------+
| openSUSE Leap 15    | PASS               | SKIPPED              | SKIPPED           |
+---------------------+--------------------+----------------------+-------------------+
| Fedora 39           | PASS               | SKIPPED              | SKIPPED           |
+---------------------+--------------------+----------------------+-------------------+
| Alpine              | PASS               | SKIPPED              | SKIPPED           |
+---------------------+--------------------+----------------------+-------------------+


CentOS Stream 8
	Kernel: 5.4.0-167-generic
	Compiler: gcc 8.5.0 20210514

FreeBSD 13.2
	Kernel: 13.2
	Compiler: clang 14.0.5

Debian Bullseye
	Kernel: 5.4.0-167-generic
	Compiler: gcc 10.2.1-6

CentOS Stream 9
	Kernel: 5.4.0-167-generic
	Compiler: gcc 11.4.1 20230605

Debian 12
	Kernel: Container Host Kernel
	Compiler: gcc 10.2.1

Fedora 37
	Kernel: Depends on container host system
	Compiler: gcc 12.3.1

Fedora 38
	Kernel: Depends on container host
	Compiler: gcc 13.2.1

Windows Server 2022
	Kernel: 10.0.20348.2031
	Compiler: clang 15.0.7, gcc 8.1.0 (MinGW), and MSVC VS 17.9

Windows Server 2019
	Kernel: 10.0.17763
	Compiler: clang 14.0 and gcc 8.1.0 (MinGW)

Ubuntu 22.04
	Kernel: 5.4.0-167-generic
	Compiler: gcc 11.4.0

Ubuntu 20.04
	Kernel: 5.4.0-167-generic
	Compiler: gcc 9.4.0-1ubuntu1~20.04.1

RHEL8
	Kernel: 5.4.0-167-generic
	Compiler: gcc 8.5.0 20210514 (Red Hat 8.5.0-20)

openSUSE Leap 15
	Kernel: 5.4.0-167-generic
	Compiler: gcc 7.5.0

Fedora 39
	Kernel: Depends on container host
	Compiler: gcc 13.2.1

Alpine
	Kernel: 5.4.0-167-generic
	Compiler: gcc (Alpine 12.2.1_git20220924-r10) 12.2.1 20220924

To view detailed results, visit:
https://lab.dpdk.org/results/dashboard/patchsets/29822/

UNH-IOL DPDK Community Lab

To manage your email subscriptions, visit: 
https://lab.dpdk.org/results/dashboard/preferences/subscriptions/