From mboxrd@z Thu Jan  1 00:00:00 1970
Return-Path: <test-report-bounces@dpdk.org>
Received: from mails.dpdk.org (mails.dpdk.org [217.70.189.124])
	by inbox.dpdk.org (Postfix) with ESMTP id 6A5A543EAC
	for <public@inbox.dpdk.org>; Fri, 19 Apr 2024 10:16:22 +0200 (CEST)
Received: from mails.dpdk.org (localhost [127.0.0.1])
	by mails.dpdk.org (Postfix) with ESMTP id 4676B400D6;
	Fri, 19 Apr 2024 10:16:22 +0200 (CEST)
Received: from mail-io1-f97.google.com (mail-io1-f97.google.com
 [209.85.166.97]) by mails.dpdk.org (Postfix) with ESMTP id F245340042
 for <test-report@dpdk.org>; Fri, 19 Apr 2024 10:16:20 +0200 (CEST)
Received: by mail-io1-f97.google.com with SMTP id
 ca18e2360f4ac-7d86adab5a7so75497139f.3
 for <test-report@dpdk.org>; Fri, 19 Apr 2024 01:16:20 -0700 (PDT)
DKIM-Signature: v=1; a=rsa-sha256; c=relaxed/relaxed;
 d=iol.unh.edu; s=unh-iol; t=1713514580; x=1714119380; darn=dpdk.org;
 h=references:in-reply-to:cc:to:from:subject:message-id:date:from:to
 :cc:subject:date:message-id:reply-to;
 bh=0RFUqWBFM8ZRLcSVVmhNaC67Fkzjn8UA2VtSWd2k8H8=;
 b=BSeplRxuPkN0yZFjNenRclDlKQC7YGzkeTmA4ophvZaxDTGi8o2jV+JINSC9zhAjsD
 Xdp58ei+FXYy5HlVtr4TE5P4vH1Dp0ZMD/ELmwQnZzDSqjK/tTefrh+shQGF1h6mByG6
 HWqY3R2zjQ+JUo/1dt9jdypxZ8Q/a9uu2z1Mk=
X-Google-DKIM-Signature: v=1; a=rsa-sha256; c=relaxed/relaxed;
 d=1e100.net; s=20230601; t=1713514580; x=1714119380;
 h=references:in-reply-to:cc:to:from:subject:message-id:date
 :x-gm-message-state:from:to:cc:subject:date:message-id:reply-to;
 bh=0RFUqWBFM8ZRLcSVVmhNaC67Fkzjn8UA2VtSWd2k8H8=;
 b=kQ321pye/muhPBomgc8F2shouYDlfwiPq8Of0cgZNwyHgSkyWdkUiMh8AZv16M+c6d
 3OIqDMfJngJPQtf1bUdhnBJD482b3I3ixgaY2ep/Tj8gUvg05UwNO6H4AH2sQWtJebZB
 EPDymbkrmavlGWNOtVyIEcD8lz1REMF9FZ2bvhpQrnTgzd43cqOLKs2PemL8yNSPg5W4
 l4ugMhwehaV7U4A87TppHEIooqaw18f/iCb+5b2dDtwv2BbGTfDfd+h2IlKkm/S6u/qu
 1W2/PMjRrx4nOrDvDjay0FT6aBmSdEy9nephZ5aH/g106aZ5NBEHKiZve6pWULPp3Kjd
 xTDg==
X-Gm-Message-State: AOJu0Yy6MA+WiISa8Ho+aYqoawxu1uH/KaOrYFgNRH1cOsdGYH+9sBUP
 sIL4m/gKoxT9fSQYBVMdAMd1xHeAGijnRun3d8K9wsG+QU0v5prR35u2aiSj2vHTQ0sYrFkiZhu
 EdOTw5IigupO2gSx7WnXLnWYCxgBxEcSqq/dS1lUl
X-Google-Smtp-Source: AGHT+IFFohcIkPYMaVQJIqyLC2qjwleQCnxWWLkm86nyQkx9mfVGfUukXlIIfMXHNQXOS2YJDd0Z3aZFiMeI
X-Received: by 2002:a05:6602:121b:b0:7d5:e78b:fd1d with SMTP id
 y27-20020a056602121b00b007d5e78bfd1dmr1750646iot.6.1713514580365; 
 Fri, 19 Apr 2024 01:16:20 -0700 (PDT)
Received: from postal.iol.unh.edu (postal.iol.unh.edu. [132.177.123.84])
 by smtp-relay.gmail.com with ESMTPS id
 is21-20020a056638851500b004849562b327sm194692jab.54.2024.04.19.01.16.20
 (version=TLS1_2 cipher=ECDHE-ECDSA-AES128-GCM-SHA256 bits=128/128);
 Fri, 19 Apr 2024 01:16:20 -0700 (PDT)
X-Relaying-Domain: iol.unh.edu
Date: Fri, 19 Apr 2024 01:16:20 -0700 (PDT)
Message-ID: <66222854.050a0220.bc7be.bde5SMTPIN_ADDED_MISSING@mx.google.com>
Received: from [172.21.0.7] (unknown [172.18.0.240])
 by postal.iol.unh.edu (Postfix) with ESMTP id 8D5F46052514;
 Fri, 19 Apr 2024 04:16:19 -0400 (EDT)
Subject: |SUCCESS| pw139526-139533 [PATCH] [v2,8/8] net/nfp: unify port creat
From: dpdklab@iol.unh.edu
To: Test Report <test-report@dpdk.org>
Cc: dpdk-test-reports@iol.unh.edu
In-Reply-To: <20240419052349.1294696-9-chaoyong.he@corigine.com>
References: <20240419052349.1294696-9-chaoyong.he@corigine.com>
Content-Type: text/plain
X-BeenThere: test-report@dpdk.org
X-Mailman-Version: 2.1.29
Precedence: list
List-Id: automatic DPDK test reports <test-report.dpdk.org>
List-Unsubscribe: <https://mails.dpdk.org/options/test-report>,
 <mailto:test-report-request@dpdk.org?subject=unsubscribe>
List-Archive: <http://mails.dpdk.org/archives/test-report/>
List-Post: <mailto:test-report@dpdk.org>
List-Help: <mailto:test-report-request@dpdk.org?subject=help>
List-Subscribe: <https://mails.dpdk.org/listinfo/test-report>,
 <mailto:test-report-request@dpdk.org?subject=subscribe>
Errors-To: test-report-bounces@dpdk.org

Test-Label: iol-compile-arm64-testing
Test-Status: SUCCESS
http://dpdk.org/patch/139533

_Testing PASS_

Submitter: Chaoyong He <chaoyong.he@corigine.com>
Date: Friday, April 19 2024 05:23:49 
DPDK git baseline: Repo:dpdk
  Branch: master
  CommitID:ae59c6a42ee4f49409997765ae64502944e0ac33

139526-139533 --> testing pass

Test environment and result as below:

+----------------------------------------+--------------------+
|              Environment               | dpdk_meson_compile |
+========================================+====================+
| Ubuntu 20.04 ARM SVE                   | PASS               |
+----------------------------------------+--------------------+
| Debian 12 with MUSDK                   | PASS               |
+----------------------------------------+--------------------+
| Fedora 38 (ARM)                        | PASS               |
+----------------------------------------+--------------------+
| Debian 11 (Buster) (ARM)               | PASS               |
+----------------------------------------+--------------------+
| Ubuntu 20.04 (ARM)                     | PASS               |
+----------------------------------------+--------------------+
| CentOS Stream 9 (ARM)                  | PASS               |
+----------------------------------------+--------------------+
| Ubuntu 20.04 aarch32 GCC Cross Compile | PASS               |
+----------------------------------------+--------------------+
| Ubuntu 20.04 ARM Clang Cross Compile   | PASS               |
+----------------------------------------+--------------------+
| Debian 12 (arm)                        | PASS               |
+----------------------------------------+--------------------+


Ubuntu 20.04 ARM SVE
	Kernel: 5.4.0-167-generic
	Compiler: gcc (Ubuntu 10.5.0-1ubuntu1~20.04) 10.5.0

Debian 12 with MUSDK
	Kernel: Container Host Kernel
	Compiler: gcc 12.2.0

Fedora 38 (ARM)
	Kernel: Depends on container host
	Compiler: gcc 13.2.1

Debian 11 (Buster) (ARM)
	Kernel: Container Host Kernel
	Compiler: gcc 10.2.1

Ubuntu 20.04 (ARM)
	Kernel: Container Host Kernel
	Compiler: gcc 9.4.0

CentOS Stream 9 (ARM)
	Kernel: Container Host Kernel
	Compiler: gcc 11.4.1

Ubuntu 20.04 aarch32 GCC Cross Compile
	Kernel: 5.4.0-167-generic
	Compiler: gcc 9.4.0

Ubuntu 20.04 ARM Clang Cross Compile
	Kernel: 5.4.0-72-generic
	Compiler: clang 10.0.0-4ubuntu1

Debian 12 (arm)
	Kernel: Container Host Kernel
	Compiler: gcc 12.2.0

To view detailed results, visit:
https://lab.dpdk.org/results/dashboard/patchsets/29824/

UNH-IOL DPDK Community Lab

To manage your email subscriptions, visit: 
https://lab.dpdk.org/results/dashboard/preferences/subscriptions/