From mboxrd@z Thu Jan  1 00:00:00 1970
Return-Path: <test-report-bounces@dpdk.org>
Received: from mails.dpdk.org (mails.dpdk.org [217.70.189.124])
	by inbox.dpdk.org (Postfix) with ESMTP id C98BC43EAC
	for <public@inbox.dpdk.org>; Fri, 19 Apr 2024 10:33:15 +0200 (CEST)
Received: from mails.dpdk.org (localhost [127.0.0.1])
	by mails.dpdk.org (Postfix) with ESMTP id C33D5400D6;
	Fri, 19 Apr 2024 10:33:15 +0200 (CEST)
Received: from mail-il1-f225.google.com (mail-il1-f225.google.com
 [209.85.166.225])
 by mails.dpdk.org (Postfix) with ESMTP id 2C99840042
 for <test-report@dpdk.org>; Fri, 19 Apr 2024 10:33:14 +0200 (CEST)
Received: by mail-il1-f225.google.com with SMTP id
 e9e14a558f8ab-36a17999886so7225175ab.0
 for <test-report@dpdk.org>; Fri, 19 Apr 2024 01:33:14 -0700 (PDT)
DKIM-Signature: v=1; a=rsa-sha256; c=relaxed/relaxed;
 d=iol.unh.edu; s=unh-iol; t=1713515593; x=1714120393; darn=dpdk.org;
 h=references:in-reply-to:cc:to:from:subject:message-id:date:from:to
 :cc:subject:date:message-id:reply-to;
 bh=Koxn4DzwRN6IbupQsbZCk6lm+Srw8FBQjWbHXFaYFO0=;
 b=Mxj34lQIGCvzb/VuJXYsKaBAQ7Zwb4IUR463GrBL2bCflOM+mI8WhTDt90UWzOj/ts
 MjtbdzFqIe+jVbvs7p6B++tUxxItWgQZmeo3TV7f6A7YBcmLZbBme7pcfnEzeRAdCSxD
 L7ppvDYnXACPXipfzi447Ep/AlClTI2mxgPvs=
X-Google-DKIM-Signature: v=1; a=rsa-sha256; c=relaxed/relaxed;
 d=1e100.net; s=20230601; t=1713515593; x=1714120393;
 h=references:in-reply-to:cc:to:from:subject:message-id:date
 :x-gm-message-state:from:to:cc:subject:date:message-id:reply-to;
 bh=Koxn4DzwRN6IbupQsbZCk6lm+Srw8FBQjWbHXFaYFO0=;
 b=KRWfVIR6bOxAyZnHmLmEuq/26kJpdugjbpOfP3lbOgWuClcoCx4Xg/7Sade1ZfNAwp
 gNHoatGFZfk/6cPg5HnXoqevTEfp0s+sk0kPP+TeadeaDZwzvokeDy3C7avBgUSpvq0Y
 hPz9SjHsxfjB2eSCXEdZ2a2L3aYxTqlUy/uISW3XM6LPC+OKPsStImVnKgb4QcGnCF/T
 wkoyvqYKM5YBwT7RvxHq0UG/lZKSAfZiBIBjrXOZtZua1esyAPehOwe00qhQF+HRTEPd
 Jk5JtBHhHkdoSRr0eeWGSVUtEYGejEq32U78Ht2JLTvQqLqbzppv+F0DyRd1sOokrb+y
 9uZw==
X-Gm-Message-State: AOJu0Yx3+lJhSpZzd+aP1Uzf7NzKih35T9r50VOGDQzxhXrl6v8ISSBQ
 OZxU1Flnr8SppKpJkstVgopboaVBwyHancaVg/KOGnhPgMoSE6yyaDvYRrXM4BtL+qeiUDjcLNM
 HS6/sPCmnxWK+1Kty79dyO3p88W4ZM/VhFssTrGwBlVSz6I9GYwk2awc3
X-Google-Smtp-Source: AGHT+IGquOEeEJCbKIcbsjMypNvzb9pbcZkBt8Xymv4uch69NPzCsJmQ7Nls5XZ3EN8wLfwfsRB9Z+1acRwk
X-Received: by 2002:a05:6e02:1fc7:b0:36a:16fc:e621 with SMTP id
 dj7-20020a056e021fc700b0036a16fce621mr1690323ilb.19.1713515593579; 
 Fri, 19 Apr 2024 01:33:13 -0700 (PDT)
Received: from postal.iol.unh.edu (postal.iol.unh.edu.
 [2606:4100:3880:1234::84]) by smtp-relay.gmail.com with ESMTPS id
 z1-20020a92d181000000b0036a084c3bdasm163302ilz.64.2024.04.19.01.33.13
 (version=TLS1_2 cipher=ECDHE-ECDSA-AES128-GCM-SHA256 bits=128/128);
 Fri, 19 Apr 2024 01:33:13 -0700 (PDT)
X-Relaying-Domain: iol.unh.edu
Date: Fri, 19 Apr 2024 01:33:13 -0700 (PDT)
Message-ID: <66222c49.920a0220.e93e6.8db1SMTPIN_ADDED_MISSING@mx.google.com>
Received: from [172.17.0.3] (unknown [172.18.0.214])
 by postal.iol.unh.edu (Postfix) with ESMTP id 18E186052514;
 Fri, 19 Apr 2024 04:33:13 -0400 (EDT)
Subject: |SUCCESS| pw139526-139533 [PATCH] [v2,8/8] net/nfp: unify port creat
From: dpdklab@iol.unh.edu
To: Test Report <test-report@dpdk.org>
Cc: dpdk-test-reports@iol.unh.edu
In-Reply-To: <20240419052349.1294696-9-chaoyong.he@corigine.com>
References: <20240419052349.1294696-9-chaoyong.he@corigine.com>
Content-Type: text/plain
X-BeenThere: test-report@dpdk.org
X-Mailman-Version: 2.1.29
Precedence: list
List-Id: automatic DPDK test reports <test-report.dpdk.org>
List-Unsubscribe: <https://mails.dpdk.org/options/test-report>,
 <mailto:test-report-request@dpdk.org?subject=unsubscribe>
List-Archive: <http://mails.dpdk.org/archives/test-report/>
List-Post: <mailto:test-report@dpdk.org>
List-Help: <mailto:test-report-request@dpdk.org?subject=help>
List-Subscribe: <https://mails.dpdk.org/listinfo/test-report>,
 <mailto:test-report-request@dpdk.org?subject=subscribe>
Errors-To: test-report-bounces@dpdk.org

Test-Label: iol-compile-arm64-testing
Test-Status: SUCCESS
http://dpdk.org/patch/139533

_Testing PASS_

Submitter: Chaoyong He <chaoyong.he@corigine.com>
Date: Friday, April 19 2024 05:23:49 
DPDK git baseline: Repo:dpdk
  Branch: master
  CommitID:ae59c6a42ee4f49409997765ae64502944e0ac33

139526-139533 --> testing pass

Test environment and result as below:

+----------------------------------------+--------------------+
|              Environment               | dpdk_meson_compile |
+========================================+====================+
| Ubuntu 20.04 ARM SVE                   | PASS               |
+----------------------------------------+--------------------+
| Debian 12 with MUSDK                   | PASS               |
+----------------------------------------+--------------------+
| Fedora 38 (ARM)                        | PASS               |
+----------------------------------------+--------------------+
| Debian 11 (Buster) (ARM)               | PASS               |
+----------------------------------------+--------------------+
| Ubuntu 20.04 (ARM)                     | PASS               |
+----------------------------------------+--------------------+
| CentOS Stream 9 (ARM)                  | PASS               |
+----------------------------------------+--------------------+
| Ubuntu 20.04 aarch32 GCC Cross Compile | PASS               |
+----------------------------------------+--------------------+
| Ubuntu 20.04 ARM Clang Cross Compile   | PASS               |
+----------------------------------------+--------------------+
| Debian 12 (arm)                        | PASS               |
+----------------------------------------+--------------------+
| Fedora 39 (ARM)                        | PASS               |
+----------------------------------------+--------------------+
| Fedora 37 (ARM)                        | PASS               |
+----------------------------------------+--------------------+
| Ubuntu 20.04 ARM GCC Cross Compile     | PASS               |
+----------------------------------------+--------------------+


Ubuntu 20.04 ARM SVE
	Kernel: 5.4.0-167-generic
	Compiler: gcc (Ubuntu 10.5.0-1ubuntu1~20.04) 10.5.0

Debian 12 with MUSDK
	Kernel: Container Host Kernel
	Compiler: gcc 12.2.0

Fedora 38 (ARM)
	Kernel: Depends on container host
	Compiler: gcc 13.2.1

Debian 11 (Buster) (ARM)
	Kernel: Container Host Kernel
	Compiler: gcc 10.2.1

Ubuntu 20.04 (ARM)
	Kernel: Container Host Kernel
	Compiler: gcc 9.4.0

CentOS Stream 9 (ARM)
	Kernel: Container Host Kernel
	Compiler: gcc 11.4.1

Ubuntu 20.04 aarch32 GCC Cross Compile
	Kernel: 5.4.0-167-generic
	Compiler: gcc 9.4.0

Ubuntu 20.04 ARM Clang Cross Compile
	Kernel: 5.4.0-72-generic
	Compiler: clang 10.0.0-4ubuntu1

Debian 12 (arm)
	Kernel: Container Host Kernel
	Compiler: gcc 12.2.0

Fedora 39 (ARM)
	Kernel: Depends on container host
	Compiler: gcc 13.2.1

Fedora 37 (ARM)
	Kernel: Depends on container host
	Compiler: gcc 12.3.1

Ubuntu 20.04 ARM GCC Cross Compile
	Kernel: 5.4.0-167-generic
	Compiler: aarch64-linux-gnu-gcc (Ubuntu 9.4.0-1ubuntu1~20.04.2) 9.4.0

To view detailed results, visit:
https://lab.dpdk.org/results/dashboard/patchsets/29824/

UNH-IOL DPDK Community Lab

To manage your email subscriptions, visit: 
https://lab.dpdk.org/results/dashboard/preferences/subscriptions/