From mboxrd@z Thu Jan  1 00:00:00 1970
Return-Path: <test-report-bounces@dpdk.org>
Received: from mails.dpdk.org (mails.dpdk.org [217.70.189.124])
	by inbox.dpdk.org (Postfix) with ESMTP id 2BCA943EAC
	for <public@inbox.dpdk.org>; Fri, 19 Apr 2024 10:42:06 +0200 (CEST)
Received: from mails.dpdk.org (localhost [127.0.0.1])
	by mails.dpdk.org (Postfix) with ESMTP id 0C2B2400D6;
	Fri, 19 Apr 2024 10:42:06 +0200 (CEST)
Received: from mail-pl1-f228.google.com (mail-pl1-f228.google.com
 [209.85.214.228])
 by mails.dpdk.org (Postfix) with ESMTP id A4A77400D6
 for <test-report@dpdk.org>; Fri, 19 Apr 2024 10:42:04 +0200 (CEST)
Received: by mail-pl1-f228.google.com with SMTP id
 d9443c01a7336-1e5aa82d1f6so17924445ad.0
 for <test-report@dpdk.org>; Fri, 19 Apr 2024 01:42:04 -0700 (PDT)
DKIM-Signature: v=1; a=rsa-sha256; c=relaxed/relaxed;
 d=iol.unh.edu; s=unh-iol; t=1713516124; x=1714120924; darn=dpdk.org;
 h=references:in-reply-to:cc:to:from:subject:message-id:date:from:to
 :cc:subject:date:message-id:reply-to;
 bh=HBVpPckiK31x/R+Y21skP8Lv0JbkqLFyIpPT7qBOrgU=;
 b=KieMFuXIE9J/L6PXzZrlKRALw/ki5VeeZnSDY2KMgLKRktLLyaywGCdQPKiMONdyaN
 FpYGwX8K6iRYQA77AF87TdDTedsdUOYaxMxsGYrWwe1HFM6fW9sdizkp9mz0hh2gdemD
 CdSRM5HVlJw0oT5y/76OvEFPiyoUjNP1kll+0=
X-Google-DKIM-Signature: v=1; a=rsa-sha256; c=relaxed/relaxed;
 d=1e100.net; s=20230601; t=1713516124; x=1714120924;
 h=references:in-reply-to:cc:to:from:subject:message-id:date
 :x-gm-message-state:from:to:cc:subject:date:message-id:reply-to;
 bh=HBVpPckiK31x/R+Y21skP8Lv0JbkqLFyIpPT7qBOrgU=;
 b=wVcPHqVa50B0QtuKHk3hRmR1U8SgU0abURM/wB2EC4/mJKAoTxB5NY7yUv3eDxr3/U
 LZfTWKobI7ML1opmNrM+SYseAVd97PRNJbpa4u+n2vhbt8VPrNLBQ5UcVtgHKxHr/nT5
 YJfdKEIb9F0A34D8HWdapwn4x77d5ydkVaio5AXFGgI7Jju2SmTXSKaLOdEhtzibxLrS
 ulllFMxtrjroO/hnOuxtF6uc4XXjrn7gzEgc4OCzKM/sOddXzUOxhwHHW9D6aPD2JPaM
 jHcOVj5BnrPCWrn3T9m+6B16QZhltDF22Y3U7G+jBntfmhF7Q4t4Y++379W9agMpTmJ8
 xoiA==
X-Gm-Message-State: AOJu0YwKgoCO3btwVDtUmShDf+yn7I4XWV80usn5BC6Pp8baPkQeugfh
 OkelU4YxnphN+KUCTKUugeAIFKxNdxQncajrMRlW/Z7yQaqxhCTj8O5PJwDIb2mrYsBh+uJDfFv
 ZYlhx8qh3mxDtqQbwnwEZCKpKiKP99CfHFOzJ+/SM
X-Google-Smtp-Source: AGHT+IE+xTEqqWPwawzT84wg4Vfv6eG1qEeKsryD6vuFUy2ecqkYuLseXSCDgyyS2T3tZrS2Oq9vCbM3OvZ6
X-Received: by 2002:a17:902:e84f:b0:1e2:7734:63dd with SMTP id
 t15-20020a170902e84f00b001e2773463ddmr7421371plg.30.1713516123820; 
 Fri, 19 Apr 2024 01:42:03 -0700 (PDT)
Received: from postal.iol.unh.edu (postal.iol.unh.edu. [132.177.123.84])
 by smtp-relay.gmail.com with ESMTPS id
 y9-20020a170902700900b001e25dab19d8sm109841plk.111.2024.04.19.01.42.03
 (version=TLS1_2 cipher=ECDHE-ECDSA-AES128-GCM-SHA256 bits=128/128);
 Fri, 19 Apr 2024 01:42:03 -0700 (PDT)
X-Relaying-Domain: iol.unh.edu
Date: Fri, 19 Apr 2024 01:42:03 -0700 (PDT)
Message-ID: <66222e5b.170a0220.420ad.671eSMTPIN_ADDED_MISSING@mx.google.com>
Received: from [172.21.0.10] (unknown [172.18.0.240])
 by postal.iol.unh.edu (Postfix) with ESMTP id E4ACF6052514;
 Fri, 19 Apr 2024 04:42:02 -0400 (EDT)
Subject: |SUCCESS| pw139526-139533 [PATCH] [v2,8/8] net/nfp: unify port creat
From: dpdklab@iol.unh.edu
To: Test Report <test-report@dpdk.org>
Cc: dpdk-test-reports@iol.unh.edu
In-Reply-To: <20240419052349.1294696-9-chaoyong.he@corigine.com>
References: <20240419052349.1294696-9-chaoyong.he@corigine.com>
Content-Type: text/plain
X-BeenThere: test-report@dpdk.org
X-Mailman-Version: 2.1.29
Precedence: list
List-Id: automatic DPDK test reports <test-report.dpdk.org>
List-Unsubscribe: <https://mails.dpdk.org/options/test-report>,
 <mailto:test-report-request@dpdk.org?subject=unsubscribe>
List-Archive: <http://mails.dpdk.org/archives/test-report/>
List-Post: <mailto:test-report@dpdk.org>
List-Help: <mailto:test-report-request@dpdk.org?subject=help>
List-Subscribe: <https://mails.dpdk.org/listinfo/test-report>,
 <mailto:test-report-request@dpdk.org?subject=subscribe>
Errors-To: test-report-bounces@dpdk.org

Test-Label: iol-unit-arm64-testing
Test-Status: SUCCESS
http://dpdk.org/patch/139533

_Testing PASS_

Submitter: Chaoyong He <chaoyong.he@corigine.com>
Date: Friday, April 19 2024 05:23:49 
DPDK git baseline: Repo:dpdk
  Branch: master
  CommitID:ae59c6a42ee4f49409997765ae64502944e0ac33

139526-139533 --> testing pass

Test environment and result as below:

+-----------------------------+----------------+------------------------------+---------------------------+--------------+
|         Environment         | dpdk_unit_test | cryptodev_sw_snow3g_autotest | cryptodev_sw_zuc_autotest | lpm_autotest |
+=============================+================+==============================+===========================+==============+
| Debian 11 (Buster) (ARM)    | PASS           | SKIPPED                      | SKIPPED                   | SKIPPED      |
+-----------------------------+----------------+------------------------------+---------------------------+--------------+
| Debian 12 (arm)             | PASS           | PASS                         | PASS                      | SKIPPED      |
+-----------------------------+----------------+------------------------------+---------------------------+--------------+
| CentOS Stream 9 (ARM)       | PASS           | SKIPPED                      | SKIPPED                   | SKIPPED      |
+-----------------------------+----------------+------------------------------+---------------------------+--------------+
| Fedora 37 (ARM)             | PASS           | SKIPPED                      | SKIPPED                   | SKIPPED      |
+-----------------------------+----------------+------------------------------+---------------------------+--------------+
| Fedora 39 (ARM)             | PASS           | SKIPPED                      | SKIPPED                   | SKIPPED      |
+-----------------------------+----------------+------------------------------+---------------------------+--------------+
| Fedora 38 (ARM)             | PASS           | SKIPPED                      | SKIPPED                   | SKIPPED      |
+-----------------------------+----------------+------------------------------+---------------------------+--------------+
| Ubuntu 20.04 (ARM)          | PASS           | SKIPPED                      | SKIPPED                   | SKIPPED      |
+-----------------------------+----------------+------------------------------+---------------------------+--------------+
| 32-bit Ubuntu 20.04.4 (ARM) | PASS           | SKIPPED                      | SKIPPED                   | SKIPPED      |
+-----------------------------+----------------+------------------------------+---------------------------+--------------+
| Fedora 38 (ARM Clang)       | PASS           | SKIPPED                      | SKIPPED                   | SKIPPED      |
+-----------------------------+----------------+------------------------------+---------------------------+--------------+
| Ubuntu 20.04 ARM SVE        | SKIPPED        | SKIPPED                      | SKIPPED                   | PASS         |
+-----------------------------+----------------+------------------------------+---------------------------+--------------+


Debian 11 (Buster) (ARM)
	Kernel: Container Host Kernel
	Compiler: gcc 10.2.1

Debian 12 (arm)
	Kernel: Container Host Kernel
	Compiler: gcc 12.2.0

CentOS Stream 9 (ARM)
	Kernel: Container Host Kernel
	Compiler: gcc 11.4.1

Fedora 37 (ARM)
	Kernel: Depends on container host
	Compiler: gcc 12.3.1

Fedora 39 (ARM)
	Kernel: Depends on container host
	Compiler: gcc 13.2.1

Fedora 38 (ARM)
	Kernel: Depends on container host
	Compiler: gcc 13.2.1

Ubuntu 20.04 (ARM)
	Kernel: Container Host Kernel
	Compiler: gcc 9.4.0

32-bit Ubuntu 20.04.4 (ARM)
	Kernel: 5.4.0-155-generic aarch64
	Compiler: gcc 9.4

Fedora 38 (ARM Clang)
	Kernel: Depends on container host
	Compiler: clang 16.0.6

Ubuntu 20.04 ARM SVE
	Kernel: 5.4.0-167-generic
	Compiler: gcc (Ubuntu 10.5.0-1ubuntu1~20.04) 10.5.0

To view detailed results, visit:
https://lab.dpdk.org/results/dashboard/patchsets/29824/

UNH-IOL DPDK Community Lab

To manage your email subscriptions, visit: 
https://lab.dpdk.org/results/dashboard/preferences/subscriptions/