From mboxrd@z Thu Jan  1 00:00:00 1970
Return-Path: <test-report-bounces@dpdk.org>
Received: from mails.dpdk.org (mails.dpdk.org [217.70.189.124])
	by inbox.dpdk.org (Postfix) with ESMTP id 8B1FD43EAC
	for <public@inbox.dpdk.org>; Fri, 19 Apr 2024 10:43:30 +0200 (CEST)
Received: from mails.dpdk.org (localhost [127.0.0.1])
	by mails.dpdk.org (Postfix) with ESMTP id 868F9400D6;
	Fri, 19 Apr 2024 10:43:30 +0200 (CEST)
Received: from mail-il1-f226.google.com (mail-il1-f226.google.com
 [209.85.166.226])
 by mails.dpdk.org (Postfix) with ESMTP id 152EF40042
 for <test-report@dpdk.org>; Fri, 19 Apr 2024 10:43:26 +0200 (CEST)
Received: by mail-il1-f226.google.com with SMTP id
 e9e14a558f8ab-36b2ecd7b76so8755845ab.1
 for <test-report@dpdk.org>; Fri, 19 Apr 2024 01:43:26 -0700 (PDT)
DKIM-Signature: v=1; a=rsa-sha256; c=relaxed/relaxed;
 d=iol.unh.edu; s=unh-iol; t=1713516205; x=1714121005; darn=dpdk.org;
 h=references:in-reply-to:cc:to:from:subject:message-id:date:from:to
 :cc:subject:date:message-id:reply-to;
 bh=O8EUWbU+I2vgUuweuvasBMqQNBXd2+K6x2NFPc55Zm8=;
 b=VUSSYouAoujG5ArJdvH/UyxEA1EYZ3S3zOg4bwljFrXFlofr8FgMDFZxJ0yiE3AdnB
 hIozXdW2XZLx/6m0VLezzWm2xKupbMTQ9APlkgVGVrCtKgJv10x2gJKxRcMGk2nrmyJH
 ZKXuNKlC2JhngA23NA/+PDNOkElrIheGsvPtw=
X-Google-DKIM-Signature: v=1; a=rsa-sha256; c=relaxed/relaxed;
 d=1e100.net; s=20230601; t=1713516205; x=1714121005;
 h=references:in-reply-to:cc:to:from:subject:message-id:date
 :x-gm-message-state:from:to:cc:subject:date:message-id:reply-to;
 bh=O8EUWbU+I2vgUuweuvasBMqQNBXd2+K6x2NFPc55Zm8=;
 b=TJ2cpnUX2Dwi4tq0za6Yci6cbFXank7E4CPLeQ49FWLvl7F6gcykgL9bH9pLKrMIcG
 Y+efWhGVDweUPBfC906NxdXgk+SQA0nLaJ6W3jedVVaXWIDgPnctOpWMdfwS5xy2g+t0
 cLtbynfDBDnptcmZ/eOKzFvbvc5gFCr7XBGTUNSq4K99SzVxtbghfJJq2S9GqQ51roFI
 ds+W71k0IB9oU2Mjvt0OU8RPqQZVUkrBQ7W5IBMJSo2IHV7mLM7cTGfs5vzXpUtC44Od
 DWYMl3qu8hau+oI9T3ITFsxXqocR0X0DNNl2p5K9crwCizedXNfPRCOhavHznD3pMgja
 4yWA==
X-Gm-Message-State: AOJu0YzMPDreATdIMAGFU5nN4PzA9wlVCAKy4psbj+Y7XyCoCIBL0MmN
 jai/hw/rrpXs2NonOo7Kotth1sfGk7biwqzV6QekTfGZwH4HB2dtjppwe7JwMmuLTf9gd94dwxp
 rWyE3id/TDjLoLJl+TdOJja1Ynt3+lnIHPVE7YV/4tfG3/d5dNXi3gnJd
X-Google-Smtp-Source: AGHT+IG+IU/WVR+Wct5UPU662taCosShDTY92CT1ZQ+skiMVpavy+rllfVXdC3qfInO21YeohDixIzfU7nzL
X-Received: by 2002:a05:6e02:20e4:b0:368:920b:e211 with SMTP id
 q4-20020a056e0220e400b00368920be211mr1363886ilv.5.1713516205555; 
 Fri, 19 Apr 2024 01:43:25 -0700 (PDT)
Received: from postal.iol.unh.edu (postal.iol.unh.edu.
 [2606:4100:3880:1234::84]) by smtp-relay.gmail.com with ESMTPS id
 k15-20020a056e02156f00b0036a07854c0esm159198ilu.11.2024.04.19.01.43.25
 (version=TLS1_2 cipher=ECDHE-ECDSA-AES128-GCM-SHA256 bits=128/128);
 Fri, 19 Apr 2024 01:43:25 -0700 (PDT)
X-Relaying-Domain: iol.unh.edu
Date: Fri, 19 Apr 2024 01:43:25 -0700 (PDT)
Message-ID: <66222ead.050a0220.71b89.98daSMTPIN_ADDED_MISSING@mx.google.com>
Received: from [172.17.0.2] (unknown [172.18.0.213])
 by postal.iol.unh.edu (Postfix) with ESMTP id 180396052514;
 Fri, 19 Apr 2024 04:43:25 -0400 (EDT)
Subject: |SUCCESS| pw139526-139533 [PATCH] [v2,8/8] net/nfp: unify port creat
From: dpdklab@iol.unh.edu
To: Test Report <test-report@dpdk.org>
Cc: dpdk-test-reports@iol.unh.edu
In-Reply-To: <20240419052349.1294696-9-chaoyong.he@corigine.com>
References: <20240419052349.1294696-9-chaoyong.he@corigine.com>
Content-Type: text/plain
X-BeenThere: test-report@dpdk.org
X-Mailman-Version: 2.1.29
Precedence: list
List-Id: automatic DPDK test reports <test-report.dpdk.org>
List-Unsubscribe: <https://mails.dpdk.org/options/test-report>,
 <mailto:test-report-request@dpdk.org?subject=unsubscribe>
List-Archive: <http://mails.dpdk.org/archives/test-report/>
List-Post: <mailto:test-report@dpdk.org>
List-Help: <mailto:test-report-request@dpdk.org?subject=help>
List-Subscribe: <https://mails.dpdk.org/listinfo/test-report>,
 <mailto:test-report-request@dpdk.org?subject=subscribe>
Errors-To: test-report-bounces@dpdk.org

Test-Label: iol-unit-amd64-testing
Test-Status: SUCCESS
http://dpdk.org/patch/139533

_Testing PASS_

Submitter: Chaoyong He <chaoyong.he@corigine.com>
Date: Friday, April 19 2024 05:23:49 
DPDK git baseline: Repo:dpdk
  Branch: master
  CommitID:ae59c6a42ee4f49409997765ae64502944e0ac33

139526-139533 --> testing pass

Test environment and result as below:

+------------------+----------------+
|   Environment    | dpdk_unit_test |
+==================+================+
| CentOS Stream 8  | PASS           |
+------------------+----------------+
| CentOS Stream 9  | PASS           |
+------------------+----------------+
| Debian Bullseye  | PASS           |
+------------------+----------------+
| Fedora 37        | PASS           |
+------------------+----------------+
| Debian 12        | PASS           |
+------------------+----------------+
| Fedora 38        | PASS           |
+------------------+----------------+
| openSUSE Leap 15 | PASS           |
+------------------+----------------+
| Ubuntu 20.04     | PASS           |
+------------------+----------------+
| Fedora 39        | PASS           |
+------------------+----------------+
| RHEL8            | PASS           |
+------------------+----------------+
| Ubuntu 22.04     | PASS           |
+------------------+----------------+


CentOS Stream 8
	Kernel: 5.4.0-167-generic
	Compiler: gcc 8.5.0 20210514

CentOS Stream 9
	Kernel: 5.4.0-167-generic
	Compiler: gcc 11.4.1 20230605

Debian Bullseye
	Kernel: 5.4.0-167-generic
	Compiler: gcc 10.2.1-6

Fedora 37
	Kernel: Depends on container host system
	Compiler: gcc 12.3.1

Debian 12
	Kernel: Container Host Kernel
	Compiler: gcc 10.2.1

Fedora 38
	Kernel: Depends on container host
	Compiler: gcc 13.2.1

openSUSE Leap 15
	Kernel: 5.4.0-167-generic
	Compiler: gcc 7.5.0

Ubuntu 20.04
	Kernel: 5.4.0-167-generic
	Compiler: gcc 9.4.0-1ubuntu1~20.04.1

Fedora 39
	Kernel: Depends on container host
	Compiler: clang 17.0.6

RHEL8
	Kernel: 5.4.0-167-generic
	Compiler: gcc 8.5.0 20210514 (Red Hat 8.5.0-20)

Ubuntu 22.04
	Kernel: 5.4.0-167-generic
	Compiler: gcc 11.4.0

To view detailed results, visit:
https://lab.dpdk.org/results/dashboard/patchsets/29824/

UNH-IOL DPDK Community Lab

To manage your email subscriptions, visit: 
https://lab.dpdk.org/results/dashboard/preferences/subscriptions/