From mboxrd@z Thu Jan  1 00:00:00 1970
Return-Path: <test-report-bounces@dpdk.org>
Received: from mails.dpdk.org (mails.dpdk.org [217.70.189.124])
	by inbox.dpdk.org (Postfix) with ESMTP id 0133F43EAC
	for <public@inbox.dpdk.org>; Fri, 19 Apr 2024 10:44:36 +0200 (CEST)
Received: from mails.dpdk.org (localhost [127.0.0.1])
	by mails.dpdk.org (Postfix) with ESMTP id F1360402D0;
	Fri, 19 Apr 2024 10:44:35 +0200 (CEST)
Received: from mail-yw1-f227.google.com (mail-yw1-f227.google.com
 [209.85.128.227])
 by mails.dpdk.org (Postfix) with ESMTP id 7D90440042
 for <test-report@dpdk.org>; Fri, 19 Apr 2024 10:43:59 +0200 (CEST)
Received: by mail-yw1-f227.google.com with SMTP id
 00721157ae682-61ac183ee82so24466047b3.1
 for <test-report@dpdk.org>; Fri, 19 Apr 2024 01:43:59 -0700 (PDT)
DKIM-Signature: v=1; a=rsa-sha256; c=relaxed/relaxed;
 d=iol.unh.edu; s=unh-iol; t=1713516239; x=1714121039; darn=dpdk.org;
 h=references:in-reply-to:cc:to:from:subject:message-id:date:from:to
 :cc:subject:date:message-id:reply-to;
 bh=XlZVZ7DDzWy1gxXod6YKgNQ9pmtxWbRGiC4sLHcTpv8=;
 b=g1vbba2YLXqJmAnMZsSTWMTxj6UUJb+NppvzXr7zEaZ54AzZRtoGywzeSz9QRclsZQ
 5d+ADsjcNAHIn5H6t70UB3opZriQp50SiwA6gQwXG5KJVI3oZZP2IDg6DAiE67AZ+iGa
 yE48zuZT0bQ+deKkHge/1iiI2qZEjUwddTbAg=
X-Google-DKIM-Signature: v=1; a=rsa-sha256; c=relaxed/relaxed;
 d=1e100.net; s=20230601; t=1713516239; x=1714121039;
 h=references:in-reply-to:cc:to:from:subject:message-id:date
 :x-gm-message-state:from:to:cc:subject:date:message-id:reply-to;
 bh=XlZVZ7DDzWy1gxXod6YKgNQ9pmtxWbRGiC4sLHcTpv8=;
 b=rpQY/EGA9xsyJy6FnlSZMNAyrJNBnBPlYWrcU36pr7CUwwUx57EPIX45SJ6ydVYFmq
 lG11UcZ2/XotJHXBmCQQAsiwqqeEkI3vFcUo/YPqWdLYaNc6nwFcc4jxB6FlCAKo8LRb
 JXBFrU8iIyKQP6SPWSZBZPqB5Z/MVVWhq+TKXOHghWswOt5jwUeEyZj3TN5EVrBXGCVR
 Wt7w2H/oblfSM80IsIVtBRXiAwQpuwMx4OfRKr+VmlhPHOL8CQE/jSJg4yd9JgAej+Eg
 QIjVjJdvLEltTslvrSA+//8Pe6IrMzqNtWFkkRMPabA3sNDH8wqvSPoEOwUD+AD30ezr
 VIIQ==
X-Gm-Message-State: AOJu0YxlryrBq4LYf23R70oZW+x7efHtDY3R9ZA6ZfnaOXbbEmGvVh+B
 shMd45q1gHJWk9El+Xl25MgQt7ApiNbJVCWJAIWbSGSjAtcIwbLaRl8cwoJx5KyiPDkrY9/63Jh
 b/ArRweidIES+VgerrikZqzY5Tcc0rZObub3hLenB
X-Google-Smtp-Source: AGHT+IFuuQ2ClqExbz0tkBTlZq6WdJHuXydtX+hWLVDCWsOq9dlUIsn8BlmdK/WSaXr1cncjfOsj3SLoZ6rX
X-Received: by 2002:a0d:cc87:0:b0:61a:e7db:5f81 with SMTP id
 o129-20020a0dcc87000000b0061ae7db5f81mr3571235ywd.18.1713516238973; 
 Fri, 19 Apr 2024 01:43:58 -0700 (PDT)
Received: from postal.iol.unh.edu (postal.iol.unh.edu. [132.177.123.84])
 by smtp-relay.gmail.com with ESMTPS id
 b204-20020a0dd9d5000000b00614a68332e4sm221036ywe.42.2024.04.19.01.43.58
 (version=TLS1_2 cipher=ECDHE-ECDSA-AES128-GCM-SHA256 bits=128/128);
 Fri, 19 Apr 2024 01:43:58 -0700 (PDT)
X-Relaying-Domain: iol.unh.edu
Date: Fri, 19 Apr 2024 01:43:58 -0700 (PDT)
Message-ID: <66222ece.0d0a0220.1805.c6b3SMTPIN_ADDED_MISSING@mx.google.com>
Received: from [172.21.0.9] (unknown [172.18.0.240])
 by postal.iol.unh.edu (Postfix) with ESMTP id 952D26052514;
 Fri, 19 Apr 2024 04:43:58 -0400 (EDT)
Subject: |SUCCESS| pw139524-139525 [PATCH] [v3,2/2] bus/pci: fix secondary pr
From: dpdklab@iol.unh.edu
To: Test Report <test-report@dpdk.org>
Cc: dpdk-test-reports@iol.unh.edu
In-Reply-To: <20240419032630.1215256-3-chaoyong.he@corigine.com>
References: <20240419032630.1215256-3-chaoyong.he@corigine.com>
Content-Type: text/plain
X-BeenThere: test-report@dpdk.org
X-Mailman-Version: 2.1.29
Precedence: list
List-Id: automatic DPDK test reports <test-report.dpdk.org>
List-Unsubscribe: <https://mails.dpdk.org/options/test-report>,
 <mailto:test-report-request@dpdk.org?subject=unsubscribe>
List-Archive: <http://mails.dpdk.org/archives/test-report/>
List-Post: <mailto:test-report@dpdk.org>
List-Help: <mailto:test-report-request@dpdk.org?subject=help>
List-Subscribe: <https://mails.dpdk.org/listinfo/test-report>,
 <mailto:test-report-request@dpdk.org?subject=subscribe>
Errors-To: test-report-bounces@dpdk.org

Test-Label: iol-abi-testing
Test-Status: SUCCESS
http://dpdk.org/patch/139525

_Testing PASS_

Submitter: Chaoyong He <chaoyong.he@corigine.com>
Date: Friday, April 19 2024 03:26:30 
DPDK git baseline: Repo:dpdk
  Branch: master
  CommitID:e2e546ab5bf5e024986ccb5310ab43982f3bb40c

139524-139525 --> testing pass

Test environment and result as below:

+------------------+----------+
|   Environment    | abi_test |
+==================+==========+
| CentOS Stream 8  | PASS     |
+------------------+----------+
| Fedora 39        | PASS     |
+------------------+----------+
| RHEL8            | PASS     |
+------------------+----------+
| openSUSE Leap 15 | PASS     |
+------------------+----------+
| Debian Bullseye  | PASS     |
+------------------+----------+
| Fedora 38        | PASS     |
+------------------+----------+
| Ubuntu 22.04     | PASS     |
+------------------+----------+
| Fedora 37        | PASS     |
+------------------+----------+
| CentOS Stream 9  | PASS     |
+------------------+----------+
| Debian 12        | PASS     |
+------------------+----------+


CentOS Stream 8
	Kernel: 5.4.0-167-generic
	Compiler: gcc 8.5.0 20210514

Fedora 39
	Kernel: Depends on container host
	Compiler: gcc 13.2.1

RHEL8
	Kernel: 5.4.0-167-generic
	Compiler: gcc 8.5.0 20210514 (Red Hat 8.5.0-20)

openSUSE Leap 15
	Kernel: 5.4.0-167-generic
	Compiler: gcc 7.5.0

Debian Bullseye
	Kernel: 5.4.0-167-generic
	Compiler: gcc 10.2.1-6

Fedora 38
	Kernel: Depends on container host
	Compiler: clang 16.0.6

Ubuntu 22.04
	Kernel: 5.4.0-167-generic
	Compiler: gcc 11.4.0

Fedora 37
	Kernel: Depends on container host system
	Compiler: gcc 12.3.1

CentOS Stream 9
	Kernel: 5.4.0-167-generic
	Compiler: gcc 11.4.1 20230605

Debian 12
	Kernel: Container Host Kernel
	Compiler: gcc 10.2.1

To view detailed results, visit:
https://lab.dpdk.org/results/dashboard/patchsets/29823/

UNH-IOL DPDK Community Lab

To manage your email subscriptions, visit: 
https://lab.dpdk.org/results/dashboard/preferences/subscriptions/