From mboxrd@z Thu Jan  1 00:00:00 1970
Return-Path: <test-report-bounces@dpdk.org>
Received: from mails.dpdk.org (mails.dpdk.org [217.70.189.124])
	by inbox.dpdk.org (Postfix) with ESMTP id 7BC7443EAC
	for <public@inbox.dpdk.org>; Fri, 19 Apr 2024 10:45:23 +0200 (CEST)
Received: from mails.dpdk.org (localhost [127.0.0.1])
	by mails.dpdk.org (Postfix) with ESMTP id 77471400D6;
	Fri, 19 Apr 2024 10:45:23 +0200 (CEST)
Received: from mail-oa1-f98.google.com (mail-oa1-f98.google.com
 [209.85.160.98]) by mails.dpdk.org (Postfix) with ESMTP id A963F40042
 for <test-report@dpdk.org>; Fri, 19 Apr 2024 10:44:35 +0200 (CEST)
Received: by mail-oa1-f98.google.com with SMTP id
 586e51a60fabf-2352cc0b076so1041632fac.0
 for <test-report@dpdk.org>; Fri, 19 Apr 2024 01:44:35 -0700 (PDT)
DKIM-Signature: v=1; a=rsa-sha256; c=relaxed/relaxed;
 d=iol.unh.edu; s=unh-iol; t=1713516275; x=1714121075; darn=dpdk.org;
 h=references:in-reply-to:cc:to:from:subject:message-id:date:from:to
 :cc:subject:date:message-id:reply-to;
 bh=O8EUWbU+I2vgUuweuvasBMqQNBXd2+K6x2NFPc55Zm8=;
 b=Z1aS93VRvDkS8xS7N8pr201s3XmNgMlPv8aYScGZwUECrsdBlI7oU1+oqaPEJva1jB
 yMRJgPaCUJK2wALT0HNVY0cGdonsFCtguJaxn9Zoa9l7aKvQoVK6lgaG7HuBks31hbyJ
 +nZspXdRpWvWSxqfDVByUyWBrKR1gDck4Uxd8=
X-Google-DKIM-Signature: v=1; a=rsa-sha256; c=relaxed/relaxed;
 d=1e100.net; s=20230601; t=1713516275; x=1714121075;
 h=references:in-reply-to:cc:to:from:subject:message-id:date
 :x-gm-message-state:from:to:cc:subject:date:message-id:reply-to;
 bh=O8EUWbU+I2vgUuweuvasBMqQNBXd2+K6x2NFPc55Zm8=;
 b=HZ+1QTjByQ9Ww2ppjYS3841izcJh/kJ6nHD4eF545AYyknNrmBeon7cN1Q2C4R7QMn
 PGcTFv0dI+UEiD1aBR2URwJ+FpKmv9gCvAFgD0HPpmDpNuxynEVkUXS8jupd22ErkMoB
 1uh0XLENjDhnurrgGFs6FGszwFg3bpQC5Uj1RGKc5Pt7z6hytQIUCIQ1TRecBAHIOAof
 q1H6KTlmxZAzsrRrbJ6rmH2gFNTjdCtE2P/uMsesEqLgLST1lpfXTQ9Yk2um1JSQtByr
 44paibQD56gsrRcbpJ27SeG2yoX2iOJCtJU5NvdV2IYXsg4u9r+L37k2ey9iR+6q4xjK
 NPYQ==
X-Gm-Message-State: AOJu0Yws7DujkGILd0T2HT6PrEe35PXBbTpfQtBK12pblJ4xl9kqqQGz
 mONI8qdJEu9MppS0oM8LIHN94AuC4bvEgolOuIgToLhCIBk+3iNFtc3eoivhprMPYx2wzMcLdM9
 JW4yaX8DMjvczGam51lckNqvy6whbKDqluMF7f6V+K8Shpb6QyeFK4XKQ
X-Google-Smtp-Source: AGHT+IGEgv2ESe6I8Yba64foFmpEHL/PqENJ9wdvE1f2/ml1HsGc/xIsBl+YdCxRiZScre00L03SNB22n6Lj
X-Received: by 2002:a05:6870:209:b0:22e:afe5:8811 with SMTP id
 j9-20020a056870020900b0022eafe58811mr1577216oad.47.1713516274933; 
 Fri, 19 Apr 2024 01:44:34 -0700 (PDT)
Received: from postal.iol.unh.edu (postal.iol.unh.edu.
 [2606:4100:3880:1234::84]) by smtp-relay.gmail.com with ESMTPS id
 h15-20020a63384f000000b005f3b880d03bsm158414pgn.7.2024.04.19.01.44.34
 (version=TLS1_2 cipher=ECDHE-ECDSA-AES128-GCM-SHA256 bits=128/128);
 Fri, 19 Apr 2024 01:44:34 -0700 (PDT)
X-Relaying-Domain: iol.unh.edu
Date: Fri, 19 Apr 2024 01:44:34 -0700 (PDT)
Message-ID: <66222ef2.630a0220.328b5.909aSMTPIN_ADDED_MISSING@mx.google.com>
Received: from [172.17.0.5] (unknown [172.18.0.213])
 by postal.iol.unh.edu (Postfix) with ESMTP id 2C4126052514;
 Fri, 19 Apr 2024 04:44:34 -0400 (EDT)
Subject: |SUCCESS| pw139526-139533 [PATCH] [v2,8/8] net/nfp: unify port creat
From: dpdklab@iol.unh.edu
To: Test Report <test-report@dpdk.org>
Cc: dpdk-test-reports@iol.unh.edu
In-Reply-To: <20240419052349.1294696-9-chaoyong.he@corigine.com>
References: <20240419052349.1294696-9-chaoyong.he@corigine.com>
Content-Type: text/plain
X-BeenThere: test-report@dpdk.org
X-Mailman-Version: 2.1.29
Precedence: list
List-Id: automatic DPDK test reports <test-report.dpdk.org>
List-Unsubscribe: <https://mails.dpdk.org/options/test-report>,
 <mailto:test-report-request@dpdk.org?subject=unsubscribe>
List-Archive: <http://mails.dpdk.org/archives/test-report/>
List-Post: <mailto:test-report@dpdk.org>
List-Help: <mailto:test-report-request@dpdk.org?subject=help>
List-Subscribe: <https://mails.dpdk.org/listinfo/test-report>,
 <mailto:test-report-request@dpdk.org?subject=subscribe>
Errors-To: test-report-bounces@dpdk.org

Test-Label: iol-unit-amd64-testing
Test-Status: SUCCESS
http://dpdk.org/patch/139533

_Testing PASS_

Submitter: Chaoyong He <chaoyong.he@corigine.com>
Date: Friday, April 19 2024 05:23:49 
DPDK git baseline: Repo:dpdk
  Branch: master
  CommitID:ae59c6a42ee4f49409997765ae64502944e0ac33

139526-139533 --> testing pass

Test environment and result as below:

+------------------+----------------+
|   Environment    | dpdk_unit_test |
+==================+================+
| CentOS Stream 8  | PASS           |
+------------------+----------------+
| CentOS Stream 9  | PASS           |
+------------------+----------------+
| Debian Bullseye  | PASS           |
+------------------+----------------+
| Fedora 37        | PASS           |
+------------------+----------------+
| Debian 12        | PASS           |
+------------------+----------------+
| Fedora 38        | PASS           |
+------------------+----------------+
| openSUSE Leap 15 | PASS           |
+------------------+----------------+
| Ubuntu 20.04     | PASS           |
+------------------+----------------+
| Fedora 39        | PASS           |
+------------------+----------------+
| RHEL8            | PASS           |
+------------------+----------------+
| Ubuntu 22.04     | PASS           |
+------------------+----------------+


CentOS Stream 8
	Kernel: 5.4.0-167-generic
	Compiler: gcc 8.5.0 20210514

CentOS Stream 9
	Kernel: 5.4.0-167-generic
	Compiler: gcc 11.4.1 20230605

Debian Bullseye
	Kernel: 5.4.0-167-generic
	Compiler: gcc 10.2.1-6

Fedora 37
	Kernel: Depends on container host system
	Compiler: gcc 12.3.1

Debian 12
	Kernel: Container Host Kernel
	Compiler: gcc 10.2.1

Fedora 38
	Kernel: Depends on container host
	Compiler: gcc 13.2.1

openSUSE Leap 15
	Kernel: 5.4.0-167-generic
	Compiler: gcc 7.5.0

Ubuntu 20.04
	Kernel: 5.4.0-167-generic
	Compiler: gcc 9.4.0-1ubuntu1~20.04.1

Fedora 39
	Kernel: Depends on container host
	Compiler: clang 17.0.6

RHEL8
	Kernel: 5.4.0-167-generic
	Compiler: gcc 8.5.0 20210514 (Red Hat 8.5.0-20)

Ubuntu 22.04
	Kernel: 5.4.0-167-generic
	Compiler: gcc 11.4.0

To view detailed results, visit:
https://lab.dpdk.org/results/dashboard/patchsets/29824/

UNH-IOL DPDK Community Lab

To manage your email subscriptions, visit: 
https://lab.dpdk.org/results/dashboard/preferences/subscriptions/