From mboxrd@z Thu Jan  1 00:00:00 1970
Return-Path: <test-report-bounces@dpdk.org>
Received: from mails.dpdk.org (mails.dpdk.org [217.70.189.124])
	by inbox.dpdk.org (Postfix) with ESMTP id F029C43EAC
	for <public@inbox.dpdk.org>; Fri, 19 Apr 2024 10:59:50 +0200 (CEST)
Received: from mails.dpdk.org (localhost [127.0.0.1])
	by mails.dpdk.org (Postfix) with ESMTP id C8A21400D6;
	Fri, 19 Apr 2024 10:59:50 +0200 (CEST)
Received: from mail-pl1-f225.google.com (mail-pl1-f225.google.com
 [209.85.214.225])
 by mails.dpdk.org (Postfix) with ESMTP id CAEFC40042
 for <test-report@dpdk.org>; Fri, 19 Apr 2024 10:59:49 +0200 (CEST)
Received: by mail-pl1-f225.google.com with SMTP id
 d9443c01a7336-1e2178b2cf2so15609275ad.0
 for <test-report@dpdk.org>; Fri, 19 Apr 2024 01:59:49 -0700 (PDT)
DKIM-Signature: v=1; a=rsa-sha256; c=relaxed/relaxed;
 d=iol.unh.edu; s=unh-iol; t=1713517189; x=1714121989; darn=dpdk.org;
 h=references:in-reply-to:cc:to:from:subject:message-id:date:from:to
 :cc:subject:date:message-id:reply-to;
 bh=esafbMd/XcLpFJVWnfzft8oX+NCN70/ZR34HxcYKptE=;
 b=dcTvMmJ9MrSJ2VN7cOQiOhK6D0JdGlLkrMh1LS3LnmB+gm09idbADufiRQdfSKUwcM
 6IENj9et6ZZqFudAAnhaO/TyWSy23qt2jcVxKtsFu3X1xn+MGWxWABUQDbtPXaQLD+m2
 yYE9jFdy8NrlIkzam4sPmsI9ehA9w0/QAiRUw=
X-Google-DKIM-Signature: v=1; a=rsa-sha256; c=relaxed/relaxed;
 d=1e100.net; s=20230601; t=1713517189; x=1714121989;
 h=references:in-reply-to:cc:to:from:subject:message-id:date
 :x-gm-message-state:from:to:cc:subject:date:message-id:reply-to;
 bh=esafbMd/XcLpFJVWnfzft8oX+NCN70/ZR34HxcYKptE=;
 b=KUPv7+ClON09KBlVE2k0azJrxl1ZeQVi/3vT+4wNU42Gaq7aF2ZMCHRVKeF+T5a5ff
 fQuQjxY/A9fhIVaRDPX/ALUqh4Ku1MXN2vZ7zhBrUpXb+CJ4B9BwajkguLtE8Ud3ySi9
 3Vo8xSs43aRg7x5h2qHqPmf5FJI/nxuISg0HYG5bOTanYBZAEMwNW3U4Qa8isyAeS20I
 PZ+VpOBZLv8tBHMuIA2wAid+gk96nCMp8qupWFEbBkJpsu77gCCxmi4a/V697pcEQUNU
 6WOVAnSEruUsSl4Z0MR3pTR+bjT4mHckiOfQXs630XqgmmmvNro+WH2hqR4LKAUEGUuJ
 CvtQ==
X-Gm-Message-State: AOJu0YzUDZfaKqBTLqD7R1O439xqOdB117iRYtDbpoTA/vZADyH6xma7
 tASmHdYB/AprjmvPlLN/R3gfTQT2YV/Wr/jcAjqE+xSt1B6Lje0P/yPwHMbYCy5WKPKXi6K01bm
 6RYFSgq7lc01fnz2d1PrJzNj8rNUvXtencfDaCdUH
X-Google-Smtp-Source: AGHT+IFFvw1vFHRP5dv4U9I8vkf3XOuzvjUs01yxlbwYBni94aUxnzbLd3Co2yBzzqD4jpa8t5boNlGZXPMg
X-Received: by 2002:a17:902:8a92:b0:1e5:378d:2f69 with SMTP id
 p18-20020a1709028a9200b001e5378d2f69mr1389718plo.56.1713517188961; 
 Fri, 19 Apr 2024 01:59:48 -0700 (PDT)
Received: from postal.iol.unh.edu (postal.iol.unh.edu. [132.177.123.84])
 by smtp-relay.gmail.com with ESMTPS id
 ja22-20020a170902efd600b001db83591066sm119572plb.47.2024.04.19.01.59.48
 (version=TLS1_2 cipher=ECDHE-ECDSA-AES128-GCM-SHA256 bits=128/128);
 Fri, 19 Apr 2024 01:59:48 -0700 (PDT)
X-Relaying-Domain: iol.unh.edu
Date: Fri, 19 Apr 2024 01:59:48 -0700 (PDT)
Message-ID: <66223284.170a0220.8aac0.6939SMTPIN_ADDED_MISSING@mx.google.com>
Received: from [172.17.0.3] (unknown [172.18.0.215])
 by postal.iol.unh.edu (Postfix) with ESMTP id 2DA7C6052514;
 Fri, 19 Apr 2024 04:59:48 -0400 (EDT)
Subject: |SUCCESS| pw139524-139525 [PATCH] [v3,2/2] bus/pci: fix secondary pr
From: dpdklab@iol.unh.edu
To: Test Report <test-report@dpdk.org>
Cc: dpdk-test-reports@iol.unh.edu
In-Reply-To: <20240419032630.1215256-3-chaoyong.he@corigine.com>
References: <20240419032630.1215256-3-chaoyong.he@corigine.com>
Content-Type: text/plain
X-BeenThere: test-report@dpdk.org
X-Mailman-Version: 2.1.29
Precedence: list
List-Id: automatic DPDK test reports <test-report.dpdk.org>
List-Unsubscribe: <https://mails.dpdk.org/options/test-report>,
 <mailto:test-report-request@dpdk.org?subject=unsubscribe>
List-Archive: <http://mails.dpdk.org/archives/test-report/>
List-Post: <mailto:test-report@dpdk.org>
List-Help: <mailto:test-report-request@dpdk.org?subject=help>
List-Subscribe: <https://mails.dpdk.org/listinfo/test-report>,
 <mailto:test-report-request@dpdk.org?subject=subscribe>
Errors-To: test-report-bounces@dpdk.org

Test-Label: iol-unit-amd64-testing
Test-Status: SUCCESS
http://dpdk.org/patch/139525

_Testing PASS_

Submitter: Chaoyong He <chaoyong.he@corigine.com>
Date: Friday, April 19 2024 03:26:30 
DPDK git baseline: Repo:dpdk
  Branch: master
  CommitID:e2e546ab5bf5e024986ccb5310ab43982f3bb40c

139524-139525 --> testing pass

Test environment and result as below:

+------------------+----------------+
|   Environment    | dpdk_unit_test |
+==================+================+
| CentOS Stream 8  | PASS           |
+------------------+----------------+
| Debian Bullseye  | PASS           |
+------------------+----------------+
| Debian 12        | PASS           |
+------------------+----------------+
| CentOS Stream 9  | PASS           |
+------------------+----------------+
| Fedora 37        | PASS           |
+------------------+----------------+
| Fedora 38        | PASS           |
+------------------+----------------+
| Fedora 39        | PASS           |
+------------------+----------------+
| Ubuntu 20.04     | PASS           |
+------------------+----------------+
| openSUSE Leap 15 | PASS           |
+------------------+----------------+
| RHEL8            | PASS           |
+------------------+----------------+
| Ubuntu 22.04     | PASS           |
+------------------+----------------+


CentOS Stream 8
	Kernel: 5.4.0-167-generic
	Compiler: gcc 8.5.0 20210514

Debian Bullseye
	Kernel: 5.4.0-167-generic
	Compiler: gcc 10.2.1-6

Debian 12
	Kernel: Container Host Kernel
	Compiler: gcc 10.2.1

CentOS Stream 9
	Kernel: 5.4.0-167-generic
	Compiler: gcc 11.4.1 20230605

Fedora 37
	Kernel: Depends on container host system
	Compiler: gcc 12.3.1

Fedora 38
	Kernel: Depends on container host
	Compiler: gcc 13.2.1

Fedora 39
	Kernel: Depends on container host
	Compiler: gcc 13.2.1

Ubuntu 20.04
	Kernel: 5.4.0-167-generic
	Compiler: gcc 9.4.0-1ubuntu1~20.04.1

openSUSE Leap 15
	Kernel: 5.4.0-167-generic
	Compiler: gcc 7.5.0

RHEL8
	Kernel: 5.4.0-167-generic
	Compiler: gcc 8.5.0 20210514 (Red Hat 8.5.0-20)

Ubuntu 22.04
	Kernel: 5.4.0-167-generic
	Compiler: gcc 11.4.0

To view detailed results, visit:
https://lab.dpdk.org/results/dashboard/patchsets/29823/

UNH-IOL DPDK Community Lab

To manage your email subscriptions, visit: 
https://lab.dpdk.org/results/dashboard/preferences/subscriptions/