From mboxrd@z Thu Jan  1 00:00:00 1970
Return-Path: <test-report-bounces@dpdk.org>
Received: from mails.dpdk.org (mails.dpdk.org [217.70.189.124])
	by inbox.dpdk.org (Postfix) with ESMTP id 8C9F843EAC
	for <public@inbox.dpdk.org>; Fri, 19 Apr 2024 11:22:33 +0200 (CEST)
Received: from mails.dpdk.org (localhost [127.0.0.1])
	by mails.dpdk.org (Postfix) with ESMTP id 8220D402D6;
	Fri, 19 Apr 2024 11:22:33 +0200 (CEST)
Received: from mail-yw1-f226.google.com (mail-yw1-f226.google.com
 [209.85.128.226])
 by mails.dpdk.org (Postfix) with ESMTP id 671AF40273
 for <test-report@dpdk.org>; Fri, 19 Apr 2024 11:22:32 +0200 (CEST)
Received: by mail-yw1-f226.google.com with SMTP id
 00721157ae682-6157c30fbc9so17115667b3.0
 for <test-report@dpdk.org>; Fri, 19 Apr 2024 02:22:32 -0700 (PDT)
DKIM-Signature: v=1; a=rsa-sha256; c=relaxed/relaxed;
 d=iol.unh.edu; s=unh-iol; t=1713518552; x=1714123352; darn=dpdk.org;
 h=references:in-reply-to:cc:to:from:subject:message-id:date:from:to
 :cc:subject:date:message-id:reply-to;
 bh=esafbMd/XcLpFJVWnfzft8oX+NCN70/ZR34HxcYKptE=;
 b=jlQcCZG/mR20f2OfSsSAe4mSy9J335HDwsXPBsLDNy2SUSB4oWzSHahKjRrenKgDkK
 beOYhORjytKxqqNyNcDOUO82nWMlDfLUIFdUwTYSxkLyn+HwX+9B62MfAxLEWvcZHUC0
 PphWg9kgbG2kuMFV1VGQYeFczOPWV8NwnYnkc=
X-Google-DKIM-Signature: v=1; a=rsa-sha256; c=relaxed/relaxed;
 d=1e100.net; s=20230601; t=1713518552; x=1714123352;
 h=references:in-reply-to:cc:to:from:subject:message-id:date
 :x-gm-message-state:from:to:cc:subject:date:message-id:reply-to;
 bh=esafbMd/XcLpFJVWnfzft8oX+NCN70/ZR34HxcYKptE=;
 b=rqruwbGsxQhjj9Hjy6sK1nFNbMh9s4PVr52rZxopjpuMA2BS2dttDsH6/C7z9GY9/v
 NqTMuRDbWgAXompRoxcyDpSmtWLhCZ9Zxm7tPIax1In6TNPOp+HI41EJl6OgWulPZA8/
 Jd5WPNtzP5BA/12dUF3gO3QatrzsRlKlcTKMhYbZIe7mMqKfoZ7Bx9WzPQuS/MI3vqS5
 Pnqp5TRBnAnWa+4FjjNijrAJqSwWwb8QgSA+8bOOQjtLl5KibxtJe0jTIJTbrHK0Ey6h
 /sF1vtsw/5GOlVsFN3DptpjORB2lOk0Grsk6nEQeeDuxEbPkDRpGDf1S1ErhMPVZ7R1M
 OTCQ==
X-Gm-Message-State: AOJu0Yw2KlC4hib0AekY3Jp9jTAnivC56W6TfH7pzF3xITThSNne6cpx
 vEE7fcgzr9fVgFV8PMGcVm3075VtcQlAzW24deN0q9GKgG4GR0i7PzAN86noBcDpvLS1i/rBOMZ
 YG3M8wngeegCnSv/yX/3QREKg/bS9VG3U5Js/+0nqNbP114xp49JdRB2+
X-Google-Smtp-Source: AGHT+IFdHP7UgZu7sfbnQcxWb0jd4ZfVP/EvBMAWtzfLK6PSRRG8milQYPZyF6J5bhVJ0vBX/iuN0ws11V/d
X-Received: by 2002:a05:690c:6f07:b0:61a:d2f4:2891 with SMTP id
 jd7-20020a05690c6f0700b0061ad2f42891mr1593327ywb.2.1713518551883; 
 Fri, 19 Apr 2024 02:22:31 -0700 (PDT)
Received: from postal.iol.unh.edu (postal.iol.unh.edu.
 [2606:4100:3880:1234::84]) by smtp-relay.gmail.com with ESMTPS id
 o64-20020a0dcc43000000b0061890819c29sm221324ywd.4.2024.04.19.02.22.31
 (version=TLS1_2 cipher=ECDHE-ECDSA-AES128-GCM-SHA256 bits=128/128);
 Fri, 19 Apr 2024 02:22:31 -0700 (PDT)
X-Relaying-Domain: iol.unh.edu
Date: Fri, 19 Apr 2024 02:22:31 -0700 (PDT)
Message-ID: <662237d7.0d0a0220.3d6b1.c826SMTPIN_ADDED_MISSING@mx.google.com>
Received: from [172.21.0.6] (unknown [172.18.0.240])
 by postal.iol.unh.edu (Postfix) with ESMTP id 8726E6052514;
 Fri, 19 Apr 2024 05:22:31 -0400 (EDT)
Subject: |SUCCESS| pw139524-139525 [PATCH] [v3,2/2] bus/pci: fix secondary pr
From: dpdklab@iol.unh.edu
To: Test Report <test-report@dpdk.org>
Cc: dpdk-test-reports@iol.unh.edu
In-Reply-To: <20240419032630.1215256-3-chaoyong.he@corigine.com>
References: <20240419032630.1215256-3-chaoyong.he@corigine.com>
Content-Type: text/plain
X-BeenThere: test-report@dpdk.org
X-Mailman-Version: 2.1.29
Precedence: list
List-Id: automatic DPDK test reports <test-report.dpdk.org>
List-Unsubscribe: <https://mails.dpdk.org/options/test-report>,
 <mailto:test-report-request@dpdk.org?subject=unsubscribe>
List-Archive: <http://mails.dpdk.org/archives/test-report/>
List-Post: <mailto:test-report@dpdk.org>
List-Help: <mailto:test-report-request@dpdk.org?subject=help>
List-Subscribe: <https://mails.dpdk.org/listinfo/test-report>,
 <mailto:test-report-request@dpdk.org?subject=subscribe>
Errors-To: test-report-bounces@dpdk.org

Test-Label: iol-unit-amd64-testing
Test-Status: SUCCESS
http://dpdk.org/patch/139525

_Testing PASS_

Submitter: Chaoyong He <chaoyong.he@corigine.com>
Date: Friday, April 19 2024 03:26:30 
DPDK git baseline: Repo:dpdk
  Branch: master
  CommitID:e2e546ab5bf5e024986ccb5310ab43982f3bb40c

139524-139525 --> testing pass

Test environment and result as below:

+------------------+----------------+
|   Environment    | dpdk_unit_test |
+==================+================+
| CentOS Stream 8  | PASS           |
+------------------+----------------+
| Debian Bullseye  | PASS           |
+------------------+----------------+
| Debian 12        | PASS           |
+------------------+----------------+
| CentOS Stream 9  | PASS           |
+------------------+----------------+
| Fedora 37        | PASS           |
+------------------+----------------+
| Fedora 38        | PASS           |
+------------------+----------------+
| Fedora 39        | PASS           |
+------------------+----------------+
| Ubuntu 20.04     | PASS           |
+------------------+----------------+
| openSUSE Leap 15 | PASS           |
+------------------+----------------+
| RHEL8            | PASS           |
+------------------+----------------+
| Ubuntu 22.04     | PASS           |
+------------------+----------------+


CentOS Stream 8
	Kernel: 5.4.0-167-generic
	Compiler: gcc 8.5.0 20210514

Debian Bullseye
	Kernel: 5.4.0-167-generic
	Compiler: gcc 10.2.1-6

Debian 12
	Kernel: Container Host Kernel
	Compiler: gcc 10.2.1

CentOS Stream 9
	Kernel: 5.4.0-167-generic
	Compiler: gcc 11.4.1 20230605

Fedora 37
	Kernel: Depends on container host system
	Compiler: gcc 12.3.1

Fedora 38
	Kernel: Depends on container host
	Compiler: gcc 13.2.1

Fedora 39
	Kernel: Depends on container host
	Compiler: gcc 13.2.1

Ubuntu 20.04
	Kernel: 5.4.0-167-generic
	Compiler: gcc 9.4.0-1ubuntu1~20.04.1

openSUSE Leap 15
	Kernel: 5.4.0-167-generic
	Compiler: gcc 7.5.0

RHEL8
	Kernel: 5.4.0-167-generic
	Compiler: gcc 8.5.0 20210514 (Red Hat 8.5.0-20)

Ubuntu 22.04
	Kernel: 5.4.0-167-generic
	Compiler: gcc 11.4.0

To view detailed results, visit:
https://lab.dpdk.org/results/dashboard/patchsets/29823/

UNH-IOL DPDK Community Lab

To manage your email subscriptions, visit: 
https://lab.dpdk.org/results/dashboard/preferences/subscriptions/