From mboxrd@z Thu Jan  1 00:00:00 1970
Return-Path: <test-report-bounces@dpdk.org>
Received: from mails.dpdk.org (mails.dpdk.org [217.70.189.124])
	by inbox.dpdk.org (Postfix) with ESMTP id B972443EAC
	for <public@inbox.dpdk.org>; Fri, 19 Apr 2024 11:25:54 +0200 (CEST)
Received: from mails.dpdk.org (localhost [127.0.0.1])
	by mails.dpdk.org (Postfix) with ESMTP id B4771402D6;
	Fri, 19 Apr 2024 11:25:54 +0200 (CEST)
Received: from mail-pf1-f227.google.com (mail-pf1-f227.google.com
 [209.85.210.227])
 by mails.dpdk.org (Postfix) with ESMTP id 7FB6040273
 for <test-report@dpdk.org>; Fri, 19 Apr 2024 11:25:53 +0200 (CEST)
Received: by mail-pf1-f227.google.com with SMTP id
 d2e1a72fcca58-6f0b9f943cbso676294b3a.0
 for <test-report@dpdk.org>; Fri, 19 Apr 2024 02:25:53 -0700 (PDT)
DKIM-Signature: v=1; a=rsa-sha256; c=relaxed/relaxed;
 d=iol.unh.edu; s=unh-iol; t=1713518753; x=1714123553; darn=dpdk.org;
 h=references:in-reply-to:cc:to:from:subject:message-id:date:from:to
 :cc:subject:date:message-id:reply-to;
 bh=IO21r/PquUS9JYuvTQfuhcGKw3K4rQ3b3aEIp08a4pU=;
 b=coEodiE9hGkYjnl0L/ZCv5wWcDHgF32O322triqGfSJKc4V1+Gs1zFdtADE4YyP3zR
 iQOHRMvLqbjgtqfXkmubh88YG1WT1f/CHM0as49BKnR54IejaWFd53mZJG6eIFSC+9d6
 Yufr2hub0uVnYcy7DStbZzZvNNRtxe5mWaM5k=
X-Google-DKIM-Signature: v=1; a=rsa-sha256; c=relaxed/relaxed;
 d=1e100.net; s=20230601; t=1713518753; x=1714123553;
 h=references:in-reply-to:cc:to:from:subject:message-id:date
 :x-gm-message-state:from:to:cc:subject:date:message-id:reply-to;
 bh=IO21r/PquUS9JYuvTQfuhcGKw3K4rQ3b3aEIp08a4pU=;
 b=Yuy33VjNbVYKwe2Ptg3D5HwKwWBggSS+joO+DgwCilynCCPf6xI+7V2iZvVfLBEuy/
 Xzm5QiaIfyggDAzJ1ioKOBsHpvy+HRZBUs/30yG6qzqyazrSNbvWYxRWlb3RVVHlPJp/
 wVRzsCj4/nz3E64lQ3gdRHl4Vro/OywvBh5G8uB0eoQ4d8jRznV3lAEo7FU2ePg1y7Wm
 Pi1P5NtTyuY/3BZnkjyVgIfo94sE6gjBlobyjLVTugvNcBEZP/OCRe3w9okCEm620bcp
 8zhLNcvgYwXU2nxKkOB6GU+hThx4Pr6QBjnkvbnvOJmG+H3CofoGSGTV1Z9MYQiFH4S6
 Y/zA==
X-Gm-Message-State: AOJu0Yz4bQ/M7ARdT/lvGllQ5vwHV3CVEsw5G0wn6q0o+emXtlMmSJUj
 OqMcmlAfnSEjM9ECisrpYvTVvDw/Cbm2Golgpd1syOdZcDT/o3ApAYsi1lCVxN4heZ2f8FGxw9F
 B+/3HsF69k8sXA+2pH8fJ0E9fsNWya5oLw4g8K7xUVn86z7EiEp4k8Ov7
X-Google-Smtp-Source: AGHT+IESmJ3JtnZhQ3eUyzKjYmJ+P30GrBgnRi/LF/uzqJFrEZNEf9jNVYbWylyaZm3D4nVZWHQzCr8pj+Je
X-Received: by 2002:a05:6a21:3a44:b0:1ac:48a9:8a42 with SMTP id
 zu4-20020a056a213a4400b001ac48a98a42mr771306pzb.14.1713518752724; 
 Fri, 19 Apr 2024 02:25:52 -0700 (PDT)
Received: from postal.iol.unh.edu (postal.iol.unh.edu.
 [2606:4100:3880:1234::84]) by smtp-relay.gmail.com with ESMTPS id
 b8-20020a170902a9c800b001dd6c08cfc5sm111188plr.124.2024.04.19.02.25.52
 (version=TLS1_2 cipher=ECDHE-ECDSA-AES128-GCM-SHA256 bits=128/128);
 Fri, 19 Apr 2024 02:25:52 -0700 (PDT)
X-Relaying-Domain: iol.unh.edu
Date: Fri, 19 Apr 2024 02:25:52 -0700 (PDT)
Message-ID: <662238a0.170a0220.4fbed.604fSMTPIN_ADDED_MISSING@mx.google.com>
Received: from [172.17.0.3] (unknown [172.18.0.214])
 by postal.iol.unh.edu (Postfix) with ESMTP id DE8A76052514;
 Fri, 19 Apr 2024 05:25:51 -0400 (EDT)
Subject: |SUCCESS| pw139524-139525 [PATCH] [v3,2/2] bus/pci: fix secondary pr
From: dpdklab@iol.unh.edu
To: Test Report <test-report@dpdk.org>
Cc: dpdk-test-reports@iol.unh.edu
In-Reply-To: <20240419032630.1215256-3-chaoyong.he@corigine.com>
References: <20240419032630.1215256-3-chaoyong.he@corigine.com>
Content-Type: text/plain
X-BeenThere: test-report@dpdk.org
X-Mailman-Version: 2.1.29
Precedence: list
List-Id: automatic DPDK test reports <test-report.dpdk.org>
List-Unsubscribe: <https://mails.dpdk.org/options/test-report>,
 <mailto:test-report-request@dpdk.org?subject=unsubscribe>
List-Archive: <http://mails.dpdk.org/archives/test-report/>
List-Post: <mailto:test-report@dpdk.org>
List-Help: <mailto:test-report-request@dpdk.org?subject=help>
List-Subscribe: <https://mails.dpdk.org/listinfo/test-report>,
 <mailto:test-report-request@dpdk.org?subject=subscribe>
Errors-To: test-report-bounces@dpdk.org

Test-Label: iol-compile-amd64-testing
Test-Status: SUCCESS
http://dpdk.org/patch/139525

_Testing PASS_

Submitter: Chaoyong He <chaoyong.he@corigine.com>
Date: Friday, April 19 2024 03:26:30 
DPDK git baseline: Repo:dpdk
  Branch: master
  CommitID:e2e546ab5bf5e024986ccb5310ab43982f3bb40c

139524-139525 --> testing pass

Test environment and result as below:

+---------------------+--------------------+----------------------+-------------------+
|     Environment     | dpdk_meson_compile | dpdk_mingw64_compile | dpdk_msvc_compile |
+=====================+====================+======================+===================+
| Debian Bullseye     | PASS               | SKIPPED              | SKIPPED           |
+---------------------+--------------------+----------------------+-------------------+
| CentOS Stream 8     | PASS               | SKIPPED              | SKIPPED           |
+---------------------+--------------------+----------------------+-------------------+
| CentOS Stream 9     | PASS               | SKIPPED              | SKIPPED           |
+---------------------+--------------------+----------------------+-------------------+
| Debian 12           | PASS               | SKIPPED              | SKIPPED           |
+---------------------+--------------------+----------------------+-------------------+
| Fedora 38           | PASS               | SKIPPED              | SKIPPED           |
+---------------------+--------------------+----------------------+-------------------+
| Fedora 37           | PASS               | SKIPPED              | SKIPPED           |
+---------------------+--------------------+----------------------+-------------------+
| Fedora 39           | PASS               | SKIPPED              | SKIPPED           |
+---------------------+--------------------+----------------------+-------------------+
| FreeBSD 13.2        | PASS               | SKIPPED              | SKIPPED           |
+---------------------+--------------------+----------------------+-------------------+
| Ubuntu 22.04        | PASS               | SKIPPED              | SKIPPED           |
+---------------------+--------------------+----------------------+-------------------+
| RHEL8               | PASS               | SKIPPED              | SKIPPED           |
+---------------------+--------------------+----------------------+-------------------+
| Ubuntu 20.04        | PASS               | SKIPPED              | SKIPPED           |
+---------------------+--------------------+----------------------+-------------------+
| Windows Server 2019 | PASS               | PASS                 | SKIPPED           |
+---------------------+--------------------+----------------------+-------------------+
| Windows Server 2022 | PASS               | PASS                 | PASS              |
+---------------------+--------------------+----------------------+-------------------+
| openSUSE Leap 15    | PASS               | SKIPPED              | SKIPPED           |
+---------------------+--------------------+----------------------+-------------------+
| Alpine              | PASS               | SKIPPED              | SKIPPED           |
+---------------------+--------------------+----------------------+-------------------+


Debian Bullseye
	Kernel: 5.4.0-167-generic
	Compiler: gcc 10.2.1-6

CentOS Stream 8
	Kernel: 5.4.0-167-generic
	Compiler: gcc 8.5.0 20210514

CentOS Stream 9
	Kernel: 5.4.0-167-generic
	Compiler: gcc 11.4.1 20230605

Debian 12
	Kernel: Container Host Kernel
	Compiler: gcc 10.2.1

Fedora 38
	Kernel: Depends on container host
	Compiler: gcc 13.2.1

Fedora 37
	Kernel: Depends on container host system
	Compiler: gcc 12.3.1

Fedora 39
	Kernel: Depends on container host
	Compiler: gcc 13.2.1

FreeBSD 13.2
	Kernel: 13.2
	Compiler: clang 14.0.5

Ubuntu 22.04
	Kernel: 5.4.0-167-generic
	Compiler: gcc 11.4.0

RHEL8
	Kernel: 5.4.0-167-generic
	Compiler: gcc 8.5.0 20210514 (Red Hat 8.5.0-20)

Ubuntu 20.04
	Kernel: 5.4.0-167-generic
	Compiler: gcc 9.4.0-1ubuntu1~20.04.1

Windows Server 2019
	Kernel: 10.0.17763
	Compiler: clang 14.0 and gcc 8.1.0 (MinGW)

Windows Server 2022
	Kernel: 10.0.20348.2031
	Compiler: clang 15.0.7, gcc 8.1.0 (MinGW), and MSVC VS 17.9

openSUSE Leap 15
	Kernel: 5.4.0-167-generic
	Compiler: gcc 7.5.0

Alpine
	Kernel: 5.4.0-167-generic
	Compiler: gcc (Alpine 12.2.1_git20220924-r10) 12.2.1 20220924

To view detailed results, visit:
https://lab.dpdk.org/results/dashboard/patchsets/29823/

UNH-IOL DPDK Community Lab

To manage your email subscriptions, visit: 
https://lab.dpdk.org/results/dashboard/preferences/subscriptions/