From mboxrd@z Thu Jan  1 00:00:00 1970
Return-Path: <test-report-bounces@dpdk.org>
Received: from mails.dpdk.org (mails.dpdk.org [217.70.189.124])
	by inbox.dpdk.org (Postfix) with ESMTP id 93B1C43EAC
	for <public@inbox.dpdk.org>; Fri, 19 Apr 2024 11:31:10 +0200 (CEST)
Received: from mails.dpdk.org (localhost [127.0.0.1])
	by mails.dpdk.org (Postfix) with ESMTP id 8F11D402D0;
	Fri, 19 Apr 2024 11:31:10 +0200 (CEST)
Received: from mail-pl1-f227.google.com (mail-pl1-f227.google.com
 [209.85.214.227])
 by mails.dpdk.org (Postfix) with ESMTP id 6A26840273
 for <test-report@dpdk.org>; Fri, 19 Apr 2024 11:31:09 +0200 (CEST)
Received: by mail-pl1-f227.google.com with SMTP id
 d9443c01a7336-1e0bec01232so15331245ad.3
 for <test-report@dpdk.org>; Fri, 19 Apr 2024 02:31:09 -0700 (PDT)
DKIM-Signature: v=1; a=rsa-sha256; c=relaxed/relaxed;
 d=iol.unh.edu; s=unh-iol; t=1713519068; x=1714123868; darn=dpdk.org;
 h=references:in-reply-to:cc:to:from:subject:message-id:date:from:to
 :cc:subject:date:message-id:reply-to;
 bh=IO21r/PquUS9JYuvTQfuhcGKw3K4rQ3b3aEIp08a4pU=;
 b=DMFEv9fI5tvgS76RzLKApdNT/r/F1vneRRYX5hqsIWkSPQjZDBJmsKHbpvgVcPaFCf
 c1W5cD00L6LO+k5GavWi+LdVJafb9NTN2xGD9sCEmKbVbXvbnh1lBXI9KJ9HgWkom9yL
 nElf/WzKDyXcIyk/v7/RtDGMhhH8uu71vrQ9Y=
X-Google-DKIM-Signature: v=1; a=rsa-sha256; c=relaxed/relaxed;
 d=1e100.net; s=20230601; t=1713519068; x=1714123868;
 h=references:in-reply-to:cc:to:from:subject:message-id:date
 :x-gm-message-state:from:to:cc:subject:date:message-id:reply-to;
 bh=IO21r/PquUS9JYuvTQfuhcGKw3K4rQ3b3aEIp08a4pU=;
 b=AONAGlawww+3uJdKUV04vWIVVngl8g+5OhbGvP65YWo95AOKpXk626FIJCjLvpaq5+
 d9uRgVffTASnjDdw8mn2Fsv6/1yAKXSs7uF3s5DjBCao5ciM+zyzWv1qMFYPBHtOhKmS
 sUBT7IKHjpDya76D8188glmegsi81TaZTI54EsHV2tx+RBD1CMStbsrrhFYHWC4XeCBH
 d9mHHl3J1S0T3EYfuUvw4SKDSOdIFyv+bCHmR+pQdSihr+nGJjYB5gtlFA0NTOQtfyRX
 oCGTSCRH8aKtudB2b45qxFDTn8d18ZJsxWIHovutZ8+2RUlYLWRSzhBfzTNFWDf0W+YR
 0RGA==
X-Gm-Message-State: AOJu0YxgtPxRdwYWpNgwWF4/x0oNCOpK8+WNoP6P2wGMilxqvEqh8GNt
 C9ny/LLFGQkSiJimk3sH6auYT7SEF8XcKT4Gm9em0/OrtGC417PPljm8aMkfV/wgPW9sWHfoG3p
 vLlcJVIh+/HkaSA/olZAiO1mkCQYsoq03vHklxewb
X-Google-Smtp-Source: AGHT+IEkxnXEhnm3JleVzHdO+bFrxdvrgCotoYCegzjGfqAFePWR920VXESjK7iT2XFH8uarbC33OJ5qk+Qy
X-Received: by 2002:a17:902:c20a:b0:1e0:f504:a6f9 with SMTP id
 10-20020a170902c20a00b001e0f504a6f9mr1254285pll.27.1713519068549; 
 Fri, 19 Apr 2024 02:31:08 -0700 (PDT)
Received: from postal.iol.unh.edu (postal.iol.unh.edu. [132.177.123.84])
 by smtp-relay.gmail.com with ESMTPS id
 t2-20020a170902a5c200b001e2ae4aa486sm115860plq.130.2024.04.19.02.31.08
 (version=TLS1_2 cipher=ECDHE-ECDSA-AES128-GCM-SHA256 bits=128/128);
 Fri, 19 Apr 2024 02:31:08 -0700 (PDT)
X-Relaying-Domain: iol.unh.edu
Date: Fri, 19 Apr 2024 02:31:08 -0700 (PDT)
Message-ID: <662239dc.170a0220.38095.6df7SMTPIN_ADDED_MISSING@mx.google.com>
Received: from [172.21.0.9] (unknown [172.18.0.240])
 by postal.iol.unh.edu (Postfix) with ESMTP id AEF5C6052514;
 Fri, 19 Apr 2024 05:31:07 -0400 (EDT)
Subject: |SUCCESS| pw139524-139525 [PATCH] [v3,2/2] bus/pci: fix secondary pr
From: dpdklab@iol.unh.edu
To: Test Report <test-report@dpdk.org>
Cc: dpdk-test-reports@iol.unh.edu
In-Reply-To: <20240419032630.1215256-3-chaoyong.he@corigine.com>
References: <20240419032630.1215256-3-chaoyong.he@corigine.com>
Content-Type: text/plain
X-BeenThere: test-report@dpdk.org
X-Mailman-Version: 2.1.29
Precedence: list
List-Id: automatic DPDK test reports <test-report.dpdk.org>
List-Unsubscribe: <https://mails.dpdk.org/options/test-report>,
 <mailto:test-report-request@dpdk.org?subject=unsubscribe>
List-Archive: <http://mails.dpdk.org/archives/test-report/>
List-Post: <mailto:test-report@dpdk.org>
List-Help: <mailto:test-report-request@dpdk.org?subject=help>
List-Subscribe: <https://mails.dpdk.org/listinfo/test-report>,
 <mailto:test-report-request@dpdk.org?subject=subscribe>
Errors-To: test-report-bounces@dpdk.org

Test-Label: iol-compile-amd64-testing
Test-Status: SUCCESS
http://dpdk.org/patch/139525

_Testing PASS_

Submitter: Chaoyong He <chaoyong.he@corigine.com>
Date: Friday, April 19 2024 03:26:30 
DPDK git baseline: Repo:dpdk
  Branch: master
  CommitID:e2e546ab5bf5e024986ccb5310ab43982f3bb40c

139524-139525 --> testing pass

Test environment and result as below:

+---------------------+--------------------+----------------------+-------------------+
|     Environment     | dpdk_meson_compile | dpdk_mingw64_compile | dpdk_msvc_compile |
+=====================+====================+======================+===================+
| Debian Bullseye     | PASS               | SKIPPED              | SKIPPED           |
+---------------------+--------------------+----------------------+-------------------+
| CentOS Stream 8     | PASS               | SKIPPED              | SKIPPED           |
+---------------------+--------------------+----------------------+-------------------+
| CentOS Stream 9     | PASS               | SKIPPED              | SKIPPED           |
+---------------------+--------------------+----------------------+-------------------+
| Debian 12           | PASS               | SKIPPED              | SKIPPED           |
+---------------------+--------------------+----------------------+-------------------+
| Fedora 38           | PASS               | SKIPPED              | SKIPPED           |
+---------------------+--------------------+----------------------+-------------------+
| Fedora 37           | PASS               | SKIPPED              | SKIPPED           |
+---------------------+--------------------+----------------------+-------------------+
| Fedora 39           | PASS               | SKIPPED              | SKIPPED           |
+---------------------+--------------------+----------------------+-------------------+
| FreeBSD 13.2        | PASS               | SKIPPED              | SKIPPED           |
+---------------------+--------------------+----------------------+-------------------+
| Ubuntu 22.04        | PASS               | SKIPPED              | SKIPPED           |
+---------------------+--------------------+----------------------+-------------------+
| RHEL8               | PASS               | SKIPPED              | SKIPPED           |
+---------------------+--------------------+----------------------+-------------------+
| Ubuntu 20.04        | PASS               | SKIPPED              | SKIPPED           |
+---------------------+--------------------+----------------------+-------------------+
| Windows Server 2019 | PASS               | PASS                 | SKIPPED           |
+---------------------+--------------------+----------------------+-------------------+
| Windows Server 2022 | PASS               | PASS                 | PASS              |
+---------------------+--------------------+----------------------+-------------------+
| openSUSE Leap 15    | PASS               | SKIPPED              | SKIPPED           |
+---------------------+--------------------+----------------------+-------------------+
| Alpine              | PASS               | SKIPPED              | SKIPPED           |
+---------------------+--------------------+----------------------+-------------------+


Debian Bullseye
	Kernel: 5.4.0-167-generic
	Compiler: gcc 10.2.1-6

CentOS Stream 8
	Kernel: 5.4.0-167-generic
	Compiler: gcc 8.5.0 20210514

CentOS Stream 9
	Kernel: 5.4.0-167-generic
	Compiler: gcc 11.4.1 20230605

Debian 12
	Kernel: Container Host Kernel
	Compiler: gcc 10.2.1

Fedora 38
	Kernel: Depends on container host
	Compiler: gcc 13.2.1

Fedora 37
	Kernel: Depends on container host system
	Compiler: gcc 12.3.1

Fedora 39
	Kernel: Depends on container host
	Compiler: gcc 13.2.1

FreeBSD 13.2
	Kernel: 13.2
	Compiler: clang 14.0.5

Ubuntu 22.04
	Kernel: 5.4.0-167-generic
	Compiler: gcc 11.4.0

RHEL8
	Kernel: 5.4.0-167-generic
	Compiler: gcc 8.5.0 20210514 (Red Hat 8.5.0-20)

Ubuntu 20.04
	Kernel: 5.4.0-167-generic
	Compiler: gcc 9.4.0-1ubuntu1~20.04.1

Windows Server 2019
	Kernel: 10.0.17763
	Compiler: clang 14.0 and gcc 8.1.0 (MinGW)

Windows Server 2022
	Kernel: 10.0.20348.2031
	Compiler: clang 15.0.7, gcc 8.1.0 (MinGW), and MSVC VS 17.9

openSUSE Leap 15
	Kernel: 5.4.0-167-generic
	Compiler: gcc 7.5.0

Alpine
	Kernel: 5.4.0-167-generic
	Compiler: gcc (Alpine 12.2.1_git20220924-r10) 12.2.1 20220924

To view detailed results, visit:
https://lab.dpdk.org/results/dashboard/patchsets/29823/

UNH-IOL DPDK Community Lab

To manage your email subscriptions, visit: 
https://lab.dpdk.org/results/dashboard/preferences/subscriptions/