From mboxrd@z Thu Jan  1 00:00:00 1970
Return-Path: <test-report-bounces@dpdk.org>
Received: from mails.dpdk.org (mails.dpdk.org [217.70.189.124])
	by inbox.dpdk.org (Postfix) with ESMTP id AA97643EAF
	for <public@inbox.dpdk.org>; Fri, 19 Apr 2024 13:47:09 +0200 (CEST)
Received: from mails.dpdk.org (localhost [127.0.0.1])
	by mails.dpdk.org (Postfix) with ESMTP id A74B840F35;
	Fri, 19 Apr 2024 13:47:09 +0200 (CEST)
Received: from mail-yw1-f225.google.com (mail-yw1-f225.google.com
 [209.85.128.225])
 by mails.dpdk.org (Postfix) with ESMTP id 35F24402F2
 for <test-report@dpdk.org>; Fri, 19 Apr 2024 13:47:01 +0200 (CEST)
Received: by mail-yw1-f225.google.com with SMTP id
 00721157ae682-61ac183ee82so25641287b3.1
 for <test-report@dpdk.org>; Fri, 19 Apr 2024 04:47:01 -0700 (PDT)
DKIM-Signature: v=1; a=rsa-sha256; c=relaxed/relaxed;
 d=iol.unh.edu; s=unh-iol; t=1713527220; x=1714132020; darn=dpdk.org;
 h=references:in-reply-to:cc:to:from:subject:message-id:date:from:to
 :cc:subject:date:message-id:reply-to;
 bh=XQWSM8oywLqGXjJPFPp8VnNnIfrt9116/C15rrxw7L8=;
 b=EYtHVkacjthSCzeSCm3wvavmXDOurb2TrrrTZqUM/9jlfvifpICoKkV9zc1yMlKsrG
 cIGRxqM5ofPmIN/bn2yN5gzMWb6CEdvO6FvzfKHdCp4kLte0v38ivUyydRWg5f//PQRV
 o6aK/Vf+Oq2JmR/UvCPP+SRQF4WRXTKuDgJnM=
X-Google-DKIM-Signature: v=1; a=rsa-sha256; c=relaxed/relaxed;
 d=1e100.net; s=20230601; t=1713527220; x=1714132020;
 h=references:in-reply-to:cc:to:from:subject:message-id:date
 :x-gm-message-state:from:to:cc:subject:date:message-id:reply-to;
 bh=XQWSM8oywLqGXjJPFPp8VnNnIfrt9116/C15rrxw7L8=;
 b=TYVN36XKzoLbMd7eqy/bKJX/9kJ3aLC3e0kI78MTr1KrjDf4xp0y5RMD8nhYTvTKEb
 3b5ogR+MGqItlLprxlMn35Ir8NixPcnBfQtDpxM+JTaKMacZSm8pg+a/HKcyO7Bkl2JN
 qgHQnsAzQ3J69D6KtdeRfmpjpN74MZRqo/lw067GYJf8m7xb3zeMGCwQxA3s8hYvoJx+
 rE+NXUnbUtH9HMkYIW9tpv3N57X64gOCejxCDUnvFO5AjmC/foXAX2+tnbxWPe9CHSzb
 6e6OIIhPCPOK5sE5pRad240VSPBQVTDyretX3Jcs+Tk+LPYwnwBj2pW1N/dVOOiHUAxX
 PGUA==
X-Gm-Message-State: AOJu0Yzro1FGl8XH0HyywG8T5AHF7MlRjG7KW+oJIl4KKSyCAyWQrfdj
 Vb6KONVnMZ37234I0FO/BqEFx7CcnSskhGyEyDKJ9APo+3Rd1X/maXVrw6WV9bRwd43nPeRFB9b
 9/2R2JfP+tryDSi4UwMYHKikpkwHpxltbfntXBmNY
X-Google-Smtp-Source: AGHT+IGUkhltJGqZlt9/oTlQq+qQwUDuWvrj3tzs3cC4Xu0jYnsz2GFmDUfmjwtzqF67WCQoV8YdBZs1UD7B
X-Received: by 2002:a05:690c:6c8b:b0:61b:1710:22bd with SMTP id
 is11-20020a05690c6c8b00b0061b171022bdmr1471031ywb.5.1713527220675; 
 Fri, 19 Apr 2024 04:47:00 -0700 (PDT)
Received: from postal.iol.unh.edu (postal.iol.unh.edu. [132.177.123.84])
 by smtp-relay.gmail.com with ESMTPS id
 z1-20020a818901000000b0060aa4f76b47sm239290ywf.44.2024.04.19.04.47.00
 (version=TLS1_2 cipher=ECDHE-ECDSA-AES128-GCM-SHA256 bits=128/128);
 Fri, 19 Apr 2024 04:47:00 -0700 (PDT)
X-Relaying-Domain: iol.unh.edu
Date: Fri, 19 Apr 2024 04:47:00 -0700 (PDT)
Message-ID: <662259b4.810a0220.1eb78.cf9eSMTPIN_ADDED_MISSING@mx.google.com>
Received: from [172.17.0.3] (unknown [172.18.0.214])
 by postal.iol.unh.edu (Postfix) with ESMTP id 535026052522;
 Fri, 19 Apr 2024 07:47:00 -0400 (EDT)
Subject: |SUCCESS| pw139534-139540 [PATCH] [v3,7/7] dma/odm: add remaining op
From: dpdklab@iol.unh.edu
To: Test Report <test-report@dpdk.org>
Cc: dpdk-test-reports@iol.unh.edu
In-Reply-To: <20240419064319.149-8-anoobj@marvell.com>
References: <20240419064319.149-8-anoobj@marvell.com>
Content-Type: text/plain
X-BeenThere: test-report@dpdk.org
X-Mailman-Version: 2.1.29
Precedence: list
List-Id: automatic DPDK test reports <test-report.dpdk.org>
List-Unsubscribe: <https://mails.dpdk.org/options/test-report>,
 <mailto:test-report-request@dpdk.org?subject=unsubscribe>
List-Archive: <http://mails.dpdk.org/archives/test-report/>
List-Post: <mailto:test-report@dpdk.org>
List-Help: <mailto:test-report-request@dpdk.org?subject=help>
List-Subscribe: <https://mails.dpdk.org/listinfo/test-report>,
 <mailto:test-report-request@dpdk.org?subject=subscribe>
Errors-To: test-report-bounces@dpdk.org

Test-Label: iol-compile-arm64-testing
Test-Status: SUCCESS
http://dpdk.org/patch/139540

_Testing PASS_

Submitter: Anoob Joseph <anoobj@marvell.com>
Date: Friday, April 19 2024 06:43:19 
DPDK git baseline: Repo:dpdk
  Branch: master
  CommitID:e2e546ab5bf5e024986ccb5310ab43982f3bb40c

139534-139540 --> testing pass

Test environment and result as below:

+----------------------------------------+--------------------+
|              Environment               | dpdk_meson_compile |
+========================================+====================+
| Ubuntu 20.04 ARM SVE                   | PASS               |
+----------------------------------------+--------------------+
| Debian 12 with MUSDK                   | PASS               |
+----------------------------------------+--------------------+
| Fedora 38 (ARM)                        | PASS               |
+----------------------------------------+--------------------+
| Fedora 39 (ARM)                        | PASS               |
+----------------------------------------+--------------------+
| Fedora 37 (ARM)                        | PASS               |
+----------------------------------------+--------------------+
| Ubuntu 20.04 (ARM)                     | PASS               |
+----------------------------------------+--------------------+
| Debian 11 (Buster) (ARM)               | PASS               |
+----------------------------------------+--------------------+
| CentOS Stream 9 (ARM)                  | PASS               |
+----------------------------------------+--------------------+
| Debian 12 (arm)                        | PASS               |
+----------------------------------------+--------------------+
| Ubuntu 20.04 ARM Clang Cross Compile   | PASS               |
+----------------------------------------+--------------------+
| Ubuntu 20.04 aarch32 GCC Cross Compile | PASS               |
+----------------------------------------+--------------------+


Ubuntu 20.04 ARM SVE
	Kernel: 5.4.0-167-generic
	Compiler: gcc (Ubuntu 10.5.0-1ubuntu1~20.04) 10.5.0

Debian 12 with MUSDK
	Kernel: Container Host Kernel
	Compiler: gcc 12.2.0

Fedora 38 (ARM)
	Kernel: Depends on container host
	Compiler: gcc 13.2.1

Fedora 39 (ARM)
	Kernel: Depends on container host
	Compiler: gcc 13.2.1

Fedora 37 (ARM)
	Kernel: Depends on container host
	Compiler: gcc 12.3.1

Ubuntu 20.04 (ARM)
	Kernel: Container Host Kernel
	Compiler: gcc 9.4.0

Debian 11 (Buster) (ARM)
	Kernel: Container Host Kernel
	Compiler: gcc 10.2.1

CentOS Stream 9 (ARM)
	Kernel: Container Host Kernel
	Compiler: gcc 11.4.1

Debian 12 (arm)
	Kernel: Container Host Kernel
	Compiler: gcc 12.2.0

Ubuntu 20.04 ARM Clang Cross Compile
	Kernel: 5.4.0-72-generic
	Compiler: clang 10.0.0-4ubuntu1

Ubuntu 20.04 aarch32 GCC Cross Compile
	Kernel: 5.4.0-167-generic
	Compiler: gcc 9.4.0

To view detailed results, visit:
https://lab.dpdk.org/results/dashboard/patchsets/29825/

UNH-IOL DPDK Community Lab

To manage your email subscriptions, visit: 
https://lab.dpdk.org/results/dashboard/preferences/subscriptions/