From mboxrd@z Thu Jan  1 00:00:00 1970
Return-Path: <test-report-bounces@dpdk.org>
Received: from mails.dpdk.org (mails.dpdk.org [217.70.189.124])
	by inbox.dpdk.org (Postfix) with ESMTP id 853CF43EAF
	for <public@inbox.dpdk.org>; Fri, 19 Apr 2024 13:50:11 +0200 (CEST)
Received: from mails.dpdk.org (localhost [127.0.0.1])
	by mails.dpdk.org (Postfix) with ESMTP id F314B410FB;
	Fri, 19 Apr 2024 13:50:10 +0200 (CEST)
Received: from mail-io1-f100.google.com (mail-io1-f100.google.com
 [209.85.166.100])
 by mails.dpdk.org (Postfix) with ESMTP id 7515F402D0
 for <test-report@dpdk.org>; Fri, 19 Apr 2024 13:49:42 +0200 (CEST)
Received: by mail-io1-f100.google.com with SMTP id
 ca18e2360f4ac-7da5c05f851so13039639f.1
 for <test-report@dpdk.org>; Fri, 19 Apr 2024 04:49:42 -0700 (PDT)
DKIM-Signature: v=1; a=rsa-sha256; c=relaxed/relaxed;
 d=iol.unh.edu; s=unh-iol; t=1713527382; x=1714132182; darn=dpdk.org;
 h=references:in-reply-to:cc:to:from:subject:message-id:date:from:to
 :cc:subject:date:message-id:reply-to;
 bh=jAnOrC4XrAza8D8//E66HbshFiBNjogKiHhpucBu8ek=;
 b=cCWSNw8rjOCobtLCJ+uJfuJAF0iS24VfEwLdkQ8DjnvBIow79fVAOEZTEHWBzospZ0
 4UoF1m1Zz1ixCw0EYzTff59kl+5W6pRFDOsKTok8cRLSkoH6fz4FG02OPvtrAH6YH3v/
 Nwb43HOGQ5CDjYnxsURzBQly9ZH3Ka8anExLA=
X-Google-DKIM-Signature: v=1; a=rsa-sha256; c=relaxed/relaxed;
 d=1e100.net; s=20230601; t=1713527382; x=1714132182;
 h=references:in-reply-to:cc:to:from:subject:message-id:date
 :x-gm-message-state:from:to:cc:subject:date:message-id:reply-to;
 bh=jAnOrC4XrAza8D8//E66HbshFiBNjogKiHhpucBu8ek=;
 b=dYd3IVvItvsSJz3uWPtm8McgyRgsivda/Bn7WUDjN2NcYEJsVLAgGxa0bwvkMLeoh8
 7ojoGFJf+n+xKL+pd9hin/w23NxwPPQMkG7Gh6qT2KJPF1GRkafec9xCWwhQ5QIruKGf
 EcMgM2BDsnoxHcDvtVUQW7eHh6zZNSAVzgWjlL8fQGSYJGVEUbBOodI8n89HQFKfXc78
 FG+7+rwH7LhiI6tt+6gtzLS8WJhgblk2ROmsGubw5RxyWTfGPkI/cpdWVEMn/yRm22vo
 BMw6N/Wgz3xTsZCrYn7ngoYB6iKV5N2wU234YYvf2NH0fLVdXkt8UcjqxikUrcSh51Tw
 psHw==
X-Gm-Message-State: AOJu0Yzvtb8cgQgSM/KNdjO9BNJDTZLCROKecugExwNvfxt4VnMiFfCp
 HMU92RII4gk0YG4yo1r8xPICWICMn6RgPBjR0YEa8wB95s2PLSZEZ2pyWzp2wrE9I53HSyXlswt
 yVxoHsdzMq+jQ5+1Yao3I9lAKMruGaZ3ZMkztYm05
X-Google-Smtp-Source: AGHT+IG203N1Uk+RKQ99goY+WmCAoeQjs8YkVYZiaCBoFxYQEhI42mTUspQcyRY01ZKVUQiO9Pm9EfIizux/
X-Received: by 2002:a05:6e02:b25:b0:36b:f0c:cd5a with SMTP id
 e5-20020a056e020b2500b0036b0f0ccd5amr6069802ilu.10.1713527381800; 
 Fri, 19 Apr 2024 04:49:41 -0700 (PDT)
Received: from postal.iol.unh.edu (postal.iol.unh.edu. [132.177.123.84])
 by smtp-relay.gmail.com with ESMTPS id
 v12-20020a056638250c00b00484b9a5a84dsm157562jat.66.2024.04.19.04.49.41
 (version=TLS1_2 cipher=ECDHE-ECDSA-AES128-GCM-SHA256 bits=128/128);
 Fri, 19 Apr 2024 04:49:41 -0700 (PDT)
X-Relaying-Domain: iol.unh.edu
Date: Fri, 19 Apr 2024 04:49:41 -0700 (PDT)
Message-ID: <66225a55.050a0220.1cf90.8ed2SMTPIN_ADDED_MISSING@mx.google.com>
Received: from [172.21.0.7] (unknown [172.18.0.240])
 by postal.iol.unh.edu (Postfix) with ESMTP id 3EE176052514;
 Fri, 19 Apr 2024 07:49:41 -0400 (EDT)
Subject: |SUCCESS| pw139534-139540 [PATCH] [v3,7/7] dma/odm: add remaining op
From: dpdklab@iol.unh.edu
To: Test Report <test-report@dpdk.org>
Cc: dpdk-test-reports@iol.unh.edu
In-Reply-To: <20240419064319.149-8-anoobj@marvell.com>
References: <20240419064319.149-8-anoobj@marvell.com>
Content-Type: text/plain
X-BeenThere: test-report@dpdk.org
X-Mailman-Version: 2.1.29
Precedence: list
List-Id: automatic DPDK test reports <test-report.dpdk.org>
List-Unsubscribe: <https://mails.dpdk.org/options/test-report>,
 <mailto:test-report-request@dpdk.org?subject=unsubscribe>
List-Archive: <http://mails.dpdk.org/archives/test-report/>
List-Post: <mailto:test-report@dpdk.org>
List-Help: <mailto:test-report-request@dpdk.org?subject=help>
List-Subscribe: <https://mails.dpdk.org/listinfo/test-report>,
 <mailto:test-report-request@dpdk.org?subject=subscribe>
Errors-To: test-report-bounces@dpdk.org

Test-Label: iol-unit-amd64-testing
Test-Status: SUCCESS
http://dpdk.org/patch/139540

_Testing PASS_

Submitter: Anoob Joseph <anoobj@marvell.com>
Date: Friday, April 19 2024 06:43:19 
DPDK git baseline: Repo:dpdk
  Branch: master
  CommitID:e2e546ab5bf5e024986ccb5310ab43982f3bb40c

139534-139540 --> testing pass

Test environment and result as below:

+------------------+----------------+
|   Environment    | dpdk_unit_test |
+==================+================+
| Debian Bullseye  | PASS           |
+------------------+----------------+
| CentOS Stream 9  | PASS           |
+------------------+----------------+
| CentOS Stream 8  | PASS           |
+------------------+----------------+
| Debian 12        | PASS           |
+------------------+----------------+
| Fedora 38        | PASS           |
+------------------+----------------+
| Fedora 37        | PASS           |
+------------------+----------------+
| Fedora 39        | PASS           |
+------------------+----------------+
| openSUSE Leap 15 | PASS           |
+------------------+----------------+
| RHEL8            | PASS           |
+------------------+----------------+
| Ubuntu 20.04     | PASS           |
+------------------+----------------+
| Ubuntu 22.04     | PASS           |
+------------------+----------------+


Debian Bullseye
	Kernel: 5.4.0-167-generic
	Compiler: gcc 10.2.1-6

CentOS Stream 9
	Kernel: 5.4.0-167-generic
	Compiler: gcc 11.4.1 20230605

CentOS Stream 8
	Kernel: 5.4.0-167-generic
	Compiler: gcc 8.5.0 20210514

Debian 12
	Kernel: Container Host Kernel
	Compiler: gcc 10.2.1

Fedora 38
	Kernel: Depends on container host
	Compiler: gcc 13.2.1

Fedora 37
	Kernel: Depends on container host system
	Compiler: gcc 12.3.1

Fedora 39
	Kernel: Depends on container host
	Compiler: gcc 13.2.1

openSUSE Leap 15
	Kernel: 5.4.0-167-generic
	Compiler: gcc 7.5.0

RHEL8
	Kernel: 5.4.0-167-generic
	Compiler: gcc 8.5.0 20210514 (Red Hat 8.5.0-20)

Ubuntu 20.04
	Kernel: 5.4.0-167-generic
	Compiler: gcc 9.4.0-1ubuntu1~20.04.1

Ubuntu 22.04
	Kernel: 5.4.0-167-generic
	Compiler: gcc 11.4.0

To view detailed results, visit:
https://lab.dpdk.org/results/dashboard/patchsets/29825/

UNH-IOL DPDK Community Lab

To manage your email subscriptions, visit: 
https://lab.dpdk.org/results/dashboard/preferences/subscriptions/