From mboxrd@z Thu Jan  1 00:00:00 1970
Return-Path: <test-report-bounces@dpdk.org>
Received: from mails.dpdk.org (mails.dpdk.org [217.70.189.124])
	by inbox.dpdk.org (Postfix) with ESMTP id 8B78C43EAF
	for <public@inbox.dpdk.org>; Fri, 19 Apr 2024 13:57:06 +0200 (CEST)
Received: from mails.dpdk.org (localhost [127.0.0.1])
	by mails.dpdk.org (Postfix) with ESMTP id 876FD402F2;
	Fri, 19 Apr 2024 13:57:06 +0200 (CEST)
Received: from mail-ot1-f99.google.com (mail-ot1-f99.google.com
 [209.85.210.99]) by mails.dpdk.org (Postfix) with ESMTP id CA9A540EE4
 for <test-report@dpdk.org>; Fri, 19 Apr 2024 13:57:01 +0200 (CEST)
Received: by mail-ot1-f99.google.com with SMTP id
 46e09a7af769-6eb77e56b20so1066107a34.3
 for <test-report@dpdk.org>; Fri, 19 Apr 2024 04:57:01 -0700 (PDT)
DKIM-Signature: v=1; a=rsa-sha256; c=relaxed/relaxed;
 d=iol.unh.edu; s=unh-iol; t=1713527821; x=1714132621; darn=dpdk.org;
 h=references:in-reply-to:cc:to:from:subject:message-id:date:from:to
 :cc:subject:date:message-id:reply-to;
 bh=gq3GyYfOEwMIPf0UIiRNsBoUNa+WoXBYrWIWaz0i4GY=;
 b=ar2yKCDV0D1saQ9gjZCzTmEKw1ITkO3AZTHKVbzts2fKKRg3ASWlATEgXbqnkOGVxH
 faqgNYOFbovrktXI+Fm62Fa5l/dxfCw4f1PGOdyb1wj8vesQS6H5fVHTPGwzdqtw8Qr7
 icRFWLQ3x1XwCDY6qdjPKDmNLgRh2T+WK9BoE=
X-Google-DKIM-Signature: v=1; a=rsa-sha256; c=relaxed/relaxed;
 d=1e100.net; s=20230601; t=1713527821; x=1714132621;
 h=references:in-reply-to:cc:to:from:subject:message-id:date
 :x-gm-message-state:from:to:cc:subject:date:message-id:reply-to;
 bh=gq3GyYfOEwMIPf0UIiRNsBoUNa+WoXBYrWIWaz0i4GY=;
 b=fLgzO4z/UVdBXq2b72LdW6/wiMss/58OdCp+8POIdVclwBc71ZQMbmcv7mjXggUFiy
 paj2uAcPFIFX9i5jy8fInaxG62sB6dn04c9vTywdNwoO1pkymegXhRV8+Byi5C80G14z
 bfJak/YcZ5AtNmyoJ4lZ40kxQ4SzUq3xC57/D/p7E6AsPecIiiAJzjqJ4PicZROIduKw
 5cUpDBuVxyY4whchLzo6XNutlixMtvQpSfPoIH78r/zxVvKfIcGLs3hNTYeOO+C4JJtt
 l6Yz9bE1hSQb+VL/fqAIRmI7xUNgzQzZkPg+bymkUjdSli3jvp4VpeKkOEXONVGeXs6Z
 Sx1Q==
X-Gm-Message-State: AOJu0YxnCG92Wkern8GwmlHryAGzub7rLNKCafrD70xL55iXCzbA9Nkk
 le03Zw5RBHknKhEiakw206NrHb27CY0RKPRRZRQbkOpGJH56s/MLjktx7xvLPtwANI4EArC86Tu
 d80SHF51MgltH/eE6e9a2qKD+IuzLN+3B7gpjKRzLDDI+CGbjXINnnw8Z
X-Google-Smtp-Source: AGHT+IGv0xiV1+OYKtPsk13W0Ksb9l82NJJiFEJjjKFXiUaGITbanMahCFo+86xnjkICyCGK9C5NiK5ftbqN
X-Received: by 2002:a05:6830:4784:b0:6eb:7ee1:b997 with SMTP id
 df4-20020a056830478400b006eb7ee1b997mr1916575otb.13.1713527820973; 
 Fri, 19 Apr 2024 04:57:00 -0700 (PDT)
Received: from postal.iol.unh.edu (postal.iol.unh.edu.
 [2606:4100:3880:1234::84]) by smtp-relay.gmail.com with ESMTPS id
 k13-20020a636f0d000000b005dcbbecac78sm173299pgc.26.2024.04.19.04.57.00
 (version=TLS1_2 cipher=ECDHE-ECDSA-AES128-GCM-SHA256 bits=128/128);
 Fri, 19 Apr 2024 04:57:00 -0700 (PDT)
X-Relaying-Domain: iol.unh.edu
Date: Fri, 19 Apr 2024 04:57:00 -0700 (PDT)
Message-ID: <66225c0c.630a0220.5110e.9309SMTPIN_ADDED_MISSING@mx.google.com>
Received: from [172.17.0.2] (unknown [172.18.0.217])
 by postal.iol.unh.edu (Postfix) with ESMTP id 5CA346052514;
 Fri, 19 Apr 2024 07:57:00 -0400 (EDT)
Subject: |SUCCESS| pw139534-139540 [PATCH] [v3,7/7] dma/odm: add remaining op
From: dpdklab@iol.unh.edu
To: Test Report <test-report@dpdk.org>
Cc: dpdk-test-reports@iol.unh.edu
In-Reply-To: <20240419064319.149-8-anoobj@marvell.com>
References: <20240419064319.149-8-anoobj@marvell.com>
Content-Type: text/plain
X-BeenThere: test-report@dpdk.org
X-Mailman-Version: 2.1.29
Precedence: list
List-Id: automatic DPDK test reports <test-report.dpdk.org>
List-Unsubscribe: <https://mails.dpdk.org/options/test-report>,
 <mailto:test-report-request@dpdk.org?subject=unsubscribe>
List-Archive: <http://mails.dpdk.org/archives/test-report/>
List-Post: <mailto:test-report@dpdk.org>
List-Help: <mailto:test-report-request@dpdk.org?subject=help>
List-Subscribe: <https://mails.dpdk.org/listinfo/test-report>,
 <mailto:test-report-request@dpdk.org?subject=subscribe>
Errors-To: test-report-bounces@dpdk.org

Test-Label: iol-unit-arm64-testing
Test-Status: SUCCESS
http://dpdk.org/patch/139540

_Testing PASS_

Submitter: Anoob Joseph <anoobj@marvell.com>
Date: Friday, April 19 2024 06:43:19 
DPDK git baseline: Repo:dpdk
  Branch: master
  CommitID:e2e546ab5bf5e024986ccb5310ab43982f3bb40c

139534-139540 --> testing pass

Test environment and result as below:

+-----------------------------+---------------------------+------------------------------+----------------+--------------+
|         Environment         | cryptodev_sw_zuc_autotest | cryptodev_sw_snow3g_autotest | dpdk_unit_test | lpm_autotest |
+=============================+===========================+==============================+================+==============+
| Debian 12 (arm)             | PASS                      | PASS                         | PASS           | SKIPPED      |
+-----------------------------+---------------------------+------------------------------+----------------+--------------+
| CentOS Stream 9 (ARM)       | SKIPPED                   | SKIPPED                      | PASS           | SKIPPED      |
+-----------------------------+---------------------------+------------------------------+----------------+--------------+
| Debian 11 (Buster) (ARM)    | SKIPPED                   | SKIPPED                      | PASS           | SKIPPED      |
+-----------------------------+---------------------------+------------------------------+----------------+--------------+
| Fedora 37 (ARM)             | SKIPPED                   | SKIPPED                      | PASS           | SKIPPED      |
+-----------------------------+---------------------------+------------------------------+----------------+--------------+
| Fedora 39 (ARM)             | SKIPPED                   | SKIPPED                      | PASS           | SKIPPED      |
+-----------------------------+---------------------------+------------------------------+----------------+--------------+
| 32-bit Ubuntu 20.04.4 (ARM) | SKIPPED                   | SKIPPED                      | PASS           | SKIPPED      |
+-----------------------------+---------------------------+------------------------------+----------------+--------------+
| Fedora 38 (ARM)             | SKIPPED                   | SKIPPED                      | PASS           | SKIPPED      |
+-----------------------------+---------------------------+------------------------------+----------------+--------------+
| Ubuntu 20.04 (ARM)          | SKIPPED                   | SKIPPED                      | PASS           | SKIPPED      |
+-----------------------------+---------------------------+------------------------------+----------------+--------------+
| Ubuntu 20.04 ARM SVE        | SKIPPED                   | SKIPPED                      | SKIPPED        | PASS         |
+-----------------------------+---------------------------+------------------------------+----------------+--------------+


Debian 12 (arm)
	Kernel: Container Host Kernel
	Compiler: gcc 12.2.0

CentOS Stream 9 (ARM)
	Kernel: Container Host Kernel
	Compiler: gcc 11.4.1

Debian 11 (Buster) (ARM)
	Kernel: Container Host Kernel
	Compiler: gcc 10.2.1

Fedora 37 (ARM)
	Kernel: Depends on container host
	Compiler: gcc 12.3.1

Fedora 39 (ARM)
	Kernel: Depends on container host
	Compiler: gcc 13.2.1

32-bit Ubuntu 20.04.4 (ARM)
	Kernel: 5.4.0-155-generic aarch64
	Compiler: gcc 9.4

Fedora 38 (ARM)
	Kernel: Depends on container host
	Compiler: gcc 13.2.1

Ubuntu 20.04 (ARM)
	Kernel: Container Host Kernel
	Compiler: gcc 9.4.0

Ubuntu 20.04 ARM SVE
	Kernel: 5.4.0-167-generic
	Compiler: gcc (Ubuntu 10.5.0-1ubuntu1~20.04) 10.5.0

To view detailed results, visit:
https://lab.dpdk.org/results/dashboard/patchsets/29825/

UNH-IOL DPDK Community Lab

To manage your email subscriptions, visit: 
https://lab.dpdk.org/results/dashboard/preferences/subscriptions/