From mboxrd@z Thu Jan  1 00:00:00 1970
Return-Path: <test-report-bounces@dpdk.org>
Received: from mails.dpdk.org (mails.dpdk.org [217.70.189.124])
	by inbox.dpdk.org (Postfix) with ESMTP id B870B43EB1
	for <public@inbox.dpdk.org>; Fri, 19 Apr 2024 16:58:44 +0200 (CEST)
Received: from mails.dpdk.org (localhost [127.0.0.1])
	by mails.dpdk.org (Postfix) with ESMTP id 902E5402D9;
	Fri, 19 Apr 2024 16:58:44 +0200 (CEST)
Received: from mail-il1-f227.google.com (mail-il1-f227.google.com
 [209.85.166.227])
 by mails.dpdk.org (Postfix) with ESMTP id A0115402D4
 for <test-report@dpdk.org>; Fri, 19 Apr 2024 16:58:42 +0200 (CEST)
Received: by mail-il1-f227.google.com with SMTP id
 e9e14a558f8ab-36b2fcff072so7526705ab.0
 for <test-report@dpdk.org>; Fri, 19 Apr 2024 07:58:42 -0700 (PDT)
DKIM-Signature: v=1; a=rsa-sha256; c=relaxed/relaxed;
 d=iol.unh.edu; s=unh-iol; t=1713538722; x=1714143522; darn=dpdk.org;
 h=references:in-reply-to:cc:to:from:subject:message-id:date:from:to
 :cc:subject:date:message-id:reply-to;
 bh=AevxAOyFx8/Z6M0l2Ahm/WCQfY+Hf61LaATUKBASB0U=;
 b=YH0BC2Ve1ISciOrpf60/V9MttYuUaWV9ODrUuOasfi/qjMwHBEZDBIIhlvFWlZjuTW
 2X1VGlOREGltRMpstpffIi4mGRMR+6UoZuN+DyJP5IxYIP3pXMVB0jwyT6gNkfPwnaVb
 PTVA3FFf03ygPxYphadmhJi5X+GB9RpwRvpsg=
X-Google-DKIM-Signature: v=1; a=rsa-sha256; c=relaxed/relaxed;
 d=1e100.net; s=20230601; t=1713538722; x=1714143522;
 h=references:in-reply-to:cc:to:from:subject:message-id:date
 :x-gm-message-state:from:to:cc:subject:date:message-id:reply-to;
 bh=AevxAOyFx8/Z6M0l2Ahm/WCQfY+Hf61LaATUKBASB0U=;
 b=TM6RNyPcJp7hMjMaOnRim8Dk3Pd4q12uLvDjX6mQLS/aoR3cWhH0kMv4zVqkKvbIOC
 GwE4DV/84m/U08dsyPvBO2ssEGh0C1Th8+YXybwrfYzYG6q+oPGHBLuCdwcs0YJsMzuq
 7p9+asbqZj+wvKLc9j544skIZJ7TJtTg1f8dm6OwkxXchsbOuRFT6Ucn8a6ykUHhknQ6
 ypSv+uhA8m5lfzv4u9h1ZmqNKWw3s0oXsXonLF90AQ2PlvOQorfCS4Yvh5p6nssybTIV
 Y+Ug7FS0EMQ9yZYl1CKR0EF+uIFzzbv7nmG2J9+6KbpvL/3RmVm9pKfOlwqw9QKGZXy3
 Vu0w==
X-Gm-Message-State: AOJu0Yy+SxtbvKZ/gI5FqV/LBWHhYpWycRWAmKg+RiK21r0gUa4s/YeJ
 1HBOdHqbuHylD1QDMKyjFU7hSWacHt1dbrXXmMkVhaCGahjSMIUGnhQSveRZZg55qEZ95jUOsiM
 e5pR2dBD9i4CKI6IYAGeUhr6iPt0fa5mlcpBkz1q9
X-Google-Smtp-Source: AGHT+IEboweHk1nbrJrxtw6L0hlWHc9Gw/OEn5s1B5YJOnLwbR4BcjrkfdPteSbAT0f4rcArDCqfInh+ELRW
X-Received: by 2002:a05:6e02:1a0a:b0:36b:3c05:712f with SMTP id
 s10-20020a056e021a0a00b0036b3c05712fmr2838445ild.10.1713538721919; 
 Fri, 19 Apr 2024 07:58:41 -0700 (PDT)
Received: from postal.iol.unh.edu (postal.iol.unh.edu. [132.177.123.84])
 by smtp-relay.gmail.com with ESMTPS id
 k15-20020a056e02156f00b0036a07854c0esm192139ilu.11.2024.04.19.07.58.41
 (version=TLS1_2 cipher=ECDHE-ECDSA-AES128-GCM-SHA256 bits=128/128);
 Fri, 19 Apr 2024 07:58:41 -0700 (PDT)
X-Relaying-Domain: iol.unh.edu
Date: Fri, 19 Apr 2024 07:58:41 -0700 (PDT)
Message-ID: <662286a1.050a0220.71b89.b205SMTPIN_ADDED_MISSING@mx.google.com>
Received: from [172.21.0.6] (unknown [172.18.0.240])
 by postal.iol.unh.edu (Postfix) with ESMTP id 62993604D420;
 Fri, 19 Apr 2024 10:58:41 -0400 (EDT)
Subject: |SUCCESS| pw139546 [PATCH] [v1] dts: remove the OS UDP test suite
From: dpdklab@iol.unh.edu
To: Test Report <test-report@dpdk.org>
Cc: dpdk-test-reports@iol.unh.edu
In-Reply-To: <20240419135216.106445-1-juraj.linkes@pantheon.tech>
References: <20240419135216.106445-1-juraj.linkes@pantheon.tech>
Content-Type: text/plain
X-BeenThere: test-report@dpdk.org
X-Mailman-Version: 2.1.29
Precedence: list
List-Id: automatic DPDK test reports <test-report.dpdk.org>
List-Unsubscribe: <https://mails.dpdk.org/options/test-report>,
 <mailto:test-report-request@dpdk.org?subject=unsubscribe>
List-Archive: <http://mails.dpdk.org/archives/test-report/>
List-Post: <mailto:test-report@dpdk.org>
List-Help: <mailto:test-report-request@dpdk.org?subject=help>
List-Subscribe: <https://mails.dpdk.org/listinfo/test-report>,
 <mailto:test-report-request@dpdk.org?subject=subscribe>
Errors-To: test-report-bounces@dpdk.org

Test-Label: iol-compile-amd64-testing
Test-Status: SUCCESS
http://dpdk.org/patch/139546

_Testing PASS_

Submitter: Juraj Linkes <juraj.linkes@pantheon.tech>
Date: Friday, April 19 2024 13:52:16 
DPDK git baseline: Repo:dpdk
  Branch: master
  CommitID:e2e546ab5bf5e024986ccb5310ab43982f3bb40c

139546 --> testing pass

Test environment and result as below:

+---------------------+--------------------+-------------------+----------------------+
|     Environment     | dpdk_meson_compile | dpdk_msvc_compile | dpdk_mingw64_compile |
+=====================+====================+===================+======================+
| CentOS Stream 8     | PASS               | SKIPPED           | SKIPPED              |
+---------------------+--------------------+-------------------+----------------------+
| FreeBSD 13.2        | PASS               | SKIPPED           | SKIPPED              |
+---------------------+--------------------+-------------------+----------------------+
| Debian Bullseye     | PASS               | SKIPPED           | SKIPPED              |
+---------------------+--------------------+-------------------+----------------------+
| Windows Server 2019 | PASS               | SKIPPED           | PASS                 |
+---------------------+--------------------+-------------------+----------------------+
| Fedora 37           | PASS               | SKIPPED           | SKIPPED              |
+---------------------+--------------------+-------------------+----------------------+
| Debian 12           | PASS               | SKIPPED           | SKIPPED              |
+---------------------+--------------------+-------------------+----------------------+
| CentOS Stream 9     | PASS               | SKIPPED           | SKIPPED              |
+---------------------+--------------------+-------------------+----------------------+
| Windows Server 2022 | PASS               | PASS              | PASS                 |
+---------------------+--------------------+-------------------+----------------------+
| Ubuntu 20.04        | PASS               | SKIPPED           | SKIPPED              |
+---------------------+--------------------+-------------------+----------------------+
| Ubuntu 22.04        | PASS               | SKIPPED           | SKIPPED              |
+---------------------+--------------------+-------------------+----------------------+
| openSUSE Leap 15    | PASS               | SKIPPED           | SKIPPED              |
+---------------------+--------------------+-------------------+----------------------+
| Fedora 39           | PASS               | SKIPPED           | SKIPPED              |
+---------------------+--------------------+-------------------+----------------------+
| RHEL8               | PASS               | SKIPPED           | SKIPPED              |
+---------------------+--------------------+-------------------+----------------------+
| Fedora 38           | PASS               | SKIPPED           | SKIPPED              |
+---------------------+--------------------+-------------------+----------------------+


CentOS Stream 8
	Kernel: 5.4.0-167-generic
	Compiler: gcc 8.5.0 20210514

FreeBSD 13.2
	Kernel: 13.2
	Compiler: clang 14.0.5

Debian Bullseye
	Kernel: 5.4.0-167-generic
	Compiler: gcc 10.2.1-6

Windows Server 2019
	Kernel: 10.0.17763
	Compiler: clang 14.0 and gcc 8.1.0 (MinGW)

Fedora 37
	Kernel: Depends on container host system
	Compiler: gcc 12.3.1

Debian 12
	Kernel: Container Host Kernel
	Compiler: gcc 10.2.1

CentOS Stream 9
	Kernel: 5.4.0-167-generic
	Compiler: gcc 11.4.1 20230605

Windows Server 2022
	Kernel: 10.0.20348.2031
	Compiler: clang 15.0.7, gcc 8.1.0 (MinGW), and MSVC VS 17.9

Ubuntu 20.04
	Kernel: 5.4.0-167-generic
	Compiler: gcc 9.4.0-1ubuntu1~20.04.1

Ubuntu 22.04
	Kernel: 5.4.0-167-generic
	Compiler: gcc 11.4.0

openSUSE Leap 15
	Kernel: 5.4.0-167-generic
	Compiler: gcc 7.5.0

Fedora 39
	Kernel: Depends on container host
	Compiler: gcc 13.2.1

RHEL8
	Kernel: 5.4.0-167-generic
	Compiler: gcc 8.5.0 20210514 (Red Hat 8.5.0-20)

Fedora 38
	Kernel: Depends on container host
	Compiler: clang 16.0.6

To view detailed results, visit:
https://lab.dpdk.org/results/dashboard/patchsets/29829/

UNH-IOL DPDK Community Lab

To manage your email subscriptions, visit: 
https://lab.dpdk.org/results/dashboard/preferences/subscriptions/