From mboxrd@z Thu Jan  1 00:00:00 1970
Return-Path: <test-report-bounces@dpdk.org>
Received: from mails.dpdk.org (mails.dpdk.org [217.70.189.124])
	by inbox.dpdk.org (Postfix) with ESMTP id CCB8E43EB1
	for <public@inbox.dpdk.org>; Fri, 19 Apr 2024 17:15:51 +0200 (CEST)
Received: from mails.dpdk.org (localhost [127.0.0.1])
	by mails.dpdk.org (Postfix) with ESMTP id B1D45402D9;
	Fri, 19 Apr 2024 17:15:51 +0200 (CEST)
Received: from mail-io1-f100.google.com (mail-io1-f100.google.com
 [209.85.166.100])
 by mails.dpdk.org (Postfix) with ESMTP id D67DF402D4
 for <test-report@dpdk.org>; Fri, 19 Apr 2024 17:15:50 +0200 (CEST)
Received: by mail-io1-f100.google.com with SMTP id
 ca18e2360f4ac-7d6c4c97875so83333139f.3
 for <test-report@dpdk.org>; Fri, 19 Apr 2024 08:15:50 -0700 (PDT)
DKIM-Signature: v=1; a=rsa-sha256; c=relaxed/relaxed;
 d=iol.unh.edu; s=unh-iol; t=1713539750; x=1714144550; darn=dpdk.org;
 h=references:in-reply-to:cc:to:from:subject:message-id:date:from:to
 :cc:subject:date:message-id:reply-to;
 bh=zrFj6wp/2tmkQQeUdXJO8XvjZb2+FfOgkXRNEEbRL+8=;
 b=PR/t0lpBajTsBVQKiGlOHA+wLaZS1SsU5QWy+/GmcWgMRtxrA30eIc3r+EPQny63jO
 ev9ycPvWnKv7CBKRVLhURgC3BfUMIU4s/8x7rcZy1i8J3QGnnLPQaCs/++3fXXiljZnD
 b4tCRSzI89sFrdYj+KE5cZhi/2LTHd4xYt1AQ=
X-Google-DKIM-Signature: v=1; a=rsa-sha256; c=relaxed/relaxed;
 d=1e100.net; s=20230601; t=1713539750; x=1714144550;
 h=references:in-reply-to:cc:to:from:subject:message-id:date
 :x-gm-message-state:from:to:cc:subject:date:message-id:reply-to;
 bh=zrFj6wp/2tmkQQeUdXJO8XvjZb2+FfOgkXRNEEbRL+8=;
 b=emYJCcabTjMVGbs/u3wnMH0doc3gpdZ00m57MpVuwhoy5KEJuYzCTXaleyy41nfb2q
 qOuvHAkVud/sHQ8T0lVEjDU008Rj/Nxcv+cWykeJNiKFv7Em3etXBffJPoaog/xsgxXy
 A/I1/Ji3NvLT+JUY0OItkda5JA5s8/oFLhhBcCIMXa5XQqxrpW0uULvtmPUvhk7di5CF
 FDt868dbD5f4AI4SHHScq0U+74bKER4/Kngpmq+SA2NrKFdAvxd/hVpSDdhaOHllyzrg
 2JFeT111ZZMT+Y1ItshfOQhaEbBDzeHiG1ME7uT/Q8j1SO8uxwFYlTUCZbHC2tL0EBF2
 SqzA==
X-Gm-Message-State: AOJu0YzzZE3arZSq1NmUP6nRIl7fymqh4i3cq1UcWppLrLz+1hAUSfeA
 xAqvlUwxQNs3+R3JJ/4MSBSFSfUGJHg8/KmagY+o618lSMweOgG2LgazDHv277NjKeZJVK4p1HW
 gD2QKJjhWUuN1oXrMQFiZRDXxuQc+YIxnq6PznKro0H8ams/YBq+guGvU
X-Google-Smtp-Source: AGHT+IFwgsil9KINH45WEbfMlU/+NL5sfP96+AAfkahkA6CUKaMLldIjraMq2RxSzUoZbUBW7XmDyOs/Zgmx
X-Received: by 2002:a05:6e02:20e8:b0:36b:be7:f2d1 with SMTP id
 q8-20020a056e0220e800b0036b0be7f2d1mr3056971ilv.6.1713539750202; 
 Fri, 19 Apr 2024 08:15:50 -0700 (PDT)
Received: from postal.iol.unh.edu (postal.iol.unh.edu.
 [2606:4100:3880:1234::84]) by smtp-relay.gmail.com with ESMTPS id
 17-20020a056e0211b100b0036afd2c2fbfsm202890ilj.73.2024.04.19.08.15.50
 (version=TLS1_2 cipher=ECDHE-ECDSA-AES128-GCM-SHA256 bits=128/128);
 Fri, 19 Apr 2024 08:15:50 -0700 (PDT)
X-Relaying-Domain: iol.unh.edu
Date: Fri, 19 Apr 2024 08:15:50 -0700 (PDT)
Message-ID: <66228aa6.050a0220.618ef.ae54SMTPIN_ADDED_MISSING@mx.google.com>
Received: from [172.21.0.6] (unknown [172.18.0.240])
 by postal.iol.unh.edu (Postfix) with ESMTP id B8C9A604D420;
 Fri, 19 Apr 2024 11:15:49 -0400 (EDT)
Subject: |SUCCESS| pw139546 [PATCH] [v1] dts: remove the OS UDP test suite
From: dpdklab@iol.unh.edu
To: Test Report <test-report@dpdk.org>
Cc: dpdk-test-reports@iol.unh.edu
In-Reply-To: <20240419135216.106445-1-juraj.linkes@pantheon.tech>
References: <20240419135216.106445-1-juraj.linkes@pantheon.tech>
Content-Type: text/plain
X-BeenThere: test-report@dpdk.org
X-Mailman-Version: 2.1.29
Precedence: list
List-Id: automatic DPDK test reports <test-report.dpdk.org>
List-Unsubscribe: <https://mails.dpdk.org/options/test-report>,
 <mailto:test-report-request@dpdk.org?subject=unsubscribe>
List-Archive: <http://mails.dpdk.org/archives/test-report/>
List-Post: <mailto:test-report@dpdk.org>
List-Help: <mailto:test-report-request@dpdk.org?subject=help>
List-Subscribe: <https://mails.dpdk.org/listinfo/test-report>,
 <mailto:test-report-request@dpdk.org?subject=subscribe>
Errors-To: test-report-bounces@dpdk.org

Test-Label: iol-abi-testing
Test-Status: SUCCESS
http://dpdk.org/patch/139546

_Testing PASS_

Submitter: Juraj Linkes <juraj.linkes@pantheon.tech>
Date: Friday, April 19 2024 13:52:16 
DPDK git baseline: Repo:dpdk
  Branch: master
  CommitID:e2e546ab5bf5e024986ccb5310ab43982f3bb40c

139546 --> testing pass

Test environment and result as below:

+------------------+----------+
|   Environment    | abi_test |
+==================+==========+
| Debian 12        | PASS     |
+------------------+----------+
| Fedora 38        | PASS     |
+------------------+----------+
| Fedora 37        | PASS     |
+------------------+----------+
| CentOS Stream 8  | PASS     |
+------------------+----------+
| RHEL8            | PASS     |
+------------------+----------+
| openSUSE Leap 15 | PASS     |
+------------------+----------+
| Fedora 39        | PASS     |
+------------------+----------+
| Debian Bullseye  | PASS     |
+------------------+----------+
| Ubuntu 22.04     | PASS     |
+------------------+----------+
| CentOS Stream 9  | PASS     |
+------------------+----------+


Debian 12
	Kernel: Container Host Kernel
	Compiler: gcc 10.2.1

Fedora 38
	Kernel: Depends on container host
	Compiler: gcc 13.2.1

Fedora 37
	Kernel: Depends on container host system
	Compiler: gcc 12.3.1

CentOS Stream 8
	Kernel: 5.4.0-167-generic
	Compiler: gcc 8.5.0 20210514

RHEL8
	Kernel: 5.4.0-167-generic
	Compiler: gcc 8.5.0 20210514 (Red Hat 8.5.0-20)

openSUSE Leap 15
	Kernel: 5.4.0-167-generic
	Compiler: gcc 7.5.0

Fedora 39
	Kernel: Depends on container host
	Compiler: clang 17.0.6

Debian Bullseye
	Kernel: 5.4.0-167-generic
	Compiler: gcc 10.2.1-6

Ubuntu 22.04
	Kernel: 5.4.0-167-generic
	Compiler: gcc 11.4.0

CentOS Stream 9
	Kernel: 5.4.0-167-generic
	Compiler: gcc 11.4.1 20230605

To view detailed results, visit:
https://lab.dpdk.org/results/dashboard/patchsets/29829/

UNH-IOL DPDK Community Lab

To manage your email subscriptions, visit: 
https://lab.dpdk.org/results/dashboard/preferences/subscriptions/