From mboxrd@z Thu Jan  1 00:00:00 1970
Return-Path: <test-report-bounces@dpdk.org>
Received: from mails.dpdk.org (mails.dpdk.org [217.70.189.124])
	by inbox.dpdk.org (Postfix) with ESMTP id D65BA43EB1
	for <public@inbox.dpdk.org>; Fri, 19 Apr 2024 17:26:08 +0200 (CEST)
Received: from mails.dpdk.org (localhost [127.0.0.1])
	by mails.dpdk.org (Postfix) with ESMTP id CDC2140698;
	Fri, 19 Apr 2024 17:26:08 +0200 (CEST)
Received: from mail-io1-f98.google.com (mail-io1-f98.google.com
 [209.85.166.98]) by mails.dpdk.org (Postfix) with ESMTP id 49B0340696
 for <test-report@dpdk.org>; Fri, 19 Apr 2024 17:26:07 +0200 (CEST)
Received: by mail-io1-f98.google.com with SMTP id
 ca18e2360f4ac-7d622edf790so80695839f.1
 for <test-report@dpdk.org>; Fri, 19 Apr 2024 08:26:07 -0700 (PDT)
DKIM-Signature: v=1; a=rsa-sha256; c=relaxed/relaxed;
 d=iol.unh.edu; s=unh-iol; t=1713540366; x=1714145166; darn=dpdk.org;
 h=references:in-reply-to:cc:to:from:subject:message-id:date:from:to
 :cc:subject:date:message-id:reply-to;
 bh=ToSgMqoWjCwRAj5dCm90x5sBBS5hAQNX5n/OO6Y9z9Q=;
 b=WOAJhjGSZmUQjuSHkftio8GIcABbDcy7BOvH0xhIQoMINYky71Zl/2han4L54qoAmW
 /559/9Sz/9mZkZ70MEt51ZkLjiE8PTTMe0mW71WYUodE1w0f+HX0V0Q3DjV4lR7iSPl7
 CWiUQMNoN8jiIQ0p/WwSCQuLOXModKSkIx/D8=
X-Google-DKIM-Signature: v=1; a=rsa-sha256; c=relaxed/relaxed;
 d=1e100.net; s=20230601; t=1713540366; x=1714145166;
 h=references:in-reply-to:cc:to:from:subject:message-id:date
 :x-gm-message-state:from:to:cc:subject:date:message-id:reply-to;
 bh=ToSgMqoWjCwRAj5dCm90x5sBBS5hAQNX5n/OO6Y9z9Q=;
 b=FZRlJDOUyNbhYr5oyGDREpPWxphIgW50mseV2odoRpb2tDcWux9pq8H72759YptuFh
 33xIq6AjRuKi4/dok24UZzjHwlP6KprB9aZxmiPvLJJAVfFQR/uK6zuS+qVpHL3alua+
 DyaeLCk+kJGG1NPXhwACv7wgdfC/IzSu3FXmLl0HWl+vsOBn1GBAa6bmm4vHPmdRgEJi
 sw2ttAZiDktDCo4nLmC9A0At98UkKNZitkfaVCRxHRVXZjUxdPAeHPH8fcZ63aE476Dc
 h7ZSqyySZa5mFL/fa+JCoh8oOOh3F+1T0pVAe5YO/uCYt1LqSxdKXkgg0oQ4WxfM8gIJ
 IpUw==
X-Gm-Message-State: AOJu0YzGzvnD+rN1v80SoiauOW8mDI5eRmtFbnfI/MKRRt8mfHPJuxjW
 BaLs4O9qXtqFLU1bMDvPhjPEfuT1HDbJnUY9AQstpV9Ul/VlZVNu/vywShTO0bq4q9ZkVMInvqV
 fcfwHR8MQtZdKajhcl+R7rJ04ZJ8g7hI0Ip/uuAgYJUccO0bpkmLmliQ+
X-Google-Smtp-Source: AGHT+IELhuWDMjev2mQNILgiQvwRQHIrLy2wjUe48UXMfgx5Ze48QE7CMmxI9D9EFGn3Zb+Qflm/cmVJ1tgT
X-Received: by 2002:a05:6602:4fc1:b0:7da:19a5:625a with SMTP id
 gs1-20020a0566024fc100b007da19a5625amr2523479iob.21.1713540366702; 
 Fri, 19 Apr 2024 08:26:06 -0700 (PDT)
Received: from postal.iol.unh.edu (postal.iol.unh.edu.
 [2606:4100:3880:1234::84]) by smtp-relay.gmail.com with ESMTPS id
 t6-20020a056638204600b00484b79203c4sm191763jaj.28.2024.04.19.08.26.06
 (version=TLS1_2 cipher=ECDHE-ECDSA-AES128-GCM-SHA256 bits=128/128);
 Fri, 19 Apr 2024 08:26:06 -0700 (PDT)
X-Relaying-Domain: iol.unh.edu
Date: Fri, 19 Apr 2024 08:26:06 -0700 (PDT)
Message-ID: <66228d0e.050a0220.f4e82.a774SMTPIN_ADDED_MISSING@mx.google.com>
Received: from [172.21.0.6] (unknown [172.18.0.240])
 by postal.iol.unh.edu (Postfix) with ESMTP id 202C5604D420;
 Fri, 19 Apr 2024 11:26:06 -0400 (EDT)
Subject: |SUCCESS| pw139546 [PATCH] [v1] dts: remove the OS UDP test suite
From: dpdklab@iol.unh.edu
To: Test Report <test-report@dpdk.org>
Cc: dpdk-test-reports@iol.unh.edu
In-Reply-To: <20240419135216.106445-1-juraj.linkes@pantheon.tech>
References: <20240419135216.106445-1-juraj.linkes@pantheon.tech>
Content-Type: text/plain
X-BeenThere: test-report@dpdk.org
X-Mailman-Version: 2.1.29
Precedence: list
List-Id: automatic DPDK test reports <test-report.dpdk.org>
List-Unsubscribe: <https://mails.dpdk.org/options/test-report>,
 <mailto:test-report-request@dpdk.org?subject=unsubscribe>
List-Archive: <http://mails.dpdk.org/archives/test-report/>
List-Post: <mailto:test-report@dpdk.org>
List-Help: <mailto:test-report-request@dpdk.org?subject=help>
List-Subscribe: <https://mails.dpdk.org/listinfo/test-report>,
 <mailto:test-report-request@dpdk.org?subject=subscribe>
Errors-To: test-report-bounces@dpdk.org

Test-Label: iol-unit-amd64-testing
Test-Status: SUCCESS
http://dpdk.org/patch/139546

_Testing PASS_

Submitter: Juraj Linkes <juraj.linkes@pantheon.tech>
Date: Friday, April 19 2024 13:52:16 
DPDK git baseline: Repo:dpdk
  Branch: master
  CommitID:e2e546ab5bf5e024986ccb5310ab43982f3bb40c

139546 --> testing pass

Test environment and result as below:

+---------------------+----------------+
|     Environment     | dpdk_unit_test |
+=====================+================+
| Windows Server 2019 | PASS           |
+---------------------+----------------+
| CentOS Stream 8     | PASS           |
+---------------------+----------------+
| CentOS Stream 9     | PASS           |
+---------------------+----------------+
| Fedora 37           | PASS           |
+---------------------+----------------+
| Debian Bullseye     | PASS           |
+---------------------+----------------+
| Debian 12           | PASS           |
+---------------------+----------------+
| Fedora 38           | PASS           |
+---------------------+----------------+
| Fedora 39           | PASS           |
+---------------------+----------------+
| openSUSE Leap 15    | PASS           |
+---------------------+----------------+
| Ubuntu 22.04        | PASS           |
+---------------------+----------------+
| Windows Server 2022 | PASS           |
+---------------------+----------------+
| RHEL8               | PASS           |
+---------------------+----------------+


Windows Server 2019
	Kernel: 10.0.17763
	Compiler: clang 14.0 and gcc 8.1.0 (MinGW)

CentOS Stream 8
	Kernel: 5.4.0-167-generic
	Compiler: gcc 8.5.0 20210514

CentOS Stream 9
	Kernel: 5.4.0-167-generic
	Compiler: gcc 11.4.1 20230605

Fedora 37
	Kernel: Depends on container host system
	Compiler: gcc 12.3.1

Debian Bullseye
	Kernel: 5.4.0-167-generic
	Compiler: gcc 10.2.1-6

Debian 12
	Kernel: Container Host Kernel
	Compiler: gcc 10.2.1

Fedora 38
	Kernel: Depends on container host
	Compiler: gcc 13.2.1

Fedora 39
	Kernel: Depends on container host
	Compiler: gcc 13.2.1

openSUSE Leap 15
	Kernel: 5.4.0-167-generic
	Compiler: gcc 7.5.0

Ubuntu 22.04
	Kernel: 5.4.0-167-generic
	Compiler: gcc 11.4.0

Windows Server 2022
	Kernel: 10.0.20348.2031
	Compiler: clang 15.0.7, gcc 8.1.0 (MinGW), and MSVC VS 17.9

RHEL8
	Kernel: 5.4.0-167-generic
	Compiler: gcc 8.5.0 20210514 (Red Hat 8.5.0-20)

To view detailed results, visit:
https://lab.dpdk.org/results/dashboard/patchsets/29829/

UNH-IOL DPDK Community Lab

To manage your email subscriptions, visit: 
https://lab.dpdk.org/results/dashboard/preferences/subscriptions/