From mboxrd@z Thu Jan  1 00:00:00 1970
Return-Path: <test-report-bounces@dpdk.org>
Received: from mails.dpdk.org (mails.dpdk.org [217.70.189.124])
	by inbox.dpdk.org (Postfix) with ESMTP id BA17843EB2
	for <public@inbox.dpdk.org>; Fri, 19 Apr 2024 18:05:10 +0200 (CEST)
Received: from mails.dpdk.org (localhost [127.0.0.1])
	by mails.dpdk.org (Postfix) with ESMTP id A6EE840689;
	Fri, 19 Apr 2024 18:05:10 +0200 (CEST)
Received: from mail-io1-f99.google.com (mail-io1-f99.google.com
 [209.85.166.99]) by mails.dpdk.org (Postfix) with ESMTP id AD9B740685
 for <test-report@dpdk.org>; Fri, 19 Apr 2024 18:05:09 +0200 (CEST)
Received: by mail-io1-f99.google.com with SMTP id
 ca18e2360f4ac-7d86adab5a7so95326339f.3
 for <test-report@dpdk.org>; Fri, 19 Apr 2024 09:05:09 -0700 (PDT)
DKIM-Signature: v=1; a=rsa-sha256; c=relaxed/relaxed;
 d=iol.unh.edu; s=unh-iol; t=1713542709; x=1714147509; darn=dpdk.org;
 h=references:in-reply-to:cc:to:from:subject:message-id:date:from:to
 :cc:subject:date:message-id:reply-to;
 bh=MXLtqu59KuSS+MhbKddxhawKfc6MXUZiTqORdvrchow=;
 b=dznqV/H3t5TF7BlTk44zzFRgJEnij4t/VaO9NH6BrGBirTx9Rwo+TpyAeaeiabbs0z
 VPYsrxRjx/pRiZjalTSwc+xSuXj3vkKv3eEd8M5EbeuYBKbUSFLwU43YedHgN/B879Bj
 d97X6baSk/TLVFhHdDtC+3OXP5FECHB0GezpE=
X-Google-DKIM-Signature: v=1; a=rsa-sha256; c=relaxed/relaxed;
 d=1e100.net; s=20230601; t=1713542709; x=1714147509;
 h=references:in-reply-to:cc:to:from:subject:message-id:date
 :x-gm-message-state:from:to:cc:subject:date:message-id:reply-to;
 bh=MXLtqu59KuSS+MhbKddxhawKfc6MXUZiTqORdvrchow=;
 b=Z3U9R6kgcUdUeFKt0PnGtucKyBdz0klzeZeknkaG/Oy5uXf3HKaXMgxmzEqTTAnS9O
 ImN/1R+Zm0/alPBpUTXxN/dwV2cjecnR68rWZz5Hbyq2zF0JE/MMrzC4VlKvUNhtD4M5
 DMSK53isImDKKJAuVJ+I+Hwyc1twv/nBlf79iGC1hjDaBo4iX+CERijT1lWIvoViikhe
 g6Qbtj8brrvF0iTooT7GquyBF0jThy/5cx/L/oGuQNxn/DXSFIDYvsVtRPcMWTCFJlVg
 YF6DOKmguweys9khWoVW8F/fH4rH1iYghZkp3oVfloQnRMMQ0cubGXJx/RWBuYSZVnHy
 Kulw==
X-Gm-Message-State: AOJu0YyNc9QWQm1g1TjE71qJ6VqIeoFQIUN72DHDVf1r1qQj+vDklpKw
 kxn+ZFJCLCfWUfMoUemkDDts53/0nUcNRzJJxd6rXGkPRlG4tf7l10xNvyJZTY9uBGrG9/JWgWm
 asRzwokxxsbPHdMRNT5y5s5XSuxfTvyLWbiUOR5WrY+FNnJyQWIvfVjHV
X-Google-Smtp-Source: AGHT+IFw1UobOKhaa+eB1zlC9u7/Htpof1uhBD6mVn7rKefw9Mz969R2YkumjVwiW0kw+n/p3IcwiCX1AxVg
X-Received: by 2002:a92:cd89:0:b0:36a:1ca3:dfba with SMTP id
 r9-20020a92cd89000000b0036a1ca3dfbamr3418928ilb.25.1713542709010; 
 Fri, 19 Apr 2024 09:05:09 -0700 (PDT)
Received: from postal.iol.unh.edu (postal.iol.unh.edu.
 [2606:4100:3880:1234::84]) by smtp-relay.gmail.com with ESMTPS id
 y13-20020a056e02178d00b0036b30a21edesm202473ilu.22.2024.04.19.09.05.08
 (version=TLS1_2 cipher=ECDHE-ECDSA-AES128-GCM-SHA256 bits=128/128);
 Fri, 19 Apr 2024 09:05:08 -0700 (PDT)
X-Relaying-Domain: iol.unh.edu
Date: Fri, 19 Apr 2024 09:05:08 -0700 (PDT)
Message-ID: <66229634.050a0220.7e47f.a9c9SMTPIN_ADDED_MISSING@mx.google.com>
Received: from [172.21.0.6] (unknown [172.18.0.240])
 by postal.iol.unh.edu (Postfix) with ESMTP id 98F04604D420;
 Fri, 19 Apr 2024 12:05:08 -0400 (EDT)
Subject: |SUCCESS| pw139546 [PATCH] [v1] dts: remove the OS UDP test suite
From: dpdklab@iol.unh.edu
To: Test Report <test-report@dpdk.org>
Cc: dpdk-test-reports@iol.unh.edu
In-Reply-To: <20240419135216.106445-1-juraj.linkes@pantheon.tech>
References: <20240419135216.106445-1-juraj.linkes@pantheon.tech>
Content-Type: text/plain
X-BeenThere: test-report@dpdk.org
X-Mailman-Version: 2.1.29
Precedence: list
List-Id: automatic DPDK test reports <test-report.dpdk.org>
List-Unsubscribe: <https://mails.dpdk.org/options/test-report>,
 <mailto:test-report-request@dpdk.org?subject=unsubscribe>
List-Archive: <http://mails.dpdk.org/archives/test-report/>
List-Post: <mailto:test-report@dpdk.org>
List-Help: <mailto:test-report-request@dpdk.org?subject=help>
List-Subscribe: <https://mails.dpdk.org/listinfo/test-report>,
 <mailto:test-report-request@dpdk.org?subject=subscribe>
Errors-To: test-report-bounces@dpdk.org

Test-Label: iol-unit-amd64-testing
Test-Status: SUCCESS
http://dpdk.org/patch/139546

_Testing PASS_

Submitter: Juraj Linkes <juraj.linkes@pantheon.tech>
Date: Friday, April 19 2024 13:52:16 
DPDK git baseline: Repo:dpdk
  Branch: master
  CommitID:e2e546ab5bf5e024986ccb5310ab43982f3bb40c

139546 --> testing pass

Test environment and result as below:

+---------------------+----------------+
|     Environment     | dpdk_unit_test |
+=====================+================+
| Windows Server 2019 | PASS           |
+---------------------+----------------+
| CentOS Stream 8     | PASS           |
+---------------------+----------------+
| CentOS Stream 9     | PASS           |
+---------------------+----------------+
| Fedora 37           | PASS           |
+---------------------+----------------+
| Debian Bullseye     | PASS           |
+---------------------+----------------+
| Debian 12           | PASS           |
+---------------------+----------------+
| Fedora 38           | PASS           |
+---------------------+----------------+
| Fedora 39           | PASS           |
+---------------------+----------------+
| openSUSE Leap 15    | PASS           |
+---------------------+----------------+
| Ubuntu 22.04        | PASS           |
+---------------------+----------------+
| Windows Server 2022 | PASS           |
+---------------------+----------------+
| RHEL8               | PASS           |
+---------------------+----------------+
| Ubuntu 20.04        | PASS           |
+---------------------+----------------+


Windows Server 2019
	Kernel: 10.0.17763
	Compiler: clang 14.0 and gcc 8.1.0 (MinGW)

CentOS Stream 8
	Kernel: 5.4.0-167-generic
	Compiler: gcc 8.5.0 20210514

CentOS Stream 9
	Kernel: 5.4.0-167-generic
	Compiler: gcc 11.4.1 20230605

Fedora 37
	Kernel: Depends on container host system
	Compiler: gcc 12.3.1

Debian Bullseye
	Kernel: 5.4.0-167-generic
	Compiler: gcc 10.2.1-6

Debian 12
	Kernel: Container Host Kernel
	Compiler: gcc 10.2.1

Fedora 38
	Kernel: Depends on container host
	Compiler: gcc 13.2.1

Fedora 39
	Kernel: Depends on container host
	Compiler: gcc 13.2.1

openSUSE Leap 15
	Kernel: 5.4.0-167-generic
	Compiler: gcc 7.5.0

Ubuntu 22.04
	Kernel: 5.4.0-167-generic
	Compiler: gcc 11.4.0

Windows Server 2022
	Kernel: 10.0.20348.2031
	Compiler: clang 15.0.7, gcc 8.1.0 (MinGW), and MSVC VS 17.9

RHEL8
	Kernel: 5.4.0-167-generic
	Compiler: gcc 8.5.0 20210514 (Red Hat 8.5.0-20)

Ubuntu 20.04
	Kernel: 5.4.0-167-generic
	Compiler: gcc 9.4.0-1ubuntu1~20.04.1

To view detailed results, visit:
https://lab.dpdk.org/results/dashboard/patchsets/29829/

UNH-IOL DPDK Community Lab

To manage your email subscriptions, visit: 
https://lab.dpdk.org/results/dashboard/preferences/subscriptions/