From mboxrd@z Thu Jan  1 00:00:00 1970
Return-Path: <test-report-bounces@dpdk.org>
Received: from mails.dpdk.org (mails.dpdk.org [217.70.189.124])
	by inbox.dpdk.org (Postfix) with ESMTP id 6268343EB3
	for <public@inbox.dpdk.org>; Fri, 19 Apr 2024 18:10:35 +0200 (CEST)
Received: from mails.dpdk.org (localhost [127.0.0.1])
	by mails.dpdk.org (Postfix) with ESMTP id 54811406A2;
	Fri, 19 Apr 2024 18:10:35 +0200 (CEST)
Received: from mail-pl1-f228.google.com (mail-pl1-f228.google.com
 [209.85.214.228])
 by mails.dpdk.org (Postfix) with ESMTP id 2B8CA40689
 for <test-report@dpdk.org>; Fri, 19 Apr 2024 18:10:33 +0200 (CEST)
Received: by mail-pl1-f228.google.com with SMTP id
 d9443c01a7336-1e8bbcbc2b7so10925785ad.0
 for <test-report@dpdk.org>; Fri, 19 Apr 2024 09:10:33 -0700 (PDT)
DKIM-Signature: v=1; a=rsa-sha256; c=relaxed/relaxed;
 d=iol.unh.edu; s=unh-iol; t=1713543032; x=1714147832; darn=dpdk.org;
 h=references:in-reply-to:cc:to:from:subject:message-id:date:from:to
 :cc:subject:date:message-id:reply-to;
 bh=cmqW6jgw7UmiE5GvMktRpe7FxL/h1hlN5DmR/CH6d/E=;
 b=MRbHsmDQHVEGuNX6vJlBDCx5SY09qQmkglNMIYCO1zA8xCS3aYi5SdjRUFsl6RvwAZ
 wTUldSrj15Jgu8u005WkzDHbgpdM3Hy7sB4csv2o2Bhs5vQBBJObCVpkyZ0bSW8hIER1
 FZgLV9vAEC0R9Rz8idxepq3ItzsyvErgs4SRQ=
X-Google-DKIM-Signature: v=1; a=rsa-sha256; c=relaxed/relaxed;
 d=1e100.net; s=20230601; t=1713543032; x=1714147832;
 h=references:in-reply-to:cc:to:from:subject:message-id:date
 :x-gm-message-state:from:to:cc:subject:date:message-id:reply-to;
 bh=cmqW6jgw7UmiE5GvMktRpe7FxL/h1hlN5DmR/CH6d/E=;
 b=SSnjrllWrx6NwljiEPmEsffXTZzXXFCXGKMjUJkKX7WjSzLx20jYjaeUScO/N5I5UI
 +uipLk8E5YN+fyF2IRdC3CoNqVHgtDX990KNeBvzd3ppxS6negsgLkP9bzUCem2sp6hC
 cCFKi/Mvg4jvPQ9IXQWRjFYqQB+gBASzjnfMK0zFeLyRbp25zyn+xCTap7xU+tvw2ABt
 53Pa1I2k830ScKZki7/0ofgvYbnQVlms4uLFIp/WB+Tud4/zrrdh21DpuKwDlrm+BDqa
 Din8u9bsO1A8Y+FKiF6fjRrwh3ULPKFBMbTRnnGmtJ7Yp/GX0fKgkLePCiIQeo9pH/ix
 ylxA==
X-Gm-Message-State: AOJu0Yzr/ZB7iuhJN02urWNyFV7zwOvBvmRsxtx4ULhiyuQJJJ7QIX8R
 J2rRsnBhZ6OAk+ODa1ey3xA2C2xntrN+VeUIY9tC+PadBTVgHPvu5sqwplv5bEUtotnm18tynQm
 fj8TW8MgetUT2mh4+R1pGT0Az0UwZALQ4coz/FXwi
X-Google-Smtp-Source: AGHT+IH6PQNtpnuqOFlQXxT5EBuVKeOxetGth8kyKUUWgSm8a2V2ASLFCqB1H7CWOZvTh/WY0Qb8jPXe+4F8
X-Received: by 2002:a17:903:2344:b0:1e2:90c6:839a with SMTP id
 c4-20020a170903234400b001e290c6839amr3347540plh.31.1713543032452; 
 Fri, 19 Apr 2024 09:10:32 -0700 (PDT)
Received: from postal.iol.unh.edu (postal.iol.unh.edu. [132.177.123.84])
 by smtp-relay.gmail.com with ESMTPS id
 h15-20020a170902ac8f00b001e87e6fee67sm108810plr.126.2024.04.19.09.10.32
 (version=TLS1_2 cipher=ECDHE-ECDSA-AES128-GCM-SHA256 bits=128/128);
 Fri, 19 Apr 2024 09:10:32 -0700 (PDT)
X-Relaying-Domain: iol.unh.edu
Date: Fri, 19 Apr 2024 09:10:32 -0700 (PDT)
Message-ID: <66229778.170a0220.950df.66fdSMTPIN_ADDED_MISSING@mx.google.com>
Received: from [172.17.0.5] (unknown [172.18.0.217])
 by postal.iol.unh.edu (Postfix) with ESMTP id 89944604D420;
 Fri, 19 Apr 2024 12:10:31 -0400 (EDT)
Subject: |SUCCESS| pw139546 [PATCH] [v1] dts: remove the OS UDP test suite
From: dpdklab@iol.unh.edu
To: Test Report <test-report@dpdk.org>
Cc: dpdk-test-reports@iol.unh.edu
In-Reply-To: <20240419135216.106445-1-juraj.linkes@pantheon.tech>
References: <20240419135216.106445-1-juraj.linkes@pantheon.tech>
Content-Type: text/plain
X-BeenThere: test-report@dpdk.org
X-Mailman-Version: 2.1.29
Precedence: list
List-Id: automatic DPDK test reports <test-report.dpdk.org>
List-Unsubscribe: <https://mails.dpdk.org/options/test-report>,
 <mailto:test-report-request@dpdk.org?subject=unsubscribe>
List-Archive: <http://mails.dpdk.org/archives/test-report/>
List-Post: <mailto:test-report@dpdk.org>
List-Help: <mailto:test-report-request@dpdk.org?subject=help>
List-Subscribe: <https://mails.dpdk.org/listinfo/test-report>,
 <mailto:test-report-request@dpdk.org?subject=subscribe>
Errors-To: test-report-bounces@dpdk.org

Test-Label: iol-unit-arm64-testing
Test-Status: SUCCESS
http://dpdk.org/patch/139546

_Testing PASS_

Submitter: Juraj Linkes <juraj.linkes@pantheon.tech>
Date: Friday, April 19 2024 13:52:16 
DPDK git baseline: Repo:dpdk
  Branch: master
  CommitID:e2e546ab5bf5e024986ccb5310ab43982f3bb40c

139546 --> testing pass

Test environment and result as below:

+-----------------------------+------------------------------+---------------------------+----------------+--------------+
|         Environment         | cryptodev_sw_snow3g_autotest | cryptodev_sw_zuc_autotest | dpdk_unit_test | lpm_autotest |
+=============================+==============================+===========================+================+==============+
| Debian 12 (arm)             | PASS                         | PASS                      | PASS           | SKIPPED      |
+-----------------------------+------------------------------+---------------------------+----------------+--------------+
| CentOS Stream 9 (ARM)       | SKIPPED                      | SKIPPED                   | PASS           | SKIPPED      |
+-----------------------------+------------------------------+---------------------------+----------------+--------------+
| Debian 11 (Buster) (ARM)    | SKIPPED                      | SKIPPED                   | PASS           | SKIPPED      |
+-----------------------------+------------------------------+---------------------------+----------------+--------------+
| Fedora 37 (ARM)             | SKIPPED                      | SKIPPED                   | PASS           | SKIPPED      |
+-----------------------------+------------------------------+---------------------------+----------------+--------------+
| Fedora 39 (ARM)             | SKIPPED                      | SKIPPED                   | PASS           | SKIPPED      |
+-----------------------------+------------------------------+---------------------------+----------------+--------------+
| 32-bit Ubuntu 20.04.4 (ARM) | SKIPPED                      | SKIPPED                   | PASS           | SKIPPED      |
+-----------------------------+------------------------------+---------------------------+----------------+--------------+
| Ubuntu 20.04 (ARM)          | SKIPPED                      | SKIPPED                   | PASS           | SKIPPED      |
+-----------------------------+------------------------------+---------------------------+----------------+--------------+
| Fedora 38 (ARM)             | SKIPPED                      | SKIPPED                   | PASS           | SKIPPED      |
+-----------------------------+------------------------------+---------------------------+----------------+--------------+
| Fedora 38 (ARM Clang)       | SKIPPED                      | SKIPPED                   | PASS           | SKIPPED      |
+-----------------------------+------------------------------+---------------------------+----------------+--------------+
| Fedora 39 (ARM Clang)       | SKIPPED                      | SKIPPED                   | PASS           | SKIPPED      |
+-----------------------------+------------------------------+---------------------------+----------------+--------------+
| Ubuntu 20.04 ARM SVE        | SKIPPED                      | SKIPPED                   | SKIPPED        | PASS         |
+-----------------------------+------------------------------+---------------------------+----------------+--------------+


Debian 12 (arm)
	Kernel: Container Host Kernel
	Compiler: gcc 12.2.0

CentOS Stream 9 (ARM)
	Kernel: Container Host Kernel
	Compiler: gcc 11.4.1

Debian 11 (Buster) (ARM)
	Kernel: Container Host Kernel
	Compiler: gcc 10.2.1

Fedora 37 (ARM)
	Kernel: Depends on container host
	Compiler: gcc 12.3.1

Fedora 39 (ARM)
	Kernel: Depends on container host
	Compiler: gcc 13.2.1

32-bit Ubuntu 20.04.4 (ARM)
	Kernel: 5.4.0-155-generic aarch64
	Compiler: gcc 9.4

Ubuntu 20.04 (ARM)
	Kernel: Container Host Kernel
	Compiler: gcc 9.4.0

Fedora 38 (ARM)
	Kernel: Depends on container host
	Compiler: gcc 13.2.1

Fedora 38 (ARM Clang)
	Kernel: Depends on container host
	Compiler: clang 16.0.6

Fedora 39 (ARM Clang)
	Kernel: Depends on container host
	Compiler: clang 17.0.6

Ubuntu 20.04 ARM SVE
	Kernel: 5.4.0-167-generic
	Compiler: gcc (Ubuntu 10.5.0-1ubuntu1~20.04) 10.5.0

To view detailed results, visit:
https://lab.dpdk.org/results/dashboard/patchsets/29829/

UNH-IOL DPDK Community Lab

To manage your email subscriptions, visit: 
https://lab.dpdk.org/results/dashboard/preferences/subscriptions/