From mboxrd@z Thu Jan  1 00:00:00 1970
Return-Path: <test-report-bounces@dpdk.org>
Received: from mails.dpdk.org (mails.dpdk.org [217.70.189.124])
	by inbox.dpdk.org (Postfix) with ESMTP id 23AB043EB2
	for <public@inbox.dpdk.org>; Fri, 19 Apr 2024 18:45:51 +0200 (CEST)
Received: from mails.dpdk.org (localhost [127.0.0.1])
	by mails.dpdk.org (Postfix) with ESMTP id 1A63440A6D;
	Fri, 19 Apr 2024 18:45:51 +0200 (CEST)
Received: from mail-oa1-f97.google.com (mail-oa1-f97.google.com
 [209.85.160.97]) by mails.dpdk.org (Postfix) with ESMTP id 9FCEC402D9
 for <test-report@dpdk.org>; Fri, 19 Apr 2024 18:45:36 +0200 (CEST)
Received: by mail-oa1-f97.google.com with SMTP id
 586e51a60fabf-2343ae31a9bso829025fac.1
 for <test-report@dpdk.org>; Fri, 19 Apr 2024 09:45:36 -0700 (PDT)
DKIM-Signature: v=1; a=rsa-sha256; c=relaxed/relaxed;
 d=iol.unh.edu; s=unh-iol; t=1713545136; x=1714149936; darn=dpdk.org;
 h=references:in-reply-to:cc:to:from:subject:message-id:date:from:to
 :cc:subject:date:message-id:reply-to;
 bh=AHCL257K4jer+aNtrVXct5r7j8ydjvqdDif62fcNNzU=;
 b=d92V+OX4rHxTJjb5bGP/CvUZPp63Lb+2CXOX3D4fUdvwq1J4thxQGdBXcBJMEfJsNT
 TPVBiU0Qe1YIvDzNyoMLLHSal6bYVzr84eZsVTzQDIDzQ9ivK0LkXt99JC+/wkLguz/3
 nzppWKaJZ7czhdgtfkxVk35Gl9Y/QDUkUA2yY=
X-Google-DKIM-Signature: v=1; a=rsa-sha256; c=relaxed/relaxed;
 d=1e100.net; s=20230601; t=1713545136; x=1714149936;
 h=references:in-reply-to:cc:to:from:subject:message-id:date
 :x-gm-message-state:from:to:cc:subject:date:message-id:reply-to;
 bh=AHCL257K4jer+aNtrVXct5r7j8ydjvqdDif62fcNNzU=;
 b=O0K7cuAxp0CpWQ1OlWXBpuA8645mO8T6WFwWr0X5UhFSSGSUiP0eCc3mZITRqqheLT
 XZV6D56v6XXbJ4ai3Cn07/RQL//c4upE24Cc0eyQNkEyfBPjkzfxvhONggEnbAPcH8gG
 nyRabWRFxaAPasqqepjcApgBMcpoP5FY4UAv3JkpdVRuz9vvU8T4FJEP5rk9pA1TvPFq
 UtnAnSTytJAmKa46J6w+6PlEOqcPW0hTcnU963GyFgKC7w/iQJT8CpOxnF6fFMHTEYwH
 h4551yepM+h9vivTiRDUHqodEgvA/PuZxpSnf2y1INHrinFZGRewuMXhI/PJnTob94iZ
 vERA==
X-Gm-Message-State: AOJu0Yzn76JCJG6yQofE+b7n77IswVATy/VmpdGGaKUCcQvT/oUt8DgQ
 2CpkRpgvaWyZ8bds4oyNauZQlPoAqS3JkKmwTPRJe/LnG8rxtRAoklzK+v0b3XA1mQXQnlYI5Gt
 /kPFcjj4HWifG5IoelFPKULLXPMNI9rYtzaGB73AHCtNcLnrXQui/4DTg
X-Google-Smtp-Source: AGHT+IHFvC1Pou/6leQA4mQ0CBvdp9dx0Enic1ovq/+9CKLxC5GVhRYJTzJvuGrQgpHsQzEieZITbnfxxSlr
X-Received: by 2002:a05:6870:4203:b0:239:7f33:a4fc with SMTP id
 u3-20020a056870420300b002397f33a4fcmr1004419oac.49.1713545136053; 
 Fri, 19 Apr 2024 09:45:36 -0700 (PDT)
Received: from postal.iol.unh.edu (postal.iol.unh.edu.
 [2606:4100:3880:1234::84]) by smtp-relay.gmail.com with ESMTPS id
 m62-20020a632641000000b005dc87314070sm69298pgm.4.2024.04.19.09.45.35
 (version=TLS1_2 cipher=ECDHE-ECDSA-AES128-GCM-SHA256 bits=128/128);
 Fri, 19 Apr 2024 09:45:36 -0700 (PDT)
X-Relaying-Domain: iol.unh.edu
Date: Fri, 19 Apr 2024 09:45:36 -0700 (PDT)
Message-ID: <66229fb0.630a0220.9931b.3b8aSMTPIN_ADDED_MISSING@mx.google.com>
Received: from [172.21.0.7] (unknown [172.18.0.240])
 by postal.iol.unh.edu (Postfix) with ESMTP id 2DAB4604D420;
 Fri, 19 Apr 2024 12:45:35 -0400 (EDT)
Subject: |SUCCESS| pw139542-139543 [PATCH] [v3,2/2] net/ngbe: add vectorized 
From: dpdklab@iol.unh.edu
To: Test Report <test-report@dpdk.org>
Cc: dpdk-test-reports@iol.unh.edu
In-Reply-To: <20240419090426.26188-3-jiawenwu@trustnetic.com>
References: <20240419090426.26188-3-jiawenwu@trustnetic.com>
Content-Type: text/plain
X-BeenThere: test-report@dpdk.org
X-Mailman-Version: 2.1.29
Precedence: list
List-Id: automatic DPDK test reports <test-report.dpdk.org>
List-Unsubscribe: <https://mails.dpdk.org/options/test-report>,
 <mailto:test-report-request@dpdk.org?subject=unsubscribe>
List-Archive: <http://mails.dpdk.org/archives/test-report/>
List-Post: <mailto:test-report@dpdk.org>
List-Help: <mailto:test-report-request@dpdk.org?subject=help>
List-Subscribe: <https://mails.dpdk.org/listinfo/test-report>,
 <mailto:test-report-request@dpdk.org?subject=subscribe>
Errors-To: test-report-bounces@dpdk.org

Test-Label: iol-unit-amd64-testing
Test-Status: SUCCESS
http://dpdk.org/patch/139543

_Testing PASS_

Submitter: Jiawen Wu <jiawenwu@trustnetic.com>
Date: Friday, April 19 2024 09:04:26 
DPDK git baseline: Repo:dpdk
  Branch: master
  CommitID:87b897387dbe3bad556ad2931f224e75cec0f38f

139542-139543 --> testing pass

Test environment and result as below:

+-----------------+----------------+
|   Environment   | dpdk_unit_test |
+=================+================+
| CentOS Stream 8 | PASS           |
+-----------------+----------------+
| Debian 12       | PASS           |
+-----------------+----------------+
| Debian Bullseye | PASS           |
+-----------------+----------------+
| CentOS Stream 9 | PASS           |
+-----------------+----------------+
| Fedora 38       | PASS           |
+-----------------+----------------+
| Fedora 37       | PASS           |
+-----------------+----------------+


CentOS Stream 8
	Kernel: 5.4.0-167-generic
	Compiler: gcc 8.5.0 20210514

Debian 12
	Kernel: Container Host Kernel
	Compiler: gcc 10.2.1

Debian Bullseye
	Kernel: 5.4.0-167-generic
	Compiler: gcc 10.2.1-6

CentOS Stream 9
	Kernel: 5.4.0-167-generic
	Compiler: gcc 11.4.1 20230605

Fedora 38
	Kernel: Depends on container host
	Compiler: gcc 13.2.1

Fedora 37
	Kernel: Depends on container host system
	Compiler: gcc 12.3.1

To view detailed results, visit:
https://lab.dpdk.org/results/dashboard/patchsets/29827/

UNH-IOL DPDK Community Lab

To manage your email subscriptions, visit: 
https://lab.dpdk.org/results/dashboard/preferences/subscriptions/